Workbook

Sheet POLRES (2)
A1: KEPOLISIAN NEGARA REPUBLIK INDONESIA
A2: DAERAH SULAWESI BARAT
A3: RESOR POLEWALI MANDAR
A4: JL. Dr. Ratulangi No. 17 Polewali 91314
A6: RINCIAN ANGGARAN POLRES POLMAN TAHUN 2020
A9: No | B9: Tahapan Pelaksanaan dan Rincian Komponen Biaya | N9: Volume | O9: Satuan | P9: Biaya | Q9: Jumlah | R9: SD/CP
O10: Ukur | P10: Satuan Ukur
A11: 1 | B11: 2 | N11: 3 | O11: 5 | P11: 6 | Q11: 7
A12: 060.01.01 | B12: Program Dukungan Manajemen dan Pelaksanaan Tugas Teknis Lainnya Polri | Q12: =Q13+Q29+Q114 -> 35842809000
A13: 3070 | B13: Penerangan Masyarakat | Q13: =Q14 -> 79312000
A14: 3070.001 | B14: Layanan Penerangan Masyarakat | N14: 12 | O14: BLN | Q14: =Q15 -> 79312000
A15: 003 | B15: Dukungan Operasional Pertahanan dan Keamanan | Q15: =Q16 -> 79312000
A16: AJ | B16: PENYELENGGARAAN HUMAS, PROTOKOL DAN PEMBERITAAN | Q16: =Q17 -> 79312000
A17: 521119 | B17: Belanja Barang Operasional Lainnya | Q17: =Q18+Q23 -> 79312000 | R17: RM
B18: > Press Release | Q18: =Q19+Q20+Q21+Q22 -> 66144000
C19: - Penggandaaan Materi Siaran Pers atau Pers Release (40 LMBR x 35 EXPL x 4 GIAT x 12 BLN) | N19: 67200 | O19: EXPL | P19: 250 | Q19: =N19*P19 -> 16800000
C20: - Makan | D20: ( | E20: 15 | F20: ORG | G20: x | H20: 4 | I20: GIAT | J20: x | K20: 12 | L20: BLN | M20: ) | N20: =E20*H20*K20 -> 720 | O20: ORG | P20: 47000 | Q20: =N20*P20 -> 33840000
C21: - Snack | D21: ( | E21: 15 | F21: ORG | G21: x | H21: 4 | I21: GIAT | J21: x | K21: 12 | L21: BLN | M21: ) | N21: =E21*H21*K21 -> 720 | O21: ORG | P21: 20000 | Q21: =N21*P21 -> 14400000
C22: - Dukmin | N22: 4 | O22: GIAT | P22: 276000 | Q22: =N22*P22 -> 1104000
B23: > Press Release | Q23: =Q24+Q25+Q26+Q27 -> 13168000
C24: - Penggandaaan Materi Siaran Pers atau Pers Release (15 LMBR x 14 EXPL x 2 GIAT x 12 BLN) | N24: 5040 | O24: EXPL | P24: 250 | Q24: =N24*P24 -> 1260000
C25: - Makan | D25: ( | E25: 7 | F25: ORG | G25: x | H25: 2 | I25: GIAT | J25: x | K25: 12 | L25: BLN | M25: ) | N25: =E25*H25*K25 -> 168 | O25: ORG | P25: 47000 | Q25: =N25*P25 -> 7896000
C26: - Snack | D26: ( | E26: 7 | F26: ORG | G26: x | H26: 2 | I26: GIAT | J26: x | K26: 12 | L26: BLN | M26: ) | N26: =E26*H26*K26 -> 168 | O26: ORG | P26: 20000 | Q26: =N26*P26 -> 3360000
C27: - Dukmin | N27: 2 | O27: GIAT | P27: 326000 | Q27: =N27*P27 -> 652000
A29: 3073 | B29: Dukungan Pelayanan Internal perkantoran Polri | Q29: =Q53+Q30 -> 35753697000
A30: 3073.001 | B30: Layanan Dukungan Manajemen Internal Perkantoran | N30: 12 | O30: BLN | Q30: =Q31 -> 108600000
A31: 003 | B31: Dukungan Operasional Pertahanan dan Keamanan | Q31: =Q47+Q32+Q39+Q43 -> 108600000
A32: S | B32: MENYELENGGARAKAN HUMAS | Q32: =Q33 -> 6400000
A33: 521119 | B33: Belanja barang operasional lainnya | Q33: =Q34+Q36 -> 6400000 | R33: RM
C34: > GIAT HUMAS | N34: 1 | O34: THN | P34: 4000000 | Q34: =P34 -> 4000000
C35: -Giat Humas
C36: > SARANA KONTAK | N36: 12 | O36: BLN | P36: 200000 | Q36: =N36*P36 -> 2400000
C37: -Sarana Kontak
A39: AF | B39: PERENCANAAN PROGRAM DAN ANGGARAN | Q39: =Q40 -> 78000000
A40: 521119 | B40: Belanja perjalanan biasa | Q40: =Q41 -> 78000000 | R40: RM
B41: > | C41: Giat Bag Ren Satker | N41: 1 | O41: THN | P41: 78000000 | Q41: =N41*P41 -> 78000000
A43: DY | B43: KEGIATAN PEMBINAAN | Q43: =Q45 -> 17000000
A44: 521119 | B44: Belanja barang operasional lainnya | Q44: =Q45 -> 17000000 | R44: RM
C45: - GIAT MINPERS | N45: 1 | O45: THN | P45: 17000000 | Q45: =P45 -> 17000000
A47: JZ | B47: HONORARIUM SAI/SAKPA/SIMAK/SMAP/PENGELOLA KEUANGAN | Q47: =Q48 -> 7200000
...

Sheet OPS
A1: KEPOLISIAN NEGARA REPUBLIK INDONESIA
A2: DAERAH SULAWESI BARAT
A3: RESORT POLEWALI MANDAR
A4: JL. Dr. Ratulangi No. 17 Polewali 91314
A6: RENCANA PENDISTRIBUSIAN ANGGARAN (RENDISGAR) TAHUN 2020
A7: BAG OPS
A9: No | B9: Tahapan Pelaksanaan dan Rincian Komponen Biaya | N9: Volume | O9: Satuan | P9: Biaya | Q9: Jumlah | R9: SD/CP
O10: Ukur | P10: Satuan Ukur
A11: 1 | B11: 2 | N11: 3 | O11: 5 | P11: 6 | Q11: 7
A12: 060.01.01 | B12: Program Dukungan Manajemen dan Pelaksanaan Tugas Teknis Lainnya Polri | Q12: =Q13 -> 13770000
A13: 3073 | B13: Dukungan Pelayanan Internal perkantoran Polri | Q13: =Q14 -> 13770000
A14: 3073.994 | B14: Layanan Perkantoran | N14: 12 | O14: BLN | Q14: =Q15 -> 13770000
A15: 002 | B15: Operasional Dan Pemeliharaan Kantor | Q15: =Q16 -> 13770000
A16: BX | B16: PENGADAAN PERALATAN / PERLENGKAPAN KANTOR POLRES | Q16: =Q17 -> 13770000
A17: 521811 | B17: Belanja Keperluan Perkantoran | Q17: =Q18 -> 13770000 | R17: RM
B18: >> | C18: Bekal Kantor | N18: =SUM(N19:N19) -> 9 | O18: OT | P18: 1530000 | Q18: =N18*P18 -> 13770000
C19: - BAG OPS | N19: 9 | O19: OT | P19: 1530000 | Q19: =N19*P19 -> 13770000
A21: 060.01.10 | B21: PROGRAM PEMELIHARAAN KEAMANAN DAN KETERTIBAN MASYARAKAT | Q21: =Q22+Q82+Q106 -> 686889000
A22: 3128 | B22: Dukungan Manajemen dan Teknis Pemeliharaan Keamanan dan Ketertiban Masyarakat | Q22: =Q23 -> 322554000
A23: 3128.001 | B23: Layanan Dukungan Manajemen Dan Teknis Harkamtibmas (Base Line) | N23: 12 | O23: BLN | Q23: =Q327+Q24 -> 322554000
A24: 003 | B24: Dukungan Operasional Pertahanan dan Keamanan | Q24: =Q44+Q25 -> 322554000
A25: FT | B25: DUKOPSNAL POLRES | Q25: =Q26 -> 126022000
A26: 521119 | B26: Belanja Barang Operasional Lainnya | Q26: =Q27 -> 126022000 | R26: RM
B27: > | C27: DUKUNGAN OPERASIONAL | Q27: =Q28+Q32+Q38 -> 126022000
C28: >> Supervisi Ke Polsek ( Bag Ops ) | Q28: =Q29+Q30 -> 10100000
C29: -Uang harian | D29: [ | E29: 10 | F29: Org | G29: x | H29: 3 | I29: Hr | J29: x | K29: 2 | L29: Giat | M29: ] | N29: =K29*H29*E29 -> 60 | O29: OH | P29: 160000 | Q29: =N29*P29 -> 9600000
C30: -Dukmin | D30: [ | F30: 2 | G30: Giat | L30: ] | N30: 2 | O30: GIAT | P30: 250000 | Q30: =N30*P30 -> 500000
C32: >> Operasi Ketupat ( Duk Ops ) | Q32: =SUM(Q33:Q36) -> 66752000
C33: -Uang Saku | F33: [ | G33: 32 | H33: Org | I33: x | J33: 14 | K33: Hr | L33: ] | N33: =G33*J33 -> 448 | O33: OH | P33: 40000 | Q33: =N33*P33 -> 17920000
C34: -Dana Satuan | F34: [ | G34: =G33 -> 32 | H34: Org | I34: x | J34: 14 | K34: Hr | L34: ] | N34: =G34*J34 -> 448 | O34: OH | P34: 19000 | Q34: =N34*P34 -> 8512000
C35: -Makan Operasi | F35: [ | G35: =G34 -> 32 | H35: Org | I35: x | J35: 14 | K35: Hr | L35: ] | N35: =G35*J35 -> 448 | O35: OH | P35: 82000 | Q35: =N35*P35 -> 36736000
C36: -Bekal Kesehatan | F36: [ | G36: =G35 -> 32 | H36: Org | I36: x | J36: 14 | K36: Hr | L36: ] | N36: =G36*J36 -> 448 | O36: OH | P36: 8000 | Q36: =N36*P36 -> 3584000
C38: >> Operasi Lilin ( Duk Ops ) | Q38: =SUM(Q39:Q42) -> 49170000
C39: -Uang Saku | F39: [ | G39: 30 | H39: Org | I39: x | J39: 11 | K39: Hr | L39: ] | N39: =G39*J39 -> 330 | O39: OH | P39: 40000 | Q39: =N39*P39 -> 13200000
C40: -Dana Satuan | F40: [ | G40: =G39 -> 30 | H40: Org | I40: x | J40: 11 | K40: Hr | L40: ] | N40: =G40*J40 -> 330 | O40: OH | P40: 19000 | Q40: =N40*P40 -> 6270000
C41: -Makan Operasi | F41: [ | G41: =G40 -> 30 | H41: Org | I41: x | J41: 11 | K41: Hr | L41: ] | N41: =G41*J41 -> 330 | O41: OH | P41: 82000 | Q41: =N41*P41 -> 27060000
C42: -Bekal Kesehatan | F42: [ | G42: =G41 -> 30 | H42: Org | I42: x | J42: 11 | K42: Hr | L42: ] | N42: =G42*J42 -> 330 | O42: OH | P42: 8000 | Q42: =N42*P42 -> 2640000
A44: FV | B44: MENYELENGGARAKAN OPRASI KEWILAYAHAN | Q44: =Q46+Q58+Q70 -> 196532000 | R44: RM
A45: 521119 | B45: Belanja Barang Operasional Lainnya | Q45: =Q46 -> 83520000
B46: > | C46: OPERASI ANTIK | Q46: =Q47+Q52 -> 83520000
...

Sheet SUMDA
A1: KEPOLISIAN NEGARA REPUBLIK INDONESIA
A2: DAERAH SULAWESI BARAT
A3: RESORT POLEWALI MANDAR
A4: JL. Dr. Ratulangi No. 17 Polewali 91314
A6: RENCANA PENDISTRIBUSIAN ANGGARAN (RENDISGAR) TAHUN 2020
A7: BAG SUMDA
A10: No | B10: Tahapan Pelaksanaan dan Rincian Komponen Biaya | N10: Volume | O10: Satuan | P10: Biaya | Q10: Jumlah | R10: SD/CP
O11: Ukur | P11: Satuan Ukur
A12: 1 | B12: 2 | N12: 3 | O12: 5 | P12: 6 | Q12: 7
A13: 060.01.01 | B13: Program Dukungan Manajemen dan Pelaksanaan Tugas Teknis Lainnya Polri | Q13: =Q14 -> 32300000
A14: 3073 | B14: Dukungan Pelayanan Internal perkantoran Polri | Q14: =Q15+Q21 -> 32300000
A15: 3073.001 | B15: Layanan Dukungan Manajemen Internal Perkantoran | N15: 12 | O15: BLN | Q15: =Q16 -> 17000000
A16: 003 | B16: Dukungan Operasional Pertahanan dan Keamanan | Q16: =Q17 -> 17000000
A17: DY | B17: KEGIATAN PEMBINAAN | Q17: =Q19 -> 17000000
A18: 521119 | B18: Belanja barang operasional lainnya | Q18: =Q19 -> 17000000 | R18: RM
C19: - GIAT MINPERS | N19: 1 | O19: THN | P19: 17000000 | Q19: =P19 -> 17000000
A21: 3073.994 | B21: Layanan Perkantoran | N21: 12 | O21: BLN | Q21: =Q22 -> 15300000
A22: 002 | B22: Operasional Dan Pemeliharaan Kantor | Q22: =Q23 -> 15300000
A23: BX | B23: PENGADAAN PERALATAN / PERLENGKAPAN KANTOR POLRES | Q23: =Q24 -> 15300000
A24: 521811 | B24: Belanja Keperluan Perkantoran | Q24: =Q25 -> 15300000 | R24: RM
B25: >> | C25: Bekal Kantor | Q25: =Q26 -> 15300000
C26: - BAG SUMDA | N26: 10 | O26: OT | P26: 1530000 | Q26: =N26*P26 -> 15300000
A28: 060.01.10 | B28: PROGRAM PEMELIHARAAN KEAMANAN DAN KETERTIBAN MASYARAKAT | Q28: =Q29+Q90+Q114 -> 138800000
A29: 3128 | B29: Dukungan Manajemen dan Teknis Pemeliharaan Keamanan dan Ketertiban Masyarakat | Q29: =Q30 -> 138800000
A30: 3128.001 | B30: Layanan Dukungan Manajemen Dan Teknis Harkamtibmas (Base Line) | N30: 12 | O30: BLN | Q30: =Q335+Q31 -> 138800000
A31: 003 | B31: Dukungan Operasional Pertahanan dan Keamanan | Q31: =Q32 -> 138800000
A32: FT | B32: DUKOPSNAL POLRES | Q32: =Q33 -> 138800000
A33: 521119 | B33: Belanja Barang Operasional Lainnya | Q33: =Q34 -> 138800000 | R33: RM
B34: > | C34: DUKUNGAN OPERASIONAL | Q34: =Q35+Q39+Q44+Q49 -> 138800000
C35: >> Supervisi Ke Polsek ( Bag Sumda ) | Q35: =Q36+Q37 -> 19700000
C36: -Uang harian | D36: [ | E36: 10 | F36: Org | G36: x | H36: 4 | I36: Hr | J36: x | K36: 3 | L36: Giat | M36: ] | N36: =K36*H36*E36 -> 120 | O36: OH | P36: 160000 | Q36: =N36*P36 -> 19200000
C37: -Dukmin | D37: [ | F37: 3 | G37: Giat | L37: ] | N37: 2 | O37: GIAT | P37: 250000 | Q37: =N37*P37 -> 500000
C39: >> Pelatihan VCD Fungsi | Q39: =SUM(Q40:Q42) -> 44400000
C40: - Extra Fooding Latfung | D40: ( | E40: 60 | F40: ORG | G40: x | H40: 6 | I40: Giat | J40: x | K40: 4 | L40: Hari | M40: ) | N40: =E40*H40*K40 -> 1440 | O40: OH | P40: 15000 | Q40: =N40*P40 -> 21600000
C41: - Honor Latfung | D41: ( | E41: 8 | F41: JP | G41: x | H41: 6 | I41: GIAT | J41: x | K41: 4 | L41: KLS | M41: ) | N41: =E41*H41*K41 -> 192 | O41: OJ | P41: 100000 | Q41: =N41*P41 -> 19200000
C42: - Dukmin Latfung | E42: 6 | F42: Giat | N42: =E42 -> 6 | O42: Giat | P42: 600000 | Q42: =N42*P42 -> 3600000
C44: >> Biaya Sosialisasi | Q44: =SUM(Q45:Q47) -> 19500000
C45: - Makan | D45: 100 | E45: Org | F45: x | G45: 1 | H45: Hari | I45: x | J45: 3 | K45: Giat | N45: =D45*G45*J45 -> 300 | O45: OG | P45: 45000 | Q45: =N45*P45 -> 13500000
C46: - Snack | D46: 100 | E46: Org | F46: x | G46: 1 | H46: Hari | I46: x | J46: 3 | K46: Giat | N46: =D46*G46*J46 -> 300 | O46: OG | P46: 15000 | Q46: =N46*P46 -> 4500000
C47: - Dukmin | H47: 3 | I47: Giat | N47: =H47 -> 3 | P47: 500000 | Q47: =N47*P47 -> 1500000
...

Sheet REN
A1: KEPOLISIAN NEGARA REPUBLIK INDONESIA
A2: DAERAH SULAWESI BARAT
A3: RESORT POLEWALI MANDAR
A4: JL. Dr. Ratulangi No. 17 Polewali 91314
A6: RENCANA PENDISTRIBUSIAN ANGGARAN (RENDISGAR) TAHUN 2020
A7: BAG REN
A9: No | B9: Tahapan Pelaksanaan dan Rincian Komponen Biaya | N9: Volume | O9: Satuan | P9: Biaya | Q9: Jumlah | R9: SD/CP
O10: Ukur | P10: Satuan Ukur
A11: 1 | B11: 2 | N11: 3 | O11: 5 | P11: 6 | Q11: 7
A12: 060.01.01 | B12: Program Dukungan Manajemen dan Pelaksanaan Tugas Teknis Lainnya Polri | Q12: =Q13+Q31 -> 112820000
A13: 3073 | B13: Dukungan Pelayanan Internal perkantoran Polri | Q13: =Q14+Q24 -> 103020000
A14: 3073.001 | B14: Layanan Dukungan Manajemen Internal Perkantoran | N14: 12 | O14: BLN | Q14: =Q15 -> 81600000
A15: 003 | B15: Dukungan Operasional Pertahanan dan Keamanan | Q15: =Q16+Q20 -> 81600000
A16: AF | B16: PERENCANAAN PROGRAM DAN ANGGARAN | Q16: =Q17 -> 78000000
A17: 521119 | B17: Belanja perjalanan biasa | Q17: =Q18 -> 78000000 | R17: RM
B18: > | C18: Giat Bag Ren Satker | N18: 1 | O18: THN | P18: 78000000 | Q18: =N18*P18 -> 78000000
A20: JZ | B20: HONORARIUM SAI/SAKPA/SIMAK/SMAP/PENGELOLA KEUANGAN | Q20: =Q21 -> 3600000
A21: 521115 | B21: Belanja Honor Operasional Satuan Kerja | Q21: =Q22 -> 3600000 | R21: RM
B22: > | C22: Honor Operator Smap | D22: [ | E22: 1 | F22: org | G22: x | H22: 12 | I22: bln | J22: ] | N22: =E22*H22 -> 12 | O22: OB | P22: 300000 | Q22: =N22*P22 -> 3600000
A24: 3073.994 | B24: Layanan Perkantoran | N24: 12 | O24: BLN | Q24: =Q25 -> 21420000
A25: 002 | B25: Operasional Dan Pemeliharaan Kantor | Q25: =Q26 -> 21420000
A26: BX | B26: PENGADAAN PERALATAN / PERLENGKAPAN KANTOR POLRES | Q26: =Q27 -> 21420000
A27: 521811 | B27: Belanja Keperluan Perkantoran | Q27: =Q28 -> 21420000 | R27: RM
B28: >> | C28: Bekal Kantor | Q28: =Q29 -> 21420000
C29: - BAG REN | N29: 14 | O29: OT | P29: 1530000 | Q29: =N29*P29 -> 21420000
A31: 5051 | B31: Penyusunan Kebijakan Polri | Q31: =Q32 -> 9800000
A32: 5051.001 | B32: Penyusunan Naskah Kebijakan Polri | Q32: =Q33 -> 9800000
A33: 003 | B33: Dukungan Operasional Pertahanan dan Keamanan | Q33: =Q34 -> 9800000
A34: E | B34: PENYUSUNAN PROGRAM, ANGGARAN DAN RENCANA KERJA | Q34: =Q35 -> 9800000
A35: 521211 | B35: Belanja barang operasional lainnya | Q35: =Q36+Q40+Q44 -> 9800000 | R35: RM
B36: > | C36: Biaya Rapat Pokja dan Susun Ran Renja T.A. 2021 | Q36: =Q37+Q38+Q39 -> 3500000
C37: - Makan | D37: [ | E37: 10 | F37: Org | G37: x | H37: 5 | I37: Hr | J37: ] | N37: =E37*H37 -> 50 | O37: OH | P37: 46000 | Q37: =N37*P37 -> 2300000
C38: - Snack | D38: [ | E38: 10 | F38: Org | G38: x | H38: 5 | I38: Hr | J38: ] | N38: =E38*H38 -> 50 | O38: OH | P38: 16000 | Q38: =N38*P38 -> 800000
C39: - ATK / Dokumentasi | N39: 1 | O39: GIAT | P39: 400000 | Q39: =N39*P39 -> 400000
B40: > | C40: Biaya Rapat Pokja dan Susun Renja T.A. 2021 | Q40: =Q41+Q42+Q43 -> 3500000
C41: - Makan | D41: [ | E41: 10 | F41: Org | G41: x | H41: 5 | I41: Hr | J41: ] | N41: =E41*H41 -> 50 | O41: OH | P41: 46000 | Q41: =N41*P41 -> 2300000
C42: - Snack | D42: [ | E42: 10 | F42: Org | G42: x | H42: 5 | I42: Hr | J42: ] | N42: =E42*H42 -> 50 | O42: OH | P42: 16000 | Q42: =N42*P42 -> 800000
C43: - ATK / Dokumentasi | N43: 1 | O43: GIAT | P43: 400000 | Q43: =N43*P43 -> 400000
B44: > | C44: Biaya Rapat Pokja dan Susun Rengiat T.A. 2021 | Q44: =Q45+Q46+Q47 -> 2800000
C45: - Makan | D45: [ | E45: 8 | F45: Org | G45: x | H45: 5 | I45: Hr | J45: ] | N45: =E45*H45 -> 40 | O45: OH | P45: 46000 | Q45: =N45*P45 -> 1840000
...

Sheet BINMAS
A1: KEPOLISIAN NEGARA REPUBLIK INDONESIA
A2: DAERAH SULAWESI BARAT
A3: RESORT POLEWALI MANDAR
A4: JL. Dr. Ratulangi No. 17 Polewali 91314
A6: RENCANA PENDISTRIBUSIAN ANGGARAN (RENDISGAR) TAHUN 2020
A7: SAT BINMAS
A10: No | B10: Tahapan Pelaksanaan dan Rincian Komponen Biaya | N10: Volume | O10: Satuan | P10: Biaya | Q10: Jumlah | R10: SD/CP
O11: Ukur | P11: Satuan Ukur
A12: 1 | B12: 2 | N12: 3 | O12: 5 | P12: 6 | Q12: 7
A13: 060.01.01 | B13: Program Dukungan Manajemen dan Pelaksanaan Tugas Teknis Lainnya Polri | Q13: =Q14 -> 7650000
A14: 3073 | B14: Dukungan Pelayanan Internal perkantoran Polri | Q14: =Q15 -> 7650000
A15: 3073.994 | B15: Layanan Perkantoran | N15: 12 | O15: BLN | Q15: =Q16 -> 7650000
A16: 002 | B16: Operasional Dan Pemeliharaan Kantor | Q16: =Q17 -> 7650000
A17: BX | B17: PENGADAAN PERALATAN / PERLENGKAPAN KANTOR POLRES | Q17: =Q18 -> 7650000
A18: 521811 | B18: Belanja Keperluan Perkantoran | Q18: =Q19 -> 7650000 | R18: RM
B19: >> | C19: Bekal Kantor | N19: =SUM(N20:N20) -> 5 | O19: OT | P19: 1530000 | Q19: =N19*P19 -> 7650000
C20: - SAT BINMAS | N20: 5 | O20: OT | P20: 1530000 | Q20: =N20*P20 -> 7650000
A22: 060.01.09 | B22: PROGRAM PEMBERDAYAAN POTENSI KEAMANAN | Q22: =Q23 -> 1829995000
A23: 5076 | B23: Pembinaan Potensi Keamanan | Q23: =Q24 -> 1829995000
A24: 5076.002 | B24: Pemberdayaan Potensi Keamanan | N24: 12 | O24: BLN | Q24: =Q25 -> 1829995000
A25: 003 | B25: Dukungan Operasional Pertahanan dan Keamanan | Q25: =Q26+Q47+Q54+Q59+Q77+Q87+Q94 -> 1829995000
A26: FM | B26: PERTEMUAN KEMITRAAN POLISI DAN MASYARAKAT (POLRES) | Q26: =Q27 -> 108512000
A27: 521119 | B27: Belanja Barang Operasional Lainnya | Q27: =Q28+Q34+Q40 -> 108512000 | R27: RM
B28: > | C28: BIMBINGAN DAN PENYULUHAN MASYARAKAT | Q28: =Q29 -> 30356000
B29: >> | C29: POLRES | Q29: =SUM(Q30:Q33) -> 30356000
C30: - Uang Saku | D30: ( | E30: 6 | F30: Org | G30: x | H30: 47 | I30: giat | J30: ) | N30: =E30*H30 -> 282 | O30: OG | P30: 22000 | Q30: =N30*P30 -> 6204000
C31: - Uang Makan | D31: ( | E31: 6 | F31: Org | G31: x | H31: 47 | I31: giat | J31: ) | N31: =E31*H31 -> 282 | O31: OG | P31: 31000 | Q31: =N31*P31 -> 8742000
C32: - Dana Satuan | D32: ( | E32: 6 | F32: Org | G32: x | H32: 47 | I32: giat | J32: ) | N32: =E32*H32 -> 282 | O32: OG | P32: 5000 | Q32: =N32*P32 -> 1410000
C33: - Sarana Kontak | N33: 1 | O33: THN | P33: 14000000 | Q33: =N33*P33 -> 14000000
B34: > | C34: BIMBINGAN DAN PENYULUHAN NARKOBA | Q34: =Q35 -> 15896000
B35: >> | C35: POLRES | Q35: =SUM(Q36:Q39) -> 15896000
C36: - Uang Saku | D36: ( | E36: 6 | F36: Org | G36: x | H36: 27 | I36: giat | J36: ) | N36: =E36*H36 -> 162 | O36: OG | P36: 22000 | Q36: =N36*P36 -> 3564000
C37: - Dana Makan | D37: ( | E37: 6 | F37: Org | G37: x | H37: 27 | I37: giat | J37: ) | N37: =E37*H37 -> 162 | O37: OG | P37: 31000 | Q37: =N37*P37 -> 5022000
C38: - Dana Satuan | D38: ( | E38: 6 | F38: Org | G38: x | H38: 27 | I38: giat | J38: ) | N38: =E38*H38 -> 162 | O38: OG | P38: 5000 | Q38: =N38*P38 -> 810000
C39: - Sarana Kontak | N39: 1 | O39: THN | P39: 6500000 | Q39: =N39*P39 -> 6500000
B40: > | C40: BIMBINGAN DAN PENYULUHAN OLEH SANTRI POLRI | Q40: =Q41 -> 62260000
B41: >> | C41: POLRES | Q41: =SUM(Q42:Q45) -> 62260000
C42: - Uang Saku | D42: ( | E42: 10 | F42: Org | G42: x | H42: 57 | I42: giat | J42: ) | N42: =E42*H42 -> 570 | O42: OG | P42: 22000 | Q42: =N42*P42 -> 12540000
C43: - Dana Makan | D43: ( | E43: 10 | F43: Org | G43: x | H43: 57 | I43: giat | J43: ) | N43: =E43*H43 -> 570 | O43: OG | P43: 31000 | Q43: =N43*P43 -> 17670000
C44: - Dana Satuan | D44: ( | E44: 10 | F44: Org | G44: x | H44: 57 | I44: giat | J44: ) | N44: =E44*H44 -> 570 | O44: OG | P44: 5000 | Q44: =N44*P44 -> 2850000
...

Sheet IK
A1: KEPOLISIAN NEGARA REPUBLIK INDONESIA
A2: DAERAH SULAWESI BARAT
A3: RESORT POLEWALI MANDAR
A4: JL. Dr. Ratulangi No. 17 Polewali 91314
A6: RENCANA PENDISTRIBUSIAN ANGGARAN (RENDISGAR) TAHUN 2020
A7: SAT INTEL
A9: No | B9: Tahapan Pelaksanaan dan Rincian Komponen Biaya | N9: Volume | O9: Satuan | P9: Biaya | Q9: Jumlah | R9: SD/CP
O10: Ukur | P10: Satuan Ukur
A11: 1 | B11: 2 | N11: 3 | O11: 5 | P11: 6 | Q11: 7
A12: 060.01.01 | B12: Program Dukungan Manajemen dan Pelaksanaan Tugas Teknis Lainnya Polri | Q12: =Q13 -> 7650000
A13: 3073 | B13: Dukungan Pelayanan Internal perkantoran Polri | Q13: =Q14 -> 7650000
A14: 3073.994 | B14: Layanan Perkantoran | N14: 12 | O14: BLN | Q14: =Q15 -> 7650000
A15: 002 | B15: Operasional Dan Pemeliharaan Kantor | Q15: =Q16 -> 7650000
A16: BX | B16: PENGADAAN PERALATAN / PERLENGKAPAN KANTOR POLRES | Q16: =Q17 -> 7650000
A17: 521811 | B17: Belanja Keperluan Perkantoran | Q17: =Q18 -> 7650000 | R17: RM
B18: >> | C18: Bekal Kantor | N18: =SUM(N19:N19) -> 5 | O18: OT | P18: 1530000 | Q18: =N18*P18 -> 7650000
C19: - SAT INTELKAM | N19: 5 | O19: OT | P19: 1530000 | Q19: =N19*P19 -> 7650000
A21: 060.01.07 | B21: PROGRAM PENGEMBANGAN STRATEGI KEAMANAN DAN KETERTIBAN | Q21: =Q22+Q49+Q62+Q93+Q124+Q155 -> 1579579000
A22: 3111 | B22: Dukungan Manajemen dan Teknis Strategi Keamanan dan Ketertiban | Q22: =Q23 -> 72760000
A23: 3111.001 | B23: Layanan Dukungan Manejemen dan Teknis Strategi Keamanan dan Ketertiban | N23: 12 | O23: BLN | Q23: =Q24 -> 72760000
A24: 003 | B24: Dukungan Operasional Pertahanan dan Keamanan | Q24: =Q25+Q32+Q36+Q40+Q45 -> 72760000
A25: B | B25: HONOR PNBP | Q25: =Q27+Q29 -> 8400000
A26: 521115 | B26: Belanja Honor Operasional satuan kerja | Q26: =Q27+Q29 -> 8400000 | R26: PNBP
B27: > | C27: HONOR PEMBANTU BENDAHARA PENERIMAAN | Q27: =Q28 -> 4200000
C28: - HONOR PBK SKCK POLRES | G28: [ | H28: 1 | I28: Org | J28: x | K28: 12 | L28: Bln | M28: ] | N28: =H28*K28 -> 12 | O28: OB | P28: 350000 | Q28: =P28*N28 -> 4200000
B29: > | C29: HONOR PELAKSANA SKCK | Q29: =SUM(Q30:Q30) -> 4200000
C30: - POLRES | G30: [ | H30: 1 | I30: Org | J30: x | K30: 12 | L30: Bln | M30: ] | N30: =H30*K30 -> 12 | O30: OB | P30: 350000 | Q30: =P30*N30 -> 4200000
A32: BM | B32: OPRASIONAL DAN PEMELIHARAAN JAR. SISTEM INFORMASI | Q32: =Q33 -> 3600000
A33: 523133 | B33: Belanja Pemeliharaan Jaringan | Q33: =Q34 -> 3600000 | R33: PNBP
C34: - HAR JARINGAN SKCK ONLINE | N34: 1 | O34: THN | P34: 3600000 | Q34: =N34*P34 -> 3600000
A36: BX | B36: PENGADAAN PERALATAN / PERLENGKAPAN KANTOR (POLRES) | Q36: =Q37 -> 15000000
A37: 521811 | B37: Belanja Keperluan Perkantoran | Q37: =Q38 -> 15000000 | R37: PNBP
C38: - ATK SKCK Sat Intel | N38: 1 | O38: THN | P38: 15000000 | Q38: =N38*P38 -> 15000000
A40: FS | B40: DUKUNGAN OPERASIONAL SATKER | Q40: =Q41 -> 2400000
A41: 521119 | B41: Belanja Barang Operasional Lainnya | Q41: =Q43 -> 2400000 | R41: PNBP
B42: > | C42: Dukungan Pulsa Personal Digital Assistant (PDA)
C43: - Polres | D43: ( | E43: 2 | F43: UNIT | G43: x | H43: 12 | I43: BLN | J43: ) | N43: =E43*H43 -> 24 | O43: UNIT | P43: 100000 | Q43: =N43*P43 -> 2400000
A45: KQ | B45: DETEKSI / DETEKSI AKSI ( POLRES ) | Q45: =Q46 -> 43360000
A46: 521119 | B46: Belanja Barang Opeasional Lainnya | Q46: =Q47 -> 43360000 | R46: RM
B47: > | C47: GIAT DETEKSI INTELEJEN | N47: 1 | O47: THN | P47: 43360000 | Q47: =N47*P47 -> 43360000
...

Sheet RESKRIM
A1: KEPOLISIAN NEGARA REPUBLIK INDONESIA
A2: DAERAH SULAWESI BARAT
A3: RESORT POLEWALI MANDAR
A4: JL. Dr. Ratulangi No. 17 Polewali 91314
A6: RENCANA PENDISTRIBUSIAN ANGGARAN (RENDISGAR) TAHUN 2020
A7: SAT RESKRIM
A9: No | B9: Tahapan Pelaksanaan dan Rincian Komponen Biaya | N9: Volume | O9: Satuan | P9: Biaya | Q9: Jumlah | R9: SD/CP
O10: Ukur | P10: Satuan Ukur
A11: 1 | B11: 2 | N11: 3 | O11: 5 | P11: 6 | Q11: 7
A12: 060.01.01 | B12: Program Dukungan Manajemen dan Pelaksanaan Tugas Teknis Lainnya Polri | Q12: =Q13 -> 7650000
A13: 3073 | B13: Dukungan Pelayanan Internal perkantoran Polri | Q13: =Q14 -> 7650000
A14: 3073.994 | B14: Layanan Perkantoran | N14: 12 | O14: BLN | Q14: =Q15 -> 7650000
A15: 002 | B15: Operasional Dan Pemeliharaan Kantor | Q15: =Q16 -> 7650000
A16: BX | B16: PENGADAAN PERALATAN / PERLENGKAPAN KANTOR POLRES | Q16: =Q17 -> 7650000
A17: 521811 | B17: Belanja Keperluan Perkantoran | Q17: =Q18 -> 7650000 | R17: RM
B18: >> | C18: Bekal Kantor | N18: =SUM(N19:N19) -> 5 | O18: OT | P18: 1530000 | Q18: =N18*P18 -> 7650000
C19: - SAT RESKRIM | N19: 5 | O19: OT | P19: 1530000 | Q19: =N19*P19 -> 7650000
A21: 060.01.11 | B21: PROGRAM PENYELIDIKAN DAN PENYIDIKAN TINDAK PIDANA | Q21: =Q22+Q32+Q62 -> 1688281000
A22: 3140 | B22: Penyelenggaraan Identifikasi Penyelidikan dan Penyidikan Tindak Pidana | Q22: =Q23 -> 23515000
A23: 3140.001 | B23: Hasil Pemeriksaan Identifikasi | N23: 12 | O23: BLN | Q23: =Q24 -> 23515000
A24: 003 | B24: Dukungan Operasional Pertahanan dan Keamanan | Q24: =Q25 -> 23515000
A25: HF | B25: PENYELENGGARAAN IDENTIFIKASI PENYELIDIKAN DAN PENYIDIKAN | Q25: =Q27 -> 23515000
B26: TINDAK PIDANA
A27: 521119 | B27: Belanja barang operasional lainnya | Q27: =Q28 -> 23515000 | R27: RM
B28: > | C28: BANTEK IDENTIFIKASI | Q28: =Q30+Q29 -> 23515000
C29: - BANTEK IDENTIFIKASI DALAM LIDIK SIDIK TINDAK PIDANA | N29: 13 | O29: GIAT | P29: 1699000 | Q29: =N29*P29 -> 22087000
C30: - BANTEK IDENTIFIKASI DALAM LIDIK SIDIK TINDAK PIDANA | N30: 1 | O30: GIAT | P30: 1428000 | Q30: =N30*P30 -> 1428000
A32: 3142 | B32: Penindakan Tindak Pidana Umum | Q32: =Q34+Q117 -> 1271695000
A33: 3142.001 | B33: Penanganan Tidak Pidana Umum | Q33: =Q34 -> 1271695000
A34: 003 | B34: Dukungan Operasional Pertahanan dan Keamanan | Q34: =Q35+Q47+Q51+Q57 -> 1271695000
A35: HL | B35: TINDAK PIDANA UMUM POLRES | Q35: =Q36 -> 1246485000
A36: 521119 | B36: Belanja barang operasional lainnya | Q36: =Q37+Q43 -> 1246485000 | R36: RM
B37: > | C37: POLRES | Q37: =SUM(Q38:Q42) -> 1205845000
C38: - KEGIATAN SANGAT SULIT | N38: 5 | O38: KSS | P38: 31507000 | Q38: =P38*N38 -> 157535000
C39: - KEGIATAN SULIT | N39: 10 | O39: KSS | P39: 26911000 | Q39: =P39*N39 -> 269110000
C40: - KEGIATAN SEDANG | N40: 24 | O40: KSS | P40: 12710000 | Q40: =P40*N40 -> 305040000
C41: - KEGIATAN MUDAH | N41: 41 | O41: KSS | P41: 7610000 | Q41: =P41*N41 -> 312010000
C42: - TAMBAHAN KEGIATAN SULIT | N42: 6 | O42: KSS | P42: 27025000 | Q42: =P42*N42 -> 162150000
B43: > | C43: ANGGARAN MENDESAK | Q43: =Q44+Q45 -> 40640000
C44: - KEGIATAN SEDANG | N44: 2 | O44: KSS | P44: 12710000 | Q44: =P44*N44 -> 25420000
...

Sheet LANTAS
A1: KEPOLISIAN NEGARA REPUBLIK INDONESIA
A2: DAERAH SULAWESI BARAT
A3: RESORT POLEWALI MANDAR
A4: JL. Dr. Ratulangi No. 17 Polewali 91314
A6: 9RENCANA PENDISTRIBUSIAN ANGGARAN (RENDISGAR) TAHUN 2020
A7: SAT LANTAS
A9: No | B9: Tahapan Pelaksanaan dan Rincian Komponen Biaya | N9: Volume | O9: Satuan | P9: Biaya | Q9: Jumlah | R9: SD/CP
O10: Ukur | P10: Satuan Ukur
A11: 1 | B11: 2 | N11: 3 | O11: 5 | P11: 6 | Q11: 7
A12: 060.01.01 | B12: Program Dukungan Manajemen dan Pelaksanaan Tugas Teknis Lainnya Polri | Q12: =Q13 -> 9180000
A13: 3073 | B13: Dukungan Pelayanan Internal perkantoran Polri | Q13: =Q14 -> 9180000
A14: 3073.994 | B14: Layanan Perkantoran | N14: 12 | O14: BLN | Q14: =Q15 -> 9180000
A15: 002 | B15: Operasional Dan Pemeliharaan Kantor | Q15: =Q16 -> 9180000
A16: BX | B16: PENGADAAN PERALATAN / PERLENGKAPAN KANTOR POLRES | Q16: =Q17 -> 9180000
A17: 521811 | B17: Belanja Keperluan Perkantoran | Q17: =Q18 -> 9180000 | R17: RM
B18: >> | C18: Bekal Kantor | N18: =SUM(N19:N19) -> 6 | O18: OT | P18: 1530000 | Q18: =N18*P18 -> 9180000
C19: - SAT LANTAS | N19: 6 | O19: OT | P19: 1530000 | Q19: =N19*P19 -> 9180000
A21: 060.01.10 | B21: PROGRAM PEMELIHARAAN KEAMANAN DAN KETERTIBAN MASYARAKAT | Q21: =Q22 -> 745519000
A22: 3133 | B22: Peningkatan Pelayanan Keamanan dan Keselamatan Masyarakat di Bidang Lantas | Q22: =Q23 -> 745519000
A23: 3133.994 | B23: PELAKSANAAN HARKAMTIBMAS | N23: 12 | O23: LAPORAN | Q23: =Q24 -> 745519000
A24: 003 | B24: Dukungan Operasional Pertahanan dan Keamanan | Q24: =Q25+Q41+Q49+Q62+Q68 -> 745519000
A25: B | B25: HONOR PNBP | Q25: =Q26 -> 149120000
A26: 521115 | B26: Honor operasional satuan kerja | Q26: =Q27+Q29+Q31+Q36+Q38 -> 149120000 | R26: PNBP
B27: > | C27: Honor Petugas Pelaksana SIM | Q27: =Q28 -> 21600000
B28: - | C28: Level II | F28: [ | G28: 6 | H28: Org | I28: x | J28: 12 | K28: Bln | L28: ] | N28: =G28*J28 -> 72 | O28: OB | P28: 300000 | Q28: =N28*P28 -> 21600000
B29: > | C29: Honor Petugas Pelaksana Samsat : | Q29: =Q30 -> 25200000
B30: - | C30: Samsat Type B1 | F30: [ | G30: 6 | H30: Org | I30: x | J30: 12 | K30: Bln | L30: ] | N30: =G30*J30 -> 72 | O30: OB | P30: 350000 | Q30: =N30*P30 -> 25200000
B31: > | C31: Honor Pembantu Bendahara Penerimaan | Q31: =SUM(Q32:Q35) -> 16320000
B32: - | C32: Honor PBP SIM | F32: [ | G32: 1 | H32: Org | I32: x | J32: 12 | K32: Bln | L32: ] | N32: =G32*J32 -> 12 | O32: OB | P32: 370000 | Q32: =N32*P32 -> 4440000
B33: - | C33: Honor PBP TNKB | F33: [ | G33: 1 | H33: Org | I33: x | J33: 12 | K33: Bln | L33: ] | N33: =G33*J33 -> 12 | O33: OB | P33: 250000 | Q33: =N33*P33 -> 3000000
B34: - | C34: Honor PBP BPKB | F34: [ | G34: 1 | H34: Org | I34: x | J34: 12 | K34: Bln | L34: ] | N34: =G34*J34 -> 12 | O34: OB | P34: 370000 | Q34: =N34*P34 -> 4440000
B35: - | C35: Honor PBP STNK /STCK | F35: [ | G35: 1 | H35: Org | I35: x | J35: 12 | K35: Bln | L35: ] | N35: =G35*J35 -> 12 | O35: OB | P35: 370000 | Q35: =N35*P35 -> 4440000
B36: > | C36: Honor Bendahara Penerimaan | Q36: =Q37 -> 6000000
B37: - | C37: Bendahara Penerimaan | F37: [ | G37: 1 | H37: Org | I37: x | J37: 12 | K37: Bln | L37: ] | N37: =G37*J37 -> 12 | O37: OB | P37: 500000 | Q37: =N37*P37 -> 6000000
B38: > | C38: Honor Tilang | Q38: =Q39 -> 80000000
B39: - | C39: Honor Petugas Tilang | N39: 4000 | O39: SET | P39: 20000 | Q39: =N39*P39 -> 80000000
A41: DD | B41: PENGAWASAN DAN PEMBINAAN | Q41: =Q44+Q47 -> 8400000
A42: 521115 | B42: Honor Operasional Satuan Kerja | Q42: =Q44 -> 7200000 | R42: PNBP
B43: - | C43: Honor Operator Data Laka Lantas Online TA. 2018
C44: - Honor Operator | F44: ( | G44: 2 | H44: Org | I44: x | J44: 12 | K44: bln | L44: ) | N44: =G44*J44 -> 24 | O44: OB | P44: 300000 | Q44: =N44*P44 -> 7200000
...

Sheet SABHARA
A1: KEPOLISIAN NEGARA REPUBLIK INDONESIA
A2: DAERAH SULAWESI BARAT
A3: RESORT POLEWALI MANDAR
A4: JL. Dr. Ratulangi No. 17 Polewali 91314
A6: RENCANA PENDISTRIBUSIAN ANGGARAN (RENDISGAR) TAHUN 2020
A7: SAT SABHARA
A9: No | B9: Tahapan Pelaksanaan dan Rincian Komponen Biaya | N9: Volume | O9: Satuan | P9: Biaya | Q9: Jumlah | R9: SD/CP
O10: Ukur | P10: Satuan Ukur
A11: 1 | B11: 2 | N11: 3 | O11: 5 | P11: 6 | Q11: 7
A12: 060.01.10 | B12: PROGRAM PEMELIHARAAN KEAMANAN DAN KETERTIBAN MASYARAKAT | Q12: =Q13+Q35 -> 400299000
A13: 3130 | B13: Pembinaan Pelayanan Fungsi Sabhara | Q13: =Q14 -> 316785000
A14: 3130.003 | B14: Layanan Pembinaan Fungsi Sabhara | N14: 12 | O14: BLN | Q14: =Q15 -> 316785000
A15: 003 | B15: Dukungan Operasional Pertahanan dan Keamanan | Q15: =Q16+Q26 -> 316785000
A16: IE | B16: MENYELENGGARAKAN PENGATURAN, PENGAWALAN DAN PATROLI | Q16: =Q18 -> 250257000
B17: POLRES ( PNBP )
A18: 521119 | B18: Belanja Barang Operasional Lainnya | Q18: =Q19 -> 250257000 | R18: PNBP
B19: >> | C19: TURWALI RUTIN : | Q19: =SUM(Q21:Q24) -> 250257000
C20: >POLRES : | Q20: =Q19 -> 250257000
C21: - Uang Saku | F21: [ | G21: 12 | H21: Org | I21: x | J21: 312 | K21: Giat | L21: ] | N21: =G21*J21 -> 3744 | O21: OK | P21: 22000 | Q21: =P21*N21 -> 82368000
C22: - Uang Makan | F22: [ | G22: 12 | H22: Org | I22: x | J22: 312 | K22: Giat | L22: ] | N22: =G22*J22 -> 3744 | O22: OK | P22: 39000 | Q22: =N22*P22 -> 146016000
C23: - Dana Satuan | F23: [ | G23: 12 | H23: Org | I23: x | J23: 312 | K23: Giat | L23: ] | N23: =G23*J23 -> 3744 | O23: OK | P23: 5000 | Q23: =P23*N23 -> 18720000
C24: - Dukmin | N24: 1 | O24: THN | P24: 3153000 | Q24: =P24*N24 -> 3153000
A26: UK | B26: KEGIATAN I PROGRAM QUICK WINS | Q26: =Q27 -> 66528000 | R26: RM
A27: 521119 | B27: Belanja Barang Operasional Lainnya | Q27: =Q28 -> 66528000
B28: > | C28: PENERTIBAN DAN PENEGAKAN HUKUM BAGI ORGANISASI RADIKAL | Q28: =Q30+Q49+Q53+Q57+Q61+Q65+Q69+Q73+Q77+Q81 -> 66528000
C29: DAN ANTI PANCASILA
C30: >> POLRES | Q30: =SUM(Q31:Q33) -> 66528000
C31: - Uang Saku | F31: [ | G31: 7 | H31: Org | I31: x | J31: 144 | K31: Giat | L31: ] | N31: =G31*J31 -> 1008 | O31: OG | P31: 22000 | Q31: =P31*N31 -> 22176000
C32: - Uang Makan | F32: [ | G32: 7 | H32: Org | I32: x | J32: 144 | K32: Giat | L32: ] | N32: =G32*J32 -> 1008 | O32: OG | P32: 39000 | Q32: =N32*P32 -> 39312000
C33: - Dana Satuan | F33: [ | G33: 7 | H33: Org | I33: x | J33: 144 | K33: Giat | L33: ] | N33: =G33*J33 -> 1008 | O33: OG | P33: 5000 | Q33: =P33*N33 -> 5040000
A35: 5081 | B35: Pelacakan dan Penangkalan Keamanan dan Ketertiban | Q35: =Q36 -> 83514000
A36: 5081.001 | B36: Layanan dukungan Manajemen Pelacakan dan Penangkalan [Base Line] | N36: 12 | O36: BLN | Q36: =Q37+Q43 -> 83514000
A37: 003 | B37: Dukungan Operasional Pertahanan dan Keamanan | Q37: =Q38 -> 54750000
A38: GQ | B38: PELAYANAN KESEHATAN DAN MAKAN SATWA | Q38: =Q39 -> 54750000
A39: 521112 | B39: Belanja Barang Operasional Lainnya | Q39: =Q40+Q41 -> 54750000 | R39: RM
C40: - ULP SATWA | D40: ( | E40: 2 | F40: EKOR | G40: x | H40: 365 | I40: Hr | J40: ) | N40: 730 | O40: EH | P40: 50000 | Q40: =P40*N40 -> 36500000
C41: - OBAT-OBATAN DAN SANITASI SATWA | D41: ( | E41: 2 | F41: EKOR | G41: x | H41: 365 | I41: Hr | J41: ) | N41: 730 | O41: EH | P41: 25000 | Q41: =P41*N41 -> 18250000
A43: GR | B43: PENINGKATAN KUALITAS PELAYANAN PUBLIK | Q43: =Q44 -> 28764000
A44: 521119 | B44: Belanja Barang Operasional Lainnya | Q44: =Q46+Q47+Q48 -> 28764000 | R44: RM
B45: > | C45: PATROLI DENGAN SATWA ANJING
...

Sheet POLAIR
A1: KEPOLISIAN NEGARA REPUBLIK INDONESIA
A2: DAERAH SULAWESI BARAT
A3: RESORT POLEWALI MANDAR
A4: JL. Dr. Ratulangi No. 17 Polewali 91314
A6: RENCANA PENDISTRIBUSIAN ANGGARAN (RENDISGAR) TAHUN 2020
A7: SAT POLAIR
A9: No | B9: Tahapan Pelaksanaan dan Rincian Komponen Biaya | N9: Volume | O9: Satuan | P9: Biaya | Q9: Jumlah | R9: SD/CP
O10: Ukur | P10: Satuan Ukur
A11: 1 | B11: 2 | N11: 3 | O11: 5 | P11: 6 | Q11: 7
A12: 060.01.01 | B12: Program Dukungan Manajemen dan Pelaksanaan Tugas Teknis Lainnya Polri | Q12: =Q13 -> 7650000
A13: 3073 | B13: Dukungan Pelayanan Internal perkantoran Polri | Q13: =Q14 -> 7650000
A14: 3073.994 | B14: Layanan Perkantoran | N14: 12 | O14: BLN | Q14: =Q15 -> 7650000
A15: 002 | B15: Operasional Dan Pemeliharaan Kantor | Q15: =Q16 -> 7650000
A16: BX | B16: PENGADAAN PERALATAN / PERLENGKAPAN KANTOR POLRES | Q16: =Q17 -> 7650000
A17: 521811 | B17: Belanja Keperluan Perkantoran | Q17: =Q18 -> 7650000 | R17: RM
B18: >> | C18: Bekal Kantor | N18: =SUM(N19:N19) -> 5 | O18: OT | P18: 1530000 | Q18: =N18*P18 -> 7650000
C19: - SAT POLAIR | N19: 5 | O19: OT | P19: 1530000 | Q19: =N19*P19 -> 7650000
A21: 060.01.10 | B21: PROGRAM PEMELIHARAAN KEAMANAN DAN KETERTIBAN MASYARAKAT | Q21: =Q22+Q35 -> 286888000
A22: 3130 | B22: Pembinaan Pelayanan Fungsi Sabhara | Q22: =Q23 -> 106000000
A23: 3130.003 | B23: Layanan Pembinaan Fungsi Sabhara | N23: 12 | O23: BLN | Q23: =Q24 -> 106000000
A24: 003 | B24: Dukungan Operasional Pertahanan dan Keamanan | Q24: =Q25 -> 106000000
A25: IE | B25: MENYELENGGARAKAN PENGATURAN, PENGAWALAN DAN PATROLI | Q25: =Q27 -> 106000000
B26: POLRES ( PNBP )
A27: 521119 | B27: Belanja Barang Operasional Lainnya | Q27: =Q28 -> 106000000 | R27: PNBP
B28: >> | C28: PATROLI PERAIRAN | Q28: =SUM(Q30:Q33) -> 106000000
C29: >POLRES : | Q29: =Q28 -> 106000000
C30: - Komandan | F30: [ | G30: 1 | H30: Org | I30: x | J30: 212 | K30: Hr | L30: ] | N30: =G30*J30 -> 212 | O30: OH | P30: 150000 | Q30: =N30*P30 -> 31800000
C31: - PA Neutika | F31: [ | G31: 1 | H31: Org | I31: x | J31: 212 | K31: Hr | L31: ] | N31: =G31*J31 -> 212 | O31: OH | P31: 100000 | Q31: =N31*P31 -> 21200000
C32: - PA Tehnik | F32: [ | G32: 1 | H32: Org | I32: x | J32: 212 | K32: Hr | L32: ] | N32: =G32*J32 -> 212 | O32: OH | P32: 100000 | Q32: =N32*P32 -> 21200000
C33: - Anggota Kapal | F33: [ | G33: 2 | H33: Org | I33: x | J33: 212 | K33: Hr | L33: ] | N33: =G33*J33 -> 424 | O33: OH | P33: 75000 | Q33: =N33*P33 -> 31800000
A35: 3134 | B35: Penyelenggaraan Kepolisian Perairan | Q35: =Q36 -> 180888000
A36: 3134.001 | B36: Layanan Dukungan Manajemen Kepolisian Perairan | N36: 12 | O36: BLN | Q36: =Q37 -> 180888000
A37: 003 | B37: Dukungan Operasional Pertahanan dan Keamanan | Q37: =Q38 -> 180888000
A38: UK | B38: KEGIATAN I PROGRAM QUICK WINS | Q38: =Q39 -> 180888000
A39: 521119 | B39: Belanja Barang Operasional Lainnya | Q39: =Q40+Q51 -> 180888000 | R39: RM
B40: > | C40: PENERTIBAN DAN PENEGAKAN HUKUM BAGI ORGANISASI RADIKAL DAN | Q40: =Q42+Q46 -> 171888000
C41: ANTI PANCASILA
C42: >> PESERTA | Q42: =SUM(Q43:Q45) -> 19584000
C43: - MAKAN | D43: ( | E43: 20 | F43: org | G43: x | H43: 1 | I43: HR | J43: x | K43: 12 | L43: giat | M43: ) | N43: =E43*H43*K43 -> 240 | O43: OG | P43: 47000 | Q43: =N43*P43 -> 11280000
C44: - SNACK | D44: ( | E44: 20 | F44: org | G44: x | H44: 1 | I44: HR | J44: x | K44: 12 | L44: giat | M44: ) | N44: =E44*H44*K44 -> 240 | O44: OG | P44: 20000 | Q44: =N44*P44 -> 4800000
...

Sheet NARKOBA
A1: KEPOLISIAN NEGARA REPUBLIK INDONESIA
A2: DAERAH SULAWESI BARAT
A3: RESORT POLEWALI MANDAR
A4: JL. Dr. Ratulangi No. 17 Polewali 91314
A6: RENCANA PENDISTRIBUSIAN ANGGARAN (RENDISGAR) TAHUN 2020
A7: SAT NARKOBA
A9: No | B9: Tahapan Pelaksanaan dan Rincian Komponen Biaya | N9: Volume | O9: Satuan | P9: Biaya | Q9: Jumlah | R9: SD/CP
O10: Ukur | P10: Satuan Ukur
A11: 1 | B11: 2 | N11: 3 | O11: 5 | P11: 6 | Q11: 7
A12: 060.01.01 | B12: Program Dukungan Manajemen dan Pelaksanaan Tugas Teknis Lainnya Polri | Q12: =Q13 -> 9180000
A13: 3073 | B13: Dukungan Pelayanan Internal perkantoran Polri | Q13: =Q14 -> 9180000
A14: 3073.994 | B14: Layanan Perkantoran | N14: 12 | O14: BLN | Q14: =Q15 -> 9180000
A15: 002 | B15: Operasional Dan Pemeliharaan Kantor | Q15: =Q16 -> 9180000
A16: BX | B16: PENGADAAN PERALATAN / PERLENGKAPAN KANTOR POLRES | Q16: =Q17 -> 9180000
A17: 521811 | B17: Belanja Keperluan Perkantoran | Q17: =Q18 -> 9180000 | R17: RM
B18: >> | C18: Bekal Kantor | N18: =SUM(N19:N19) -> 6 | O18: OT | P18: 1530000 | Q18: =N18*P18 -> 9180000
C19: - SAT NARKOBA | N19: 6 | O19: OT | P19: 1530000 | Q19: =N19*P19 -> 9180000
A21: 060.01.11 | B21: PROGRAM PENYELIDIKAN DAN PENYIDIKAN TINDAK PIDANA | Q21: =Q22 -> 774882000
A22: 3144 | B22: Penindakan Tindak Pidana Narkoba | Q22: =Q23 -> 774882000
A23: 3144.001 | B23: Penanganan Tindak Pidana Narkoba [Base Line] | Q23: =Q24 -> 774882000
A24: 003 | B24: Dukungan Operasional Pertahanan dan Keamanan | Q24: =Q25 -> 774882000
A25: HN | B25: TINDAK PIDANA NARKOBA | Q25: =SUM(Q26) -> 774882000
A26: 521119 | B26: Belanja barang operasional lainnya | Q26: =Q27+Q31 -> 774882000 | R26: RM
B27: > | C27: PENANGANAN KASUS NARKOBA | Q27: =SUM(Q28:Q30) -> 524986000
B28: - | C28: PENYELIDIKAN | N28: 2 | O28: KSS | P28: 26005000 | Q28: =N28*P28 -> 52010000
B29: - | C29: PENYIDIKAN | N29: 13 | O29: KSS | P29: 15697000 | Q29: =N29*P29 -> 204061000
B30: - | C30: TINDAK PIDANA NARKOBA | N30: 2 | O30: KSS | P30: 134457500 | Q30: =N30*P30 -> 268915000
B31: > | C31: ANGGARAN MENDESAK | Q31: =SUM(Q32:Q34) -> 249896000
B32: - | C32: PENYELIDIKAN | N32: 2 | O32: KSS | P32: 26005000 | Q32: =N32*P32 -> 52010000
B33: - | C33: PENYIDIKAN | N33: 2 | O33: KSS | P33: 15697000 | Q33: =N33*P33 -> 31394000
B34: - | C34: PENGEMBANGAN | N34: 2 | O34: KSS | P34: 83246000 | Q34: =N34*P34 -> 166492000
B36: JUMLAH | Q36: =Q21+Q12 -> 784062000

Sheet TAHTI
A1: KEPOLISIAN NEGARA REPUBLIK INDONESIA
A2: DAERAH SULAWESI BARAT
A3: RESORT POLEWALI MANDAR
A4: JL. Dr. Ratulangi No. 17 Polewali 91314
A7: RENCANA PENDISTRIBUSIAN ANGGARAN (RENDISGAR) TAHUN 2020
A8: SAT TAHTI
A10: No | B10: Tahapan Pelaksanaan dan Rincian Komponen Biaya | N10: Volume | O10: Satuan | P10: Biaya | Q10: Jumlah | R10: SD/CP
O11: Ukur | P11: Satuan Ukur
A12: 1 | B12: 2 | N12: 3 | O12: 5 | P12: 6 | Q12: 7
A13: 060.01.01 | B13: Program Dukungan Manajemen dan Pelaksanaan Tugas Teknis Lainnya Polri | Q13: =Q14 -> 6120000
A14: 3073 | B14: Dukungan Pelayanan Internal perkantoran Polri | Q14: =Q15 -> 6120000
A15: 3073.994 | B15: Layanan Perkantoran | N15: 12 | O15: BLN | Q15: =Q16 -> 6120000
A16: 002 | B16: Operasional Dan Pemeliharaan Kantor | Q16: =Q17 -> 6120000
A17: BX | B17: PENGADAAN PERALATAN / PERLENGKAPAN KANTOR POLRES | Q17: =Q18 -> 6120000
A18: 521811 | B18: Belanja Keperluan Perkantoran | Q18: =Q19 -> 6120000 | R18: RM
B19: >> | C19: Bekal Kantor | N19: =SUM(N20:N20) -> 4 | O19: OT | P19: 1530000 | Q19: =N19*P19 -> 6120000
C20: - SAT TAHTI | N20: 4 | O20: OT | P20: 1530000 | Q20: =N20*P20 -> 6120000 | T20: 169830000
A22: 060.01.10 | B22: PROGRAM PEMELIHARAAN KEAMANAN DAN KETERTIBAN MASYARAKAT | Q22: =Q23 -> 87840000
A23: 3128 | B23: Dukungan Manajemen dan Teknis Pemeliharaan Keamanan dan Ketertiban Masyarakat | Q23: =Q24 -> 87840000
A24: 3128.001 | B24: Layanan Dukungan Manajemen Dan Teknis Harkamtibmas (Base Line) | N24: 12 | O24: BLN | Q24: =Q25 -> 87840000
A25: 003 | B25: Dukungan Operasional Pertahanan dan Keamanan | Q25: =Q26 -> 87840000
A26: FT | B26: DUKOPSNAL POLRES | Q26: =Q27 -> 87840000
A27: 521119 | B27: Belanja Barang Operasional Lainnya | Q27: =Q28 -> 87840000 | R27: RM
B28: > | C28: DUKUNGAN OPERASIONAL | Q28: =Q30 -> 87840000
C29: Makan Tahanan ( Duk Ops)
C30: >> Polres | D30: ( | E30: 6 | F30: Orang | G30: x | H30: 366 | I30: Hri | J30: ) | N30: =E30*H30 -> 2196 | O30: THN | P30: 40000 | Q30: =N30*P30 -> 87840000
A33: 060.01.11 | B33: PROGRAM PENYELIDIKAN DAN PENYIDIKAN TINDAK PIDANA | Q33: =Q34 -> 400998000
A34: 3142 | B34: Penindakan Tindak Pidana Umum | Q34: =Q36+Q96 -> 400998000
A35: 3142.006 | B35: Layanan Dukungan Manajemen Tindak Pidana Umum [ Base Line] | N35: 12 | O35: Bulan | Q35: =Q36 -> 400998000
A36: 003 | B36: Dukungan Operasional Pertahanan dan Keamanan | Q36: =Q37+Q42+Q54+Q59 -> 400998000
A37: HC | B37: PENGADAAN BAHAN MAKANAN DAN PERAWATAN TAHANAN POLRES | Q37: =Q38 -> 234240000
A38: 521112 | B38: Belanja pengadaan bahan makanan | Q38: =Q40 -> 234240000 | R38: RM
B39: > | C39: Makan Tahanan ( Termasuk Pembayaran Tunggakan Tahun Sebelumnya)
C40: >> Polres | D40: ( | E40: 16 | F40: Orang | G40: x | H40: 366 | I40: Hri | J40: ) | N40: =E40*H40 -> 5856 | O40: THN | P40: 40000 | Q40: =N40*P40 -> 234240000
A42: HD | B42: PENGADAAN BAHAN MAKANAN DAN PERAWATAN TAHANAN POLSEK | Q42: =Q43 -> 68400000
A43: 521112 | B43: > | C43: Makan Tahanan (termasuk Pembayaran tunggakan tahun sebelumnya) | Q43: =SUM(Q44:Q52) -> 68400000 | R43: RM
C44: - Polsek Wonomulyo | N44: 190 | O44: THN | P44: 40000 | Q44: =N44*P44 -> 7600000
C45: - Polsek Polewali | N45: 190 | O45: THN | P45: 40000 | Q45: =N45*P45 -> 7600000
C46: - Polsek Campalagian | N46: 190 | O46: THN | P46: 40000 | Q46: =N46*P46 -> 7600000
C47: - Polsek Tinambung | N47: 190 | O47: THN | P47: 40000 | Q47: =N47*P47 -> 7600000
...

Sheet SARPRAS
A1: KEPOLISIAN NEGARA REPUBLIK INDONESIA
A2: DAERAH SULAWESI BARAT
A3: RESORT POLEWALI MANDAR
A4: JL. Dr. Ratulangi No. 17 Polewali 91314
A6: RENCANA PENDISTRIBUSIAN ANGGARAN (RENDISGAR) TAHUN 2020
A7: SUBBAG SARPRAS
A8: No | B8: Tahapan Pelaksanaan dan Rincian Komponen Biaya | N8: Volume | O8: Satuan | P8: Biaya | Q8: Jumlah | R8: SD/CP
O9: Ukur | P9: Satuan Ukur
A10: 1 | B10: 2 | N10: 3 | O10: 5 | P10: 6 | Q10: 7
A11: 060.01.01 | B11: Program Dukungan Manajemen dan Pelaksanaan Tugas Teknis Lainnya Polri | Q11: =Q12 -> 195084000
A12: 3073 | B12: Dukungan Pelayanan Internal perkantoran Polri | Q12: =Q13+Q19 -> 195084000
A13: 3073.001 | B13: Layanan Dukungan Manajemen Internal Perkantoran | N13: 12 | O13: Lyn | Q13: =Q14 -> 1800000
A14: 003 | B14: Dukungan Operasional Pertahanan dan Keamanan | Q14: =Q15 -> 1800000
A15: JZ | B15: HONORARIUM SAI/SAKPA/SIMAK/SMAP/PENGELOLA KEUANGAN | Q15: =Q16 -> 1800000
A16: 521115 | B16: Belanja Honor Operasional Satuan Kerja | Q16: =Q17 -> 1800000 | R16: RM
B17: > | C17: Honor Operator Simak BMN | D17: [ | E17: 1 | F17: org | G17: x | H17: 12 | I17: bln | J17: ] | N17: =E17*H17 -> 12 | O17: OB | P17: 150000 | Q17: =P17*N17 -> 1800000
A19: 3073.994 | B19: Layanan Perkantoran | N19: 12 | O19: BLN | Q19: =Q20 -> 193284000
A20: 002 | B20: Operasional Pemeliharaan Kantor | Q20: =Q21+Q25+Q29 -> 193284000
A21: BP | B21: BIAYA TELEPON | Q21: =Q23 -> 35964000
A22: 522112 | B22: Belanja Langganan Telepon | Q22: =Q23 -> 35964000
B23: - | C23: Biaya Telepon ( Termasuk pembayaran tunggakan tahun sebelumnya ) | N23: 1 | O23: THN | P23: 35964000 | Q23: =N23*P23 -> 35964000 | R23: RM
A25: BX | B25: PENGADAAN PERALATAN / PERLENGKAPAN KANTOR POLRES | Q25: =Q26 -> 6120000
A26: 521811 | B26: Belanja Keperluan Perkantoran | Q26: =Q27 -> 6120000 | R26: RM
B27: >> | C27: Bekal Kantor | Q27: =Q28 -> 6120000
C28: - SUBBAG SARPRAS | N28: 4 | O28: OT | P28: 1530000 | Q28: =N28*P28 -> 6120000
A29: LK | B29: INTERNET | Q29: =Q30 -> 151200000
A30: 522119 | B30: Belanja Langganan Daya dan Jasa Lainya | Q30: =SUM(Q34:Q42:Q32) -> 151200000 | R30: RM
B31: > | C31: POLRES | Q31: =Q32 -> 86400000
C32: - BIAYA INTERNET | D32: [ | E32: 12 | F32: TTK | G32: x | H32: 12 | I32: bln | J32: ] | N32: =E32*H32 -> 144 | O32: TTK | P32: 600000 | Q32: =N32*P32 -> 86400000
B33: > | C33: POLSEK
C34: - Polsek Wonomulyo | N34: 12 | O34: BLN | P34: 600000 | Q34: =N34*P34 -> 7200000
C35: - Polsek Campalagian | N35: 12 | O35: BLN | P35: 600000 | Q35: =N35*P35 -> 7200000
C36: - Polsek Polewali | N36: 12 | O36: BLN | P36: 600000 | Q36: =N36*P36 -> 7200000
C37: - Polsek Tinambung | N37: 12 | O37: BLN | P37: 600000 | Q37: =N37*P37 -> 7200000
C38: - Polsek Allu | N38: 12 | O38: BLN | P38: 600000 | Q38: =N38*P38 -> 7200000
C39: - Polsek Tapango | N39: 12 | O39: BLN | P39: 600000 | Q39: =N39*P39 -> 7200000
C40: - Polsek Binuang | N40: 12 | O40: BLN | P40: 600000 | Q40: =N40*P40 -> 7200000
C41: - Polsek Matangnga | N41: 12 | O41: BLN | P41: 600000 | Q41: =N41*P41 -> 7200000
C42: - Polsek Tutar | N42: 12 | O42: BLN | P42: 600000 | Q42: =N42*P42 -> 7200000
A44: 060.01.02 | B44: PROGRAM PENINGKATAN SARANA DAN PRASARANA APARATUR POLRI | Q44: =Q45 -> 4389036000
...

Sheet KEU
A1: KEPOLISIAN NEGARA REPUBLIK INDONESIA
A2: DAERAH SULAWESI BARAT
A3: RESORT POLEWALI MANDAR
A4: JL. Dr. Ratulangi No. 17 Polewali 91314
A6: RENCANA PENDISTRIBUSIAN ANGGARAN (RENDISGAR) TAHUN 2020
A7: SEKSI KEUANGAN
A9: No | B9: Tahapan Pelaksanaan dan Rincian Komponen Biaya | N9: Volume | O9: Satuan | P9: Biaya | Q9: Jumlah | R9: SD/CP
O10: Ukur | P10: Satuan Ukur
A11: 1 | B11: 2 | N11: 3 | O11: 5 | P11: 6 | Q11: 7
A12: 060.01.01 | B12: Program Dukungan Manajemen dan Pelaksanaan Tugas Teknis Lainnya Polri | Q12: =Q13 -> 35123053000
A13: 3073 | B13: Dukungan Pelayanan Internal perkantoran Polri | Q13: =Q14+Q20 -> 35123053000
A14: 3073.001 | B14: Layanan Dukungan Manajemen Internal Perkantoran | N14: 12 | O14: Lyn | Q14: =Q15 -> 1800000
A15: 003 | B15: Dukungan Operasional Pertahanan dan Keamanan | Q15: =Q16 -> 1800000
A16: JZ | B16: HONORARIUM SAI/SAKPA/SIMAK/SMAP/PENGELOLA KEUANGAN | Q16: =Q17 -> 1800000
A17: 521115 | B17: Belanja Honor Operasional Satuan Kerja | Q17: =Q18 -> 1800000 | R17: RM
B18: > | C18: Honor Operator Sakpa | D18: [ | E18: 1 | F18: org | G18: x | H18: 12 | I18: bln | J18: ] | N18: =E18*H18 -> 12 | O18: OB | P18: 150000 | Q18: =N18*P18 -> 1800000
A20: 3073.994 | B20: Layanan Perkantoran | N20: 12 | O20: BLN | Q20: =Q21+Q24 -> 35121253000
A21: 001 | B21: Pembayaran Gaji dan Tunjangan | Q21: =Q22 -> 35099833000
A22: A | B22: Pembayaran Gaji dan Tunjangan | Q22: 35099833000
A24: 002 | B24: Operasional Dan Pemeliharaan Kantor | Q24: =Q25 -> 21420000
A25: BX | B25: PENGADAAN PERALATAN / PERLENGKAPAN KANTOR POLRES | Q25: =Q26 -> 21420000
A26: 521811 | B26: Belanja Keperluan Perkantoran | Q26: =Q27 -> 21420000 | R26: RM
B27: >> | C27: Bekal Kantor | Q27: =Q28 -> 21420000
C28: - SI KEU | N28: 14 | O28: OT | P28: 1530000 | Q28: =N28*P28 -> 21420000
A30: 060.01.10 | B30: PROGRAM PEMELIHARAAN KEAMANAN DAN KETERTIBAN MASYARAKAT | Q30: =Q31+Q313+Q377+Q480+Q499+Q506+Q537 -> 506260000
A31: 3128 | B31: Dukungan Manajemen dan Teknis Pemeliharaan Keamanan dan Ketertiban Masyarakat | Q31: =Q32 -> 506260000
A32: 3128.001 | B32: Layanan Dukungan Manajemen Dan Teknis Harkamtibmas (Base Line) | N32: 12 | O32: BLN | Q32: =Q298+Q33 -> 506260000
A33: 003 | B33: Dukungan Operasional Pertahanan dan Keamanan | Q33: =Q34+Q49+Q53 -> 506260000
A34: AD | B34: RAPAT-RAPAT KORDINASI/KERJA/DINAS/PIMPINAN KELOMPOK KERJA/KONSULTASI | Q34: =Q35 -> 220740000
A35: 524111 | B35: Belanja Perjalanan dinas Biasa | Q35: =Q36+Q40+Q44 -> 220740000 | R35: RM
B36: > Pamen | Q36: =SUM(Q37:Q39) -> 33960000
C37: - Uang Harian | D37: [ | E37: 2 | F37: Org | G37: x | H37: 3 | I37: Hr | J37: x | K37: 6 | L37: Giat | M37: ] | N37: =E37*H37*K37 -> 36 | O37: OH | P37: 410000 | Q37: =N37*P37 -> 14760000
C38: - Penginapan | D38: [ | E38: 2 | F38: Org | G38: x | H38: 2 | I38: Hr | J38: x | K38: 6 | L38: Giat | M38: ] | N38: =E38*H38*K38 -> 24 | O38: OH | P38: 700000 | Q38: =N38*P38 -> 16800000
C39: - Transportasi | D39: [ | E39: 2 | F39: Org | G39: x | H39: 1 | I39: PP | J39: x | K39: 6 | L39: Giat | M39: ] | N39: =E39*H39*K39 -> 12 | O39: OH | P39: 200000 | Q39: =N39*P39 -> 2400000
B40: > Pama | Q40: =SUM(Q41:Q43) -> 50940000
C41: - Uang Harian | D41: [ | E41: 3 | F41: Org | G41: x | H41: 3 | I41: Hr | J41: x | K41: 6 | L41: Giat | M41: ] | N41: =E41*H41*K41 -> 54 | O41: OH | P41: 410000 | Q41: =N41*P41 -> 22140000
C42: - Penginapan | D42: [ | E42: 3 | F42: Org | G42: x | H42: 2 | I42: Hr | J42: x | K42: 6 | L42: Giat | M42: ] | N42: =E42*H42*K42 -> 36 | O42: OH | P42: 700000 | Q42: =N42*P42 -> 25200000
C43: - Transportasi | D43: [ | E43: 3 | F43: Org | G43: x | H43: 1 | I43: PP | J43: x | K43: 6 | L43: Giat | M43: ] | N43: =E43*H43*K43 -> 18 | O43: OH | P43: 200000 | Q43: =N43*P43 -> 3600000
B44: > Bintara | Q44: =SUM(Q45:Q47) -> 135840000
C45: - Uang Harian | D45: [ | E45: 8 | F45: Org | G45: x | H45: 3 | I45: Hr | J45: x | K45: 6 | L45: Giat | M45: ] | N45: =E45*H45*K45 -> 144 | O45: OH | P45: 410000 | Q45: =N45*P45 -> 59040000
...

Sheet PROPAM
A1: KEPOLISIAN NEGARA REPUBLIK INDONESIA
A2: DAERAH SULAWESI BARAT
A3: RESORT POLEWALI MANDAR
A4: JL. Dr. Ratulangi No. 17 Polewali 91314
A6: RENCANA PENDISTRIBUSIAN ANGGARAN (RENDISGAR) TAHUN 2020
A7: SEKSI PROPAM
A9: No | B9: Tahapan Pelaksanaan dan Rincian Komponen Biaya | N9: Volume | O9: Satuan | P9: Biaya | Q9: Jumlah | R9: SD/CP
O10: Ukur | P10: Satuan Ukur
A11: 1 | B11: 2 | N11: 3 | O11: 5 | P11: 6 | Q11: 7
A12: 060.01.01 | B12: Program Dukungan Manajemen dan Pelaksanaan Tugas Teknis Lainnya Polri | Q12: =Q13 -> 12240000
A13: 3073 | B13: Dukungan Pelayanan Internal perkantoran Polri | Q13: =Q14 -> 12240000
A14: 3073.994 | B14: Layanan Perkantoran | N14: 12 | O14: BLN | Q14: =Q15 -> 12240000
A15: 002 | B15: Operasional Dan Pemeliharaan Kantor | Q15: =Q16 -> 12240000
A16: BX | B16: PENGADAAN PERALATAN / PERLENGKAPAN KANTOR POLRES | Q16: =Q17 -> 12240000
A17: 521811 | B17: Belanja Keperluan Perkantoran | Q17: =Q18 -> 12240000 | R17: RM
B18: >> | C18: Bekal Kantor | Q18: =Q19 -> 12240000
C19: - SI PROPAM | N19: 8 | O19: OT | P19: 1530000 | Q19: =N19*P19 -> 12240000
A21: 060.01.03 | B21: PROGRAM PENGAWASAN DAN PENINGKATAN AKUNTABILITAS APARATUR POLRI | Q21: =Q22+Q30+Q38+Q70 -> 76541000
A22: 3088 | B22: Pertanggung Jawaban Profesi | Q22: =Q23 -> 23538000
A23: 3088.005 | B23: Penegakan Kode Etik Profesi | Q23: =Q24 -> 23538000
A24: 003 | B24: Dukungan Operasional Pertahanan Dan Keamanan | Q24: =Q25 -> 23538000
A25: DC | B25: PENEGAKAN HUKUM ANGGOTA/PNS POLRI (SIDANG DISIPLIN/KODE ETIK) | Q25: =Q26 -> 23538000
A26: 521119 | B26: Belanja Barang Operasional Lainnya | Q26: =Q28 -> 23538000 | R26: RM
B27: > | C27: BIDANG PROVESI
C28: - GIAT PERTANGGUNG JAWABAN PROVESI | N28: 1 | O28: THN | P28: 23538000 | Q28: =N28*P28 -> 23538000
A30: 3089 | B30: Penyelenggaraan Pengamanan Internal Polri | Q30: =Q31 -> 27500000
A31: 3089.002 | B31: Layanan Penyelidikan Pelanggaran Pegawai Pada Polri | Q31: =Q32 -> 27500000
A32: 003 | B32: Dukungan Operasional Pertahanan Dan Keamanan | Q32: =Q33 -> 27500000
A33: CW | B33: MENYELENGGARAKAN PENGAMANAN KEPOLISIAN | Q33: =Q34 -> 27500000
A34: 521119 | B34: Belanja Barang Operasional Lainnya | Q34: =Q36 -> 27500000 | R34: RM
B35: > | C35: Bidang PAM Internal Polri
C36: - GIAT PENYELENGGARAAN PENGAMANAN INTERNAL POLRI | N36: 1 | O36: THN | P36: 27500000 | Q36: =N36*P36 -> 27500000
A38: 3090 | B38: Penegakan Tata Tertib dan Disiplin Polri | Q38: =Q39 -> 25503000
A39: 3090.002 | B39: Penegakan Disiplin dan Ketertiban | Q39: =Q40 -> 25503000
A40: 003 | B40: Dukungan Operasional Pertahanan Dan Keamanan | Q40: =Q41+Q46+Q50 -> 25503000
A41: DE | B41: Kegiatan Pembinaan Provos | Q41: =Q42 -> 15983000
A42: 521119 | B42: Belanja Barang Operasional Lainnya | Q42: =Q44 -> 15983000 | R42: RM
B43: > | C43: BIDANG PROPOS TATA TERTIB
C44: - PENEGAKAN TATA TERTIB DAN DISIPLIN POLRI | N44: 1 | O44: THN | P44: 15983000 | Q44: =N44*P44 -> 15983000
A46: HC | B46: PENGADAAN BAHAN MAKANAN DAN PERAWATAN TAHANAN | Q46: =Q48 -> 1890000
...

Sheet SIWAS
A1: KEPOLISIAN NEGARA REPUBLIK INDONESIA
A2: DAERAH SULAWESI BARAT
A3: RESORT POLEWALI MANDAR
A4: JL. Dr. Ratulangi No. 17 Polewali 91314
A6: RENCANA PENDISTRIBUSIAN ANGGARAN (RENDISGAR) TAHUN 2020
A7: SEKSI PENGAWASAN
A9: No | B9: Tahapan Pelaksanaan dan Rincian Komponen Biaya | N9: Volume | O9: Satuan | P9: Biaya | Q9: Jumlah | R9: SD/CP
O10: Ukur | P10: Satuan Ukur
A11: 1 | B11: 2 | N11: 3 | O11: 5 | P11: 6 | Q11: 7
A12: 060.01.01 | B12: Program Dukungan Manajemen dan Pelaksanaan Tugas Teknis Lainnya Polri | Q12: =Q13 -> 12240000
A13: 3073 | B13: Dukungan Pelayanan Internal perkantoran Polri | Q13: =Q14 -> 12240000
A14: 3073.994 | B14: Layanan Perkantoran | N14: 12 | O14: BLN | Q14: =Q15 -> 12240000
A15: 002 | B15: Operasional Dan Pemeliharaan Kantor | Q15: =Q16 -> 12240000
A16: BX | B16: PENGADAAN PERALATAN / PERLENGKAPAN KANTOR POLRES | Q16: =Q17 -> 12240000
A17: 521811 | B17: Belanja Keperluan Perkantoran | Q17: =Q18 -> 12240000 | R17: RM
B18: >> | C18: Bekal Kantor | Q18: =Q19 -> 12240000
C19: - SIWAS | N19: 8 | O19: OT | P19: 1530000 | Q19: =N19*P19 -> 12240000
A21: 060.01.03 | B21: PROGRAM PENGAWASAN DAN PENINGKATAN AKUNTABILITAS APARATUR POLRI | Q21: =Q22 -> 38000000
A22: 3091 | B22: Penyelenggaraan Pemeriksaan dan Pengawasan | Q22: =Q23 -> 38000000
A23: 3091.003 | B23: Pengawasan dan Pemeriksaan | Q23: =Q24 -> 38000000
A24: 003 | B24: Dukungan Operasional Pertahanan dan Keamanan | Q24: =Q27 -> 38000000
A25: CU | B25: PENYELENGGARAAN PEMERIKSAAN DAN PENGAWASAN
A26: 521119 | B26: Belanja Barang Operasional Lainnya | Q26: =Q27 -> 38000000 | R26: RM
B27: - | C27: GIAT SIWAS POLRES | N27: 1 | O27: THN | P27: 38000000 | Q27: =N27*P27 -> 38000000
A29: 060.01.10 | B29: PROGRAM PEMELIHARAAN KEAMANAN DAN KETERTIBAN MASYARAKAT | Q29: =Q30 -> 25920000
A30: 3128 | B30: Dukungan Manajemen dan Teknis Pemeliharaan Keamanan dan Ketertiban Masyarakat | Q30: =Q31 -> 25920000
A31: 3128.001 | B31: Layanan Dukungan Manajemen Dan Teknis Harkamtibmas (Base Line) | N31: 12 | O31: BLN | Q31: =Q32 -> 25920000
A32: 003 | B32: Dukungan Operasional Pertahanan dan Keamanan | Q32: =Q36+Q38 -> 25920000
A33: FT | B33: DUKOPSNAL POLRES | Q33: =Q34 -> 25920000
A34: 521119 | B34: Belanja Barang Operasional Lainnya | Q34: =Q35 -> 25920000 | R34: RM
B35: > | C35: DUKUNGAN OPERASIONAL | Q35: =Q36+Q38 -> 25920000
C36: >> Was Ops | D36: [ | E36: 3 | F36: Org | G36: x | H36: 2 | I36: Hr | J36: x | K36: 12 | L36: Giat | M36: ] | N36: =E36*H36*K36 -> 72 | O36: OH | P36: 160000 | Q36: =N36*P36 -> 11520000
C38: >> Investigasi Dumas | D38: [ | E38: 3 | F38: Org | G38: x | H38: 2 | I38: Hr | J38: x | K38: 12 | L38: Giat | M38: ] | N38: =E38*H38*K38 -> 72 | O38: OH | P38: 200000 | Q38: =N38*P38 -> 14400000
B39: JUMLAH | Q39: =Q29+Q21+Q12 -> 76160000

Sheet SPKT
A1: KEPOLISIAN NEGARA REPUBLIK INDONESIA
A2: DAERAH SULAWESI BARAT
A3: RESORT POLEWALI MANDAR
A4: JL. Dr. Ratulangi No. 17 Polewali 91314
A6: RENCANA PENDISTRIBUSIAN ANGGARAN (RENDISGAR) TAHUN 2020
A7: SPKT
A9: No | B9: Tahapan Pelaksanaan dan Rincian Komponen Biaya | N9: Volume | O9: Satuan | P9: Biaya | Q9: Jumlah | R9: SD/CP
O10: Ukur | P10: Satuan Ukur
A11: 1 | B11: 2 | N11: 3 | O11: 5 | P11: 6 | Q11: 7
A12: 060.01.01 | B12: Program Dukungan Manajemen dan Pelaksanaan Tugas Teknis Lainnya Polri | Q12: =Q13 -> 12240000
A13: 3073 | B13: Dukungan Pelayanan Internal perkantoran Polri | Q13: =Q14 -> 12240000
A14: 3073.994 | B14: Layanan Perkantoran | N14: 12 | O14: BLN | Q14: =Q15 -> 12240000
A15: 002 | B15: Operasional Pemeliharaan Kantor | Q15: =Q16 -> 12240000
A16: BX | B16: PENGADAAN PERALATAN / PERLENGKAPAN KANTOR POLRES | Q16: =Q17 -> 12240000
A17: 521811 | B17: Belanja Keperluan Perkantoran | Q17: =Q18 -> 12240000 | R17: RM
B18: >> | C18: Bekal Kantor | Q18: =Q19 -> 12240000
C19: - SPKT | N19: 8 | O19: OT | P19: 1530000 | Q19: =N19*P19 -> 12240000
A21: 060.01.10 | B21: PROGRAM PEMELIHARAAN KEAMANAN DAN KETERTIBAN MASYARAKAT | Q21: =Q22+Q30 -> 632880000
A22: 3128 | B22: Dukungan Manajemen dan Teknis Pemeliharaan Keamanan dan Ketertiban Masyarakat | Q22: =Q23 -> 614880000
A23: 3128.001 | B23: Layanan Dukungan Manajemen Dan Teknis Harkamtibmas (Base Line) | N23: 12 | O23: BLN | Q23: =Q254+Q24 -> 614880000
A24: 003 | B24: Dukungan Operasional Pertahanan dan Keamanan | Q24: =Q25 -> 614880000
A25: FZ | B25: ULP NON ORGANIK / JAGA FUNGSI POLRES | Q25: =Q26 -> 614880000
A26: 521112 | B26: Belanja pengadaan bahan makanan | Q26: =Q27 -> 614880000 | R26: RM
B27: > | C27: Uang Makan Non Organik | Q27: =Q28 -> 614880000
C28: - Polres | F28: [ | G28: 24 | H28: Org | I28: x | J28: 366 | K28: HR | L28: ] | N28: =J28*G28 -> 8784 | O28: OH | P28: 70000 | Q28: =N28*P28 -> 614880000
A30: 5077 | B30: Pembinaan Operasional Pemeliharaan Keamanan | Q30: =Q31 -> 18000000
A31: 5077.001 | B31: Operasional Pemeliharaan Keamanan | N31: 12 | O31: BLN | Q31: =Q32 -> 18000000
A32: 003 | B32: Dukungan Operasional Pertahanan dan Keamanan | Q32: =Q33 -> 18000000
A33: GT | B33: SETRA PELAYANAN KEPOLISIAN | Q33: =Q34 -> 18000000
A34: 521119 | B34: Belanja Barang Operasional Lainnya | Q34: =Q35 -> 18000000
B35: - | C35: GIAT SPK | N35: 1 | O35: THN | P35: 18000000 | Q35: =N35*P35 -> 18000000 | R35: RM
B37: JUMLAH | Q37: =Q21+Q12 -> 645120000

Sheet HUMAS
A1: KEPOLISIAN NEGARA REPUBLIK INDONESIA
A2: DAERAH SULAWESI BARAT
A3: RESORT POLEWALI MANDAR
A4: JL. Dr. Ratulangi No. 17 Polewali 91314
A6: RENCANA PENDISTRIBUSIAN ANGGARAN (RENDISGAR) TAHUN 2020
A7: SEKSI HUMAS
A9: No | B9: Tahapan Pelaksanaan dan Rincian Komponen Biaya | N9: Volume | O9: Satuan | P9: Biaya | Q9: Jumlah | R9: SD/CP
O10: Ukur | P10: Satuan Ukur
A11: 1 | B11: 2 | N11: 3 | O11: 5 | P11: 6 | Q11: 7
A12: 060.01.01 | B12: Program Dukungan Manajemen dan Pelaksanaan Tugas Teknis Lainnya Polri | Q12: =Q13+Q31 -> 91832000
A13: 3070 | B13: Penerangan Masyarakat | Q13: =Q14 -> 79312000
A14: 3070.001 | B14: Layanan Penerangan Masyarakat | N14: 12 | O14: BLN | Q14: =Q15 -> 79312000
A15: 003 | B15: Dukungan Operasional Pertahanan dan Keamanan | Q15: =Q16 -> 79312000
A16: AJ | B16: PENYELENGGARAAN HUMAS, PROTOKOL DAN PEMBERITAAN | Q16: =Q17 -> 79312000
A17: 521119 | B17: Belanja Barang Operasional Lainnya | Q17: =Q18+Q24 -> 79312000 | R17: RM
B18: > Press Release | Q18: =Q19+Q21+Q22+Q23 -> 66144000
C19: - Penggandaaan Materi Siaran Pers | N19: 67200 | O19: EXPL | P19: 250 | Q19: =N19*P19 -> 16800000
C20: atau Pers Release (40 LMBR x 35 EXPL x 4 GIAT x 12 BLN)
C21: - Makan | D21: ( | E21: 15 | F21: ORG | G21: x | H21: 4 | I21: GIAT | J21: x | K21: 12 | L21: BLN | M21: ) | N21: =E21*H21*K21 -> 720 | O21: ORG | P21: 47000 | Q21: =N21*P21 -> 33840000
C22: - Snack | D22: ( | E22: 15 | F22: ORG | G22: x | H22: 4 | I22: GIAT | J22: x | K22: 12 | L22: BLN | M22: ) | N22: =E22*H22*K22 -> 720 | O22: ORG | P22: 20000 | Q22: =N22*P22 -> 14400000
C23: - Dukmin | N23: 4 | O23: GIAT | P23: 276000 | Q23: =N23*P23 -> 1104000
B24: > Press Release | Q24: =Q25+Q27+Q28+Q29 -> 13168000
C25: - Penggandaaan Materi Siaran Pers | N25: 5040 | O25: EXPL | P25: 250 | Q25: =N25*P25 -> 1260000
C26: atau Pers Release (15 LMBR x 14 EXPL x 2 GIAT x 12 BLN)
C27: - Makan | D27: ( | E27: 7 | F27: ORG | G27: x | H27: 2 | I27: GIAT | J27: x | K27: 12 | L27: BLN | M27: ) | N27: =E27*H27*K27 -> 168 | O27: ORG | P27: 47000 | Q27: =N27*P27 -> 7896000
C28: - Snack | D28: ( | E28: 7 | F28: ORG | G28: x | H28: 2 | I28: GIAT | J28: x | K28: 12 | L28: BLN | M28: ) | N28: =E28*H28*K28 -> 168 | O28: ORG | P28: 20000 | Q28: =N28*P28 -> 3360000
C29: - Dukmin | N29: 2 | O29: GIAT | P29: 326000 | Q29: =N29*P29 -> 652000
A31: 3073 | B31: Dukungan Pelayanan Internal perkantoran Polri | Q31: =Q32+Q41 -> 12520000
A32: 3073.001 | B32: Layanan Dukungan Manajemen Internal Perkantoran | N32: 12 | O32: BLN | Q32: =Q33 -> 6400000
A33: 003 | B33: Dukungan Operasional Pertahanan dan Keamanan | Q33: =Q34 -> 6400000
A34: S | B34: MENYELENGGARAKAN HUMAS | Q34: =Q35 -> 6400000
A35: 521119 | B35: Belanja barang operasional lainnya | Q35: =Q36+Q38 -> 6400000 | R35: RM
C36: > GIAT HUMAS | N36: 1 | O36: THN | P36: 4000000 | Q36: =P36 -> 4000000
C37: -Giat Humas
C38: > SARANA KONTAK | N38: 12 | O38: BLN | P38: 200000 | Q38: =N38*P38 -> 2400000
C39: -Sarana Kontak
A41: 3073.994 | B41: Layanan Perkantoran | N41: 12 | O41: BLN | Q41: =Q42 -> 6120000
A42: 002 | B42: Operasional Dan Pemeliharaan Kantor | Q42: =Q43 -> 6120000
A43: BX | B43: PENGADAAN PERALATAN / PERLENGKAPAN KANTOR POLRES | Q43: =Q44 -> 6120000
