Workbook

Sheet POLRES (2)
A1: KEPOLISIAN NEGARA REPUBLIK INDONESIA
A2: DAERAH SULAWESI BARAT
A3: RESOR POLEWALI MANDAR
A4: JL. Dr. Ratulangi No. 17 Polewali 91314
A6: RINCIAN ANGGARAN POLRES POLMAN TAHUN 2020
A9: No | B9: Tahapan Pelaksanaan dan Rincian Komponen Biaya | N9: Volume | O9: Satuan | P9: Biaya | Q9: Jumlah | R9: SD/CP
O10: Ukur | P10: Satuan Ukur
A11: 1 | B11: 2 | N11: 3 | O11: 5 | P11: 6 | Q11: 7
A12: 060.01.01 | B12: Program Dukungan Manajemen dan Pelaksanaan Tugas Teknis Lainnya Polri | Q12: =Q13+Q29+Q114 -> 35842809000
A13: 3070 | B13: Penerangan Masyarakat | Q13: =Q14 -> 79312000
A14: 3070.001 | B14: Layanan Penerangan Masyarakat | N14: 12 | O14: BLN | Q14: =Q15 -> 79312000
A15: 003 | B15: Dukungan Operasional Pertahanan dan Keamanan | Q15: =Q16 -> 79312000
A16: AJ | B16: PENYELENGGARAAN HUMAS, PROTOKOL DAN PEMBERITAAN | Q16: =Q17 -> 79312000
A17: 521119 | B17: Belanja Barang Operasional Lainnya | Q17: =Q18+Q23 -> 79312000 | R17: RM
B18: > Press Release | Q18: =Q19+Q20+Q21+Q22 -> 66144000
C19: - Penggandaaan Materi Siaran Pers atau Pers Release (40 LMBR x 35 EXPL x 4 GIAT x 12 BLN) | N19: 67200 | O19: EXPL | P19: 250 | Q19: =N19*P19 -> 16800000
C20: - Makan | D20: ( | E20: 15 | F20: ORG | G20: x | H20: 4 | I20: GIAT | J20: x | K20: 12 | L20: BLN | M20: ) | N20: =E20*H20*K20 -> 720 | O20: ORG | P20: 47000 | Q20: =N20*P20 -> 33840000
C21: - Snack | D21: ( | E21: 15 | F21: ORG | G21: x | H21: 4 | I21: GIAT | J21: x | K21: 12 | L21: BLN | M21: ) | N21: =E21*H21*K21 -> 720 | O21: ORG | P21: 20000 | Q21: =N21*P21 -> 14400000
C22: - Dukmin | N22: 4 | O22: GIAT | P22: 276000 | Q22: =N22*P22 -> 1104000
B23: > Press Release | Q23: =Q24+Q25+Q26+Q27 -> 13168000
C24: - Penggandaaan Materi Siaran Pers atau Pers Release (15 LMBR x 14 EXPL x 2 GIAT x 12 BLN) | N24: 5040 | O24: EXPL | P24: 250 | Q24: =N24*P24 -> 1260000
C25: - Makan | D25: ( | E25: 7 | F25: ORG | G25: x | H25: 2 | I25: GIAT | J25: x | K25: 12 | L25: BLN | M25: ) | N25: =E25*H25*K25 -> 168 | O25: ORG | P25: 47000 | Q25: =N25*P25 -> 7896000
C26: - Snack | D26: ( | E26: 7 | F26: ORG | G26: x | H26: 2 | I26: GIAT | J26: x | K26: 12 | L26: BLN | M26: ) | N26: =E26*H26*K26 -> 168 | O26: ORG | P26: 20000 | Q26: =N26*P26 -> 3360000
C27: - Dukmin | N27: 2 | O27: GIAT | P27: 326000 | Q27: =N27*P27 -> 652000
A29: 3073 | B29: Dukungan Pelayanan Internal perkantoran Polri | Q29: =Q53+Q30 -> 35753697000
A30: 3073.001 | B30: Layanan Dukungan Manajemen Internal Perkantoran | N30: 12 | O30: BLN | Q30: =Q31 -> 108600000
A31: 003 | B31: Dukungan Operasional Pertahanan dan Keamanan | Q31: =Q47+Q32+Q39+Q43 -> 108600000
A32: S | B32: MENYELENGGARAKAN HUMAS | Q32: =Q33 -> 6400000
A33: 521119 | B33: Belanja barang operasional lainnya | Q33: =Q34+Q36 -> 6400000 | R33: RM
C34: > GIAT HUMAS | N34: 1 | O34: THN | P34: 4000000 | Q34: =P34 -> 4000000
C35: -Giat Humas
C36: > SARANA KONTAK | N36: 12 | O36: BLN | P36: 200000 | Q36: =N36*P36 -> 2400000
C37: -Sarana Kontak
A39: AF | B39: PERENCANAAN PROGRAM DAN ANGGARAN | Q39: =Q40 -> 78000000
A40: 521119 | B40: Belanja perjalanan biasa | Q40: =Q41 -> 78000000 | R40: RM
B41: > | C41: Giat Bag Ren Satker | N41: 1 | O41: THN | P41: 78000000 | Q41: =N41*P41 -> 78000000
A43: DY | B43: KEGIATAN PEMBINAAN | Q43: =Q45 -> 17000000
A44: 521119 | B44: Belanja barang operasional lainnya | Q44: =Q45 -> 17000000 | R44: RM
C45: - GIAT MINPERS | N45: 1 | O45: THN | P45: 17000000 | Q45: =P45 -> 17000000
A47: JZ | B47: HONORARIUM SAI/SAKPA/SIMAK/SMAP/PENGELOLA KEUANGAN | Q47: =Q48 -> 7200000
A48: 521115 | B48: Belanja Honor Operasional Satuan Kerja | Q48: =Q49+Q50+Q51 -> 7200000 | R48: RM
B49: > | C49: Honor Operator Sakpa | D49: [ | E49: 1 | F49: org | G49: x | H49: 12 | I49: bln | J49: ] | N49: =E49*H49 -> 12 | O49: OB | P49: 150000 | Q49: =N49*P49 -> 1800000
B50: > | C50: Honor Operator Simak BMN | D50: [ | E50: 1 | F50: org | G50: x | H50: 12 | I50: bln | J50: ] | N50: =E50*H50 -> 12 | O50: OB | P50: 150000 | Q50: =N50*P50 -> 1800000
B51: > | C51: Honor Operator Smap | D51: [ | E51: 1 | F51: org | G51: x | H51: 12 | I51: bln | J51: ] | N51: =E51*H51 -> 12 | O51: OB | P51: 300000 | Q51: =N51*P51 -> 3600000
A53: 3073.994 | B53: Layanan Perkantoran | N53: 12 | O53: BLN | Q53: =Q54+Q57 -> 35645097000
A54: 001 | B54: Pembayaran Gaji dan Tunjangan | Q54: =Q55 -> 35099833000
A55: A | B55: Pembayaran Gaji dan Tunjangan | Q55: 35099833000
A57: 002 | B57: Operasional Dan Pemeliharaan Kantor | Q57: =Q58+Q62+Q84+Q98 -> 545264000
A58: BP | B58: BIAYA TELEPON | Q58: =Q60 -> 35964000
A59: 522112 | B59: Belanja Langganan Telepon | Q59: =Q60 -> 35964000
B60: - | C60: Biaya Telepon ( Termasuk pembayaran tunggakan tahun sebelumnya ) | N60: 1 | O60: THN | P60: 35964000 | Q60: =N60*P60 -> 35964000 | R60: RM
A62: BX | B62: PENGADAAN PERALATAN / PERLENGKAPAN KANTOR POLRES | Q62: =Q63 -> 195840000
A63: 521811 | B63: Belanja Keperluan Perkantoran | Q63: =Q64 -> 195840000 | R63: RM
B64: >> | C64: Bekal Kantor | N64: =SUM(N65:N82) -> 128 | O64: OT | P64: 1530000 | Q64: =N64*P64 -> 195840000
C65: - BAG OPS | N65: 9 | O65: OT | P65: 1530000 | Q65: =N65*P65 -> 13770000
C66: - BAG SUMDA | N66: 10 | O66: OT | P66: 1530000 | Q66: =N66*P66 -> 15300000
C67: - BAG REN | N67: 14 | O67: OT | P67: 1530000 | Q67: =N67*P67 -> 21420000
C68: - SAT BINMAS | N68: 5 | O68: OT | P68: 1530000 | Q68: =N68*P68 -> 7650000
C69: - SAT INTELKAM | N69: 5 | O69: OT | P69: 1530000 | Q69: =N69*P69 -> 7650000
C70: - SAT RESKRIM | N70: 5 | O70: OT | P70: 1530000 | Q70: =N70*P70 -> 7650000
C71: - SAT LANTAS | N71: 6 | O71: OT | P71: 1530000 | Q71: =N71*P71 -> 9180000
C72: - SAT POLAIR | N72: 5 | O72: OT | P72: 1530000 | Q72: =N72*P72 -> 7650000
C73: - SAT NARKOBA | N73: 6 | O73: OT | P73: 1530000 | Q73: =N73*P73 -> 9180000
C74: - SAT TAHTI | N74: 4 | O74: OT | P74: 1530000 | Q74: =N74*P74 -> 6120000 | T74: 169830000
C75: - SUBBAG SARPRAS | N75: 4 | O75: OT | P75: 1530000 | Q75: =N75*P75 -> 6120000 | T75: 212670000
C76: - SI KEU | N76: 14 | O76: OT | P76: 1530000 | Q76: =N76*P76 -> 21420000
C77: - SI PROPAM | N77: 8 | O77: OT | P77: 1530000 | Q77: =N77*P77 -> 12240000
C78: - SIWAS | N78: 8 | O78: OT | P78: 1530000 | Q78: =N78*P78 -> 12240000
C79: - SUBBAG HUMAS | N79: 4 | O79: OT | P79: 1530000 | Q79: =N79*P79 -> 6120000
C80: - SPKT | N80: 8 | O80: OT | P80: 1530000 | Q80: =N80*P80 -> 12240000
C81: - SITIPOL | N81: 5 | O81: OT | P81: 1530000 | Q81: =N81*P81 -> 7650000
C82: - SIUM | N82: 8 | O82: OT | P82: 1530000 | Q82: =N82*P82 -> 12240000
A84: BY | B84: PENGADAAN PERALATAN / PERLENGKAPAN KANTOR POLSEK | Q84: =Q85 -> 162260000
A85: 521811 | B85: Belanja Keperluan Perkantoran | Q85: =SUM(Q87:Q96) -> 162260000 | R85: RM
B86: > | C86: Bekal Kantor Polsek
C87: - Polsek Wonomulyo | N87: 16 | O87: OT | P87: 1530000 | Q87: =N87*P87 -> 24480000
C88: - Polsek Campalagian | N88: 13 | O88: OT | P88: 1530000 | Q88: =N88*P88 -> 19890000
C89: - Polsek Polewali | N89: 13 | O89: OT | P89: 1530000 | Q89: =N89*P89 -> 19890000
C90: - Polsek Tinambung | N90: 13 | O90: OT | P90: 1530000 | Q90: =N90*P90 -> 19890000
C91: - Polsek Allu | N91: 11 | O91: OT | P91: 1530000 | Q91: =N91*P91 -> 16830000
C92: - Polsek Tapango | N92: 9 | O92: OT | P92: 1530000 | Q92: =N92*P92 -> 13770000
C93: - Polsek Binuang | N93: 9 | O93: OT | P93: 1530000 | Q93: =N93*P93 -> 13770000
C94: - Polsek Matangnga | N94: 9 | O94: OT | P94: 1530000 | Q94: =N94*P94 -> 13770000
C95: - Polsek Tutar | N95: 9 | O95: OT | P95: 1530000 | Q95: =N95*P95 -> 13770000
C96: - Polsubsektor Mapilli | N96: 5 | O96: OT | P96: 1240000 | Q96: =N96*P96 -> 6200000
A98: LK | B98: INTERNET | Q98: =Q99 -> 151200000
A99: 522119 | B99: Belanja Langganan Daya dan Jasa Lainya | Q99: =SUM(Q103:Q111:Q101) -> 151200000 | R99: RM
B100: > | C100: POLRES | Q100: =Q101 -> 86400000
C101: - BIAYA INTERNET | D101: [ | E101: 12 | F101: TTK | G101: x | H101: 12 | I101: bln | J101: ] | N101: =E101*H101 -> 144 | O101: TTK | P101: 600000 | Q101: =N101*P101 -> 86400000
B102: > | C102: POLSEK
C103: - Polsek Wonomulyo | N103: 12 | O103: BLN | P103: 600000 | Q103: =N103*P103 -> 7200000
C104: - Polsek Campalagian | N104: 12 | O104: BLN | P104: 600000 | Q104: =N104*P104 -> 7200000
C105: - Polsek Polewali | N105: 12 | O105: BLN | P105: 600000 | Q105: =N105*P105 -> 7200000
C106: - Polsek Tinambung | N106: 12 | O106: BLN | P106: 600000 | Q106: =N106*P106 -> 7200000
C107: - Polsek Allu | N107: 12 | O107: BLN | P107: 600000 | Q107: =N107*P107 -> 7200000
C108: - Polsek Tapango | N108: 12 | O108: BLN | P108: 600000 | Q108: =N108*P108 -> 7200000
C109: - Polsek Binuang | N109: 12 | O109: BLN | P109: 600000 | Q109: =N109*P109 -> 7200000
C110: - Polsek Matangnga | N110: 12 | O110: BLN | P110: 600000 | Q110: =N110*P110 -> 7200000
C111: - Polsek Tutar | N111: 12 | O111: BLN | P111: 600000 | Q111: =N111*P111 -> 7200000
A114: 5051 | B114: Penyusunan Kebijakan Polri | Q114: =Q115 -> 9800000
...

Sheet OPS
A1: KEPOLISIAN NEGARA REPUBLIK INDONESIA
A2: DAERAH SULAWESI BARAT
A3: RESORT POLEWALI MANDAR
A4: JL. Dr. Ratulangi No. 17 Polewali 91314
A6: RENCANA PENDISTRIBUSIAN ANGGARAN (RENDISGAR) TAHUN 2020
A7: BAG OPS
A9: No | B9: Tahapan Pelaksanaan dan Rincian Komponen Biaya | N9: Volume | O9: Satuan | P9: Biaya | Q9: Jumlah | R9: SD/CP
O10: Ukur | P10: Satuan Ukur
A11: 1 | B11: 2 | N11: 3 | O11: 5 | P11: 6 | Q11: 7
A12: 060.01.01 | B12: Program Dukungan Manajemen dan Pelaksanaan Tugas Teknis Lainnya Polri | Q12: =Q13 -> 13770000
A13: 3073 | B13: Dukungan Pelayanan Internal perkantoran Polri | Q13: =Q14 -> 13770000
A14: 3073.994 | B14: Layanan Perkantoran | N14: 12 | O14: BLN | Q14: =Q15 -> 13770000
A15: 002 | B15: Operasional Dan Pemeliharaan Kantor | Q15: =Q16 -> 13770000
A16: BX | B16: PENGADAAN PERALATAN / PERLENGKAPAN KANTOR POLRES | Q16: =Q17 -> 13770000
A17: 521811 | B17: Belanja Keperluan Perkantoran | Q17: =Q18 -> 13770000 | R17: RM
B18: >> | C18: Bekal Kantor | N18: =SUM(N19:N19) -> 9 | O18: OT | P18: 1530000 | Q18: =N18*P18 -> 13770000
C19: - BAG OPS | N19: 9 | O19: OT | P19: 1530000 | Q19: =N19*P19 -> 13770000
A21: 060.01.10 | B21: PROGRAM PEMELIHARAAN KEAMANAN DAN KETERTIBAN MASYARAKAT | Q21: =Q22+Q82+Q106 -> 686889000
A22: 3128 | B22: Dukungan Manajemen dan Teknis Pemeliharaan Keamanan dan Ketertiban Masyarakat | Q22: =Q23 -> 322554000
A23: 3128.001 | B23: Layanan Dukungan Manajemen Dan Teknis Harkamtibmas (Base Line) | N23: 12 | O23: BLN | Q23: =Q327+Q24 -> 322554000
A24: 003 | B24: Dukungan Operasional Pertahanan dan Keamanan | Q24: =Q44+Q25 -> 322554000
A25: FT | B25: DUKOPSNAL POLRES | Q25: =Q26 -> 126022000
A26: 521119 | B26: Belanja Barang Operasional Lainnya | Q26: =Q27 -> 126022000 | R26: RM
B27: > | C27: DUKUNGAN OPERASIONAL | Q27: =Q28+Q32+Q38 -> 126022000
C28: >> Supervisi Ke Polsek ( Bag Ops ) | Q28: =Q29+Q30 -> 10100000
C29: -Uang harian | D29: [ | E29: 10 | F29: Org | G29: x | H29: 3 | I29: Hr | J29: x | K29: 2 | L29: Giat | M29: ] | N29: =K29*H29*E29 -> 60 | O29: OH | P29: 160000 | Q29: =N29*P29 -> 9600000
C30: -Dukmin | D30: [ | F30: 2 | G30: Giat | L30: ] | N30: 2 | O30: GIAT | P30: 250000 | Q30: =N30*P30 -> 500000
C32: >> Operasi Ketupat ( Duk Ops ) | Q32: =SUM(Q33:Q36) -> 66752000
C33: -Uang Saku | F33: [ | G33: 32 | H33: Org | I33: x | J33: 14 | K33: Hr | L33: ] | N33: =G33*J33 -> 448 | O33: OH | P33: 40000 | Q33: =N33*P33 -> 17920000
C34: -Dana Satuan | F34: [ | G34: =G33 -> 32 | H34: Org | I34: x | J34: 14 | K34: Hr | L34: ] | N34: =G34*J34 -> 448 | O34: OH | P34: 19000 | Q34: =N34*P34 -> 8512000
C35: -Makan Operasi | F35: [ | G35: =G34 -> 32 | H35: Org | I35: x | J35: 14 | K35: Hr | L35: ] | N35: =G35*J35 -> 448 | O35: OH | P35: 82000 | Q35: =N35*P35 -> 36736000
C36: -Bekal Kesehatan | F36: [ | G36: =G35 -> 32 | H36: Org | I36: x | J36: 14 | K36: Hr | L36: ] | N36: =G36*J36 -> 448 | O36: OH | P36: 8000 | Q36: =N36*P36 -> 3584000
C38: >> Operasi Lilin ( Duk Ops ) | Q38: =SUM(Q39:Q42) -> 49170000
C39: -Uang Saku | F39: [ | G39: 30 | H39: Org | I39: x | J39: 11 | K39: Hr | L39: ] | N39: =G39*J39 -> 330 | O39: OH | P39: 40000 | Q39: =N39*P39 -> 13200000
C40: -Dana Satuan | F40: [ | G40: =G39 -> 30 | H40: Org | I40: x | J40: 11 | K40: Hr | L40: ] | N40: =G40*J40 -> 330 | O40: OH | P40: 19000 | Q40: =N40*P40 -> 6270000
C41: -Makan Operasi | F41: [ | G41: =G40 -> 30 | H41: Org | I41: x | J41: 11 | K41: Hr | L41: ] | N41: =G41*J41 -> 330 | O41: OH | P41: 82000 | Q41: =N41*P41 -> 27060000
C42: -Bekal Kesehatan | F42: [ | G42: =G41 -> 30 | H42: Org | I42: x | J42: 11 | K42: Hr | L42: ] | N42: =G42*J42 -> 330 | O42: OH | P42: 8000 | Q42: =N42*P42 -> 2640000
A44: FV | B44: MENYELENGGARAKAN OPRASI KEWILAYAHAN | Q44: =Q46+Q58+Q70 -> 196532000 | R44: RM
A45: 521119 | B45: Belanja Barang Operasional Lainnya | Q45: =Q46 -> 83520000
B46: > | C46: OPERASI ANTIK | Q46: =Q47+Q52 -> 83520000
C47: >> DUKUNGAN OPERASIONAL | Q47: =SUM(Q48:Q51) -> 73010000
C48: - Uang Saku | F48: [ | G48: 35 | H48: Org | I48: x | J48: 14 | K48: Hari | L48: ] | N48: =G48*J48 -> 490 | O48: OH | P48: 40000 | Q48: =P48*N48 -> 19600000
C49: - Uang Makan | F49: [ | G49: 35 | H49: Org | I49: x | J49: 14 | K49: Hari | L49: ] | N49: =G49*J49 -> 490 | O49: OH | P49: 82000 | Q49: =N49*P49 -> 40180000
C50: - Dana Satuan | F50: [ | G50: 35 | H50: Org | I50: x | J50: 14 | K50: Hari | L50: ] | N50: =G50*J50 -> 490 | O50: OH | P50: 19000 | Q50: =P50*N50 -> 9310000
C51: - Bekkes | F51: [ | G51: 35 | H51: Org | I51: x | J51: 14 | K51: Hari | L51: ] | N51: =G51*J51 -> 490 | O51: OH | P51: 8000 | Q51: =P51*N51 -> 3920000
C52: >> LAT PRA OPS | Q52: =SUM(Q53:Q56) -> 10510000
C53: - UANG MAKAN | F53: [ | G53: 35 | H53: Org | I53: x | J53: 2 | K53: Hari | L53: ] | N53: =G53*J53 -> 70 | O53: OH | P53: 82000 | Q53: =P53*N53 -> 5740000
C54: - SNACK/DRINK | F54: [ | G54: 35 | H54: Org | I54: x | J54: 2 | K54: Hari | L54: ] | N54: =G54*J54 -> 70 | O54: OH | P54: 29000 | Q54: =N54*P54 -> 2030000
C55: - ALINS/ALONGINS | F55: [ | G55: 35 | H55: Org | I55: x | J55: 2 | K55: Hari | L55: ] | N55: =G55*J55 -> 70 | O55: OH | P55: 22000 | Q55: =P55*N55 -> 1540000
C56: - HONOR INSTRUKTUR | F56: [ | G56: 4 | H56: Org | I56: x | J56: 2 Jp | K56: x | L56: 2 | M56: Hri ] | N56: 16 | O56: OJP | P56: 75000 | Q56: =P56*N56 -> 1200000
B58: > | C58: OPERASI SIKAT | Q58: =Q59+Q64 -> 52712000
C59: >> DUKUNGAN OPERASIONAL | Q59: =SUM(Q60:Q63) -> 45892000
C60: - UANG MAKAN OPERASI | F60: [ | G60: 22 | H60: Org | I60: x | J60: 14 | K60: Hari | L60: ] | N60: =G60*J60 -> 308 | O60: OH | P60: 82000 | Q60: =P60*N60 -> 25256000
C61: - UANG SAKU | F61: [ | G61: 22 | H61: Org | I61: x | J61: 14 | K61: Hari | L61: ] | N61: =G61*J61 -> 308 | O61: OH | P61: 40000 | Q61: =N61*P61 -> 12320000
C62: - DANA SATUAN | F62: [ | G62: 22 | H62: Org | I62: x | J62: 14 | K62: Hari | L62: ] | N62: =G62*J62 -> 308 | O62: OH | P62: 19000 | Q62: =P62*N62 -> 5852000
C63: - BEKKES | F63: [ | G63: 22 | H63: Org | I63: x | J63: 14 | K63: Hari | L63: ] | N63: =G63*J63 -> 308 | O63: OH | P63: 8000 | Q63: =P63*N63 -> 2464000
C64: >> LAT PRA OPS | Q64: =SUM(Q65:Q68) -> 6820000
C65: - UANG MAKAN | F65: [ | G65: 20 | H65: Org | I65: x | J65: 2 | K65: Hari | L65: ] | N65: =G65*J65 -> 40 | O65: OH | P65: 82000 | Q65: =P65*N65 -> 3280000
C66: - SNACK/DRINK | F66: [ | G66: 20 | H66: Org | I66: x | J66: 2 | K66: Hari | L66: ] | N66: =G66*J66 -> 40 | O66: OH | P66: 29000 | Q66: =N66*P66 -> 1160000
C67: - ALINS/ALONGINS | F67: [ | G67: 20 | H67: Org | I67: x | J67: 2 | K67: Hari | L67: ] | N67: =G67*J67 -> 40 | O67: OH | P67: 22000 | Q67: =P67*N67 -> 880000
C68: - HONOR INSTRUKTUR | F68: [ | G68: 5 | H68: Org | I68: x | J68: 2 Jp | K68: x | L68: 2 | M68: Hri ] | N68: 20 | O68: OJP | P68: 75000 | Q68: =P68*N68 -> 1500000
B70: > | C70: OPERASI PEKAT | Q70: =Q71+Q76 -> 60300000
C71: >> DUKUNGAN OPERASIONAL | Q71: =SUM(Q72:Q75) -> 52150000
C72: - UANG MAKAN OPERASI | F72: [ | G72: 25 | H72: Org | I72: x | J72: 14 | K72: Hari | L72: ] | N72: =G72*J72 -> 350 | O72: OH | P72: 82000 | Q72: =P72*N72 -> 28700000
C73: - UANG SAKU | F73: [ | G73: 25 | H73: Org | I73: x | J73: 14 | K73: Hari | L73: ] | N73: =G73*J73 -> 350 | O73: OH | P73: 40000 | Q73: =N73*P73 -> 14000000
C74: - DANA SATUAN | F74: [ | G74: 25 | H74: Org | I74: x | J74: 14 | K74: Hari | L74: ] | N74: =G74*J74 -> 350 | O74: OH | P74: 19000 | Q74: =P74*N74 -> 6650000
C75: - BEKKES | F75: [ | G75: 25 | H75: Org | I75: x | J75: 14 | K75: Hari | L75: ] | N75: =G75*J75 -> 350 | O75: OH | P75: 8000 | Q75: =P75*N75 -> 2800000
C76: >> LAT PRA OPS | Q76: =SUM(Q77:Q80) -> 8150000
C77: - UANG MAKAN | F77: [ | G77: 25 | H77: Org | I77: x | J77: 2 | K77: Hari | L77: ] | N77: =G77*J77 -> 50 | O77: OH | P77: 82000 | Q77: =P77*N77 -> 4100000
C78: - SNACK/DRINK | F78: [ | G78: 25 | H78: Org | I78: x | J78: 2 | K78: Hari | L78: ] | N78: =G78*J78 -> 50 | O78: OH | P78: 29000 | Q78: =N78*P78 -> 1450000
C79: - ALINS/ALONGINS | F79: [ | G79: 25 | H79: Org | I79: x | J79: 2 | K79: Hari | L79: ] | N79: =G79*J79 -> 50 | O79: OH | P79: 22000 | Q79: =P79*N79 -> 1100000
C80: - HONOR INSTRUKTUR | F80: [ | G80: 5 | H80: Org | I80: x | J80: 2 Jp | K80: x | L80: 2 | M80: Hri ] | N80: 20 | O80: OJP | P80: 75000 | Q80: =P80*N80 -> 1500000
A82: 3133 | B82: Peningkatan Pelayanan Keamanan dan Keselamatan Masyarakat di Bidang Lantas | Q82: =Q83 -> 248115000
A83: 3133.994 | B83: PELAKSANAAN HARKAMTIBMAS | N83: 12 | O83: LAPORAN | Q83: =Q84 -> 248115000
A84: 003 | B84: Dukungan Operasional Pertahanan dan Keamanan | Q84: =Q85 -> 248115000
A85: FV | B85: MENYELENGGARAKAN OPERASI KEPOLISIAN | Q85: =Q86 -> 248115000
A86: 521219 | B86: Belanja Barang Non Operasional Lainnya | Q86: =Q87+Q93+Q99 -> 248115000 | R86: PNBP
B87: > | C87: Operasi Simpatik 2020 | Q87: =SUM(Q88:Q92) -> 108003000
C88: - Uang Saku | F88: [ | G88: 37 | H88: Org | I88: x | J88: 21 | K88: Hr | L88: ] | N88: =G88*J88 -> 777 | O88: OH | P88: 35000 | Q88: =N88*P88 -> 27195000
C89: - Dana Satuan | F89: [ | G89: =G88 -> 37 | H89: Org | I89: x | J89: 21 | K89: Hr | L89: ] | N89: =G89*J89 -> 777 | O89: OH | P89: 7000 | Q89: =N89*P89 -> 5439000
C90: - Kodal | F90: [ | G90: =G89 -> 37 | H90: Org | I90: x | J90: 21 | K90: Hr | L90: ] | N90: =G90*J90 -> 777 | O90: OH | P90: 7000 | Q90: =N90*P90 -> 5439000
C91: - Makan Ops | F91: [ | G91: =G90 -> 37 | H91: Org | I91: x | J91: 21 | K91: Hr | L91: ] | N91: =G91*J91 -> 777 | O91: OH | P91: 82000 | Q91: =N91*P91 -> 63714000
C92: - Bekal Kesehatan | F92: [ | G92: =G91 -> 37 | H92: Org | I92: x | J92: 21 | K92: Hr | L92: ] | N92: =G92*J92 -> 777 | O92: OH | P92: 8000 | Q92: =N92*P92 -> 6216000
B93: > | C93: Operasi Patuh 2020 | Q93: =SUM(Q94:Q98) -> 70056000
C94: - Uang Saku | F94: [ | G94: 36 | H94: Org | I94: x | J94: 14 | K94: Hr | L94: ] | N94: =G94*J94 -> 504 | O94: OH | P94: 35000 | Q94: =N94*P94 -> 17640000
C95: - Dana Satuan | F95: [ | G95: =G94 -> 36 | H95: Org | I95: x | J95: 14 | K95: Hr | L95: ] | N95: =G95*J95 -> 504 | O95: OH | P95: 7000 | Q95: =N95*P95 -> 3528000
C96: - Kodal | F96: [ | G96: =G95 -> 36 | H96: Org | I96: x | J96: 14 | K96: Hr | L96: ] | N96: =G96*J96 -> 504 | O96: OH | P96: 7000 | Q96: =N96*P96 -> 3528000
C97: - Makan Ops | F97: [ | G97: =G96 -> 36 | H97: Org | I97: x | J97: 14 | K97: Hr | L97: ] | N97: =G97*J97 -> 504 | O97: OH | P97: 82000 | Q97: =N97*P97 -> 41328000
C98: - Bekal Kesehatan | F98: [ | G98: =G97 -> 36 | H98: Org | I98: x | J98: 14 | K98: Hr | L98: ] | N98: =G98*J98 -> 504 | O98: OH | P98: 8000 | Q98: =N98*P98 -> 4032000
B99: > | C99: Operasi Zebra 2020 | Q99: =SUM(Q100:Q104) -> 70056000
C100: - Uang Saku | F100: [ | G100: 36 | H100: Org | I100: x | J100: 14 | K100: Hr | L100: ] | N100: =G100*J100 -> 504 | O100: OH | P100: 35000 | Q100: =N100*P100 -> 17640000
C101: - Dana Satuan | F101: [ | G101: =G100 -> 36 | H101: Org | I101: x | J101: 14 | K101: Hr | L101: ] | N101: =G101*J101 -> 504 | O101: OH | P101: 7000 | Q101: =N101*P101 -> 3528000
C102: - Kodal | F102: [ | G102: =G101 -> 36 | H102: Org | I102: x | J102: 14 | K102: Hr | L102: ] | N102: =G102*J102 -> 504 | O102: OH | P102: 7000 | Q102: =N102*P102 -> 3528000
C103: - Makan Ops | F103: [ | G103: =G102 -> 36 | H103: Org | I103: x | J103: 14 | K103: Hr | L103: ] | N103: =G103*J103 -> 504 | O103: OH | P103: 82000 | Q103: =N103*P103 -> 41328000
C104: - Bekal Kesehatan | F104: [ | G104: =G103 -> 36 | H104: Org | I104: x | J104: 14 | K104: Hr | L104: ] | N104: =G104*J104 -> 504 | O104: OH | P104: 8000 | Q104: =N104*P104 -> 4032000
A106: 5080 | B106: Pengendalian Operasi Kepolisian | Q106: =Q107 -> 116220000
A107: 5080.002 | B107: Layanan Pengendalian Operasional Kepolisian | N107: 12 | O107: BLN | Q107: =Q108 -> 116220000
A108: 003 | B108: Dukungan Operasional Pertahanan dan Keamanan | Q108: =Q109+Q123 -> 116220000
A109: TT | B109: OPERASI TERPUSAT LILIN | Q109: =Q110 -> 53640000
A110: 521119 | B110: Belanja Barang Operasional Lainnya | Q110: =Q111+Q117 -> 53640000 | R110: RM
...

Sheet SUMDA
A1: KEPOLISIAN NEGARA REPUBLIK INDONESIA
A2: DAERAH SULAWESI BARAT
A3: RESORT POLEWALI MANDAR
A4: JL. Dr. Ratulangi No. 17 Polewali 91314
A6: RENCANA PENDISTRIBUSIAN ANGGARAN (RENDISGAR) TAHUN 2020
A7: BAG SUMDA
A10: No | B10: Tahapan Pelaksanaan dan Rincian Komponen Biaya | N10: Volume | O10: Satuan | P10: Biaya | Q10: Jumlah | R10: SD/CP
O11: Ukur | P11: Satuan Ukur
A12: 1 | B12: 2 | N12: 3 | O12: 5 | P12: 6 | Q12: 7
A13: 060.01.01 | B13: Program Dukungan Manajemen dan Pelaksanaan Tugas Teknis Lainnya Polri | Q13: =Q14 -> 32300000
A14: 3073 | B14: Dukungan Pelayanan Internal perkantoran Polri | Q14: =Q15+Q21 -> 32300000
A15: 3073.001 | B15: Layanan Dukungan Manajemen Internal Perkantoran | N15: 12 | O15: BLN | Q15: =Q16 -> 17000000
A16: 003 | B16: Dukungan Operasional Pertahanan dan Keamanan | Q16: =Q17 -> 17000000
A17: DY | B17: KEGIATAN PEMBINAAN | Q17: =Q19 -> 17000000
A18: 521119 | B18: Belanja barang operasional lainnya | Q18: =Q19 -> 17000000 | R18: RM
C19: - GIAT MINPERS | N19: 1 | O19: THN | P19: 17000000 | Q19: =P19 -> 17000000
A21: 3073.994 | B21: Layanan Perkantoran | N21: 12 | O21: BLN | Q21: =Q22 -> 15300000
A22: 002 | B22: Operasional Dan Pemeliharaan Kantor | Q22: =Q23 -> 15300000
A23: BX | B23: PENGADAAN PERALATAN / PERLENGKAPAN KANTOR POLRES | Q23: =Q24 -> 15300000
A24: 521811 | B24: Belanja Keperluan Perkantoran | Q24: =Q25 -> 15300000 | R24: RM
B25: >> | C25: Bekal Kantor | Q25: =Q26 -> 15300000
C26: - BAG SUMDA | N26: 10 | O26: OT | P26: 1530000 | Q26: =N26*P26 -> 15300000
A28: 060.01.10 | B28: PROGRAM PEMELIHARAAN KEAMANAN DAN KETERTIBAN MASYARAKAT | Q28: =Q29+Q90+Q114 -> 138800000
A29: 3128 | B29: Dukungan Manajemen dan Teknis Pemeliharaan Keamanan dan Ketertiban Masyarakat | Q29: =Q30 -> 138800000
A30: 3128.001 | B30: Layanan Dukungan Manajemen Dan Teknis Harkamtibmas (Base Line) | N30: 12 | O30: BLN | Q30: =Q335+Q31 -> 138800000
A31: 003 | B31: Dukungan Operasional Pertahanan dan Keamanan | Q31: =Q32 -> 138800000
A32: FT | B32: DUKOPSNAL POLRES | Q32: =Q33 -> 138800000
A33: 521119 | B33: Belanja Barang Operasional Lainnya | Q33: =Q34 -> 138800000 | R33: RM
B34: > | C34: DUKUNGAN OPERASIONAL | Q34: =Q35+Q39+Q44+Q49 -> 138800000
C35: >> Supervisi Ke Polsek ( Bag Sumda ) | Q35: =Q36+Q37 -> 19700000
C36: -Uang harian | D36: [ | E36: 10 | F36: Org | G36: x | H36: 4 | I36: Hr | J36: x | K36: 3 | L36: Giat | M36: ] | N36: =K36*H36*E36 -> 120 | O36: OH | P36: 160000 | Q36: =N36*P36 -> 19200000
C37: -Dukmin | D37: [ | F37: 3 | G37: Giat | L37: ] | N37: 2 | O37: GIAT | P37: 250000 | Q37: =N37*P37 -> 500000
C39: >> Pelatihan VCD Fungsi | Q39: =SUM(Q40:Q42) -> 44400000
C40: - Extra Fooding Latfung | D40: ( | E40: 60 | F40: ORG | G40: x | H40: 6 | I40: Giat | J40: x | K40: 4 | L40: Hari | M40: ) | N40: =E40*H40*K40 -> 1440 | O40: OH | P40: 15000 | Q40: =N40*P40 -> 21600000
C41: - Honor Latfung | D41: ( | E41: 8 | F41: JP | G41: x | H41: 6 | I41: GIAT | J41: x | K41: 4 | L41: KLS | M41: ) | N41: =E41*H41*K41 -> 192 | O41: OJ | P41: 100000 | Q41: =N41*P41 -> 19200000
C42: - Dukmin Latfung | E42: 6 | F42: Giat | N42: =E42 -> 6 | O42: Giat | P42: 600000 | Q42: =N42*P42 -> 3600000
C44: >> Biaya Sosialisasi | Q44: =SUM(Q45:Q47) -> 19500000
C45: - Makan | D45: 100 | E45: Org | F45: x | G45: 1 | H45: Hari | I45: x | J45: 3 | K45: Giat | N45: =D45*G45*J45 -> 300 | O45: OG | P45: 45000 | Q45: =N45*P45 -> 13500000
C46: - Snack | D46: 100 | E46: Org | F46: x | G46: 1 | H46: Hari | I46: x | J46: 3 | K46: Giat | N46: =D46*G46*J46 -> 300 | O46: OG | P46: 15000 | Q46: =N46*P46 -> 4500000
C47: - Dukmin | H47: 3 | I47: Giat | N47: =H47 -> 3 | P47: 500000 | Q47: =N47*P47 -> 1500000
C49: >> Giat Pembinaan Rohani dan Mental / Binrohtal | Q49: =SUM(Q50:Q52) -> 55200000
C50: - Snack | D50: ( | E50: 60 | F50: Org | G50: x | H50: 48 | I50: Giat | J50: x | K50: 1 | L50: Hari | M50: ) | N50: =E50*H50*K50 -> 2880 | O50: OH | P50: 15000 | Q50: =N50*P50 -> 43200000
C51: - Honor Pemateri | D51: ( | E51: 1 | F51: Org | G51: x | H51: 1 | I51: JP | J51: x | K51: 48 | L51: Giat | M51: ) | N51: =E51*H51*K51 -> 48 | O51: OH | P51: 100000 | Q51: =N51*P51 -> 4800000
C52: - Dukmin | E52: 48 | F52: Giat | N52: =E52 -> 48 | O52: Giat | P52: 150000 | Q52: =N52*P52 -> 7200000
B54: J U M L A H | Q54: =Q28+Q13 -> 171100000

Sheet REN
A1: KEPOLISIAN NEGARA REPUBLIK INDONESIA
A2: DAERAH SULAWESI BARAT
A3: RESORT POLEWALI MANDAR
A4: JL. Dr. Ratulangi No. 17 Polewali 91314
A6: RENCANA PENDISTRIBUSIAN ANGGARAN (RENDISGAR) TAHUN 2020
A7: BAG REN
A9: No | B9: Tahapan Pelaksanaan dan Rincian Komponen Biaya | N9: Volume | O9: Satuan | P9: Biaya | Q9: Jumlah | R9: SD/CP
O10: Ukur | P10: Satuan Ukur
A11: 1 | B11: 2 | N11: 3 | O11: 5 | P11: 6 | Q11: 7
A12: 060.01.01 | B12: Program Dukungan Manajemen dan Pelaksanaan Tugas Teknis Lainnya Polri | Q12: =Q13+Q31 -> 112820000
A13: 3073 | B13: Dukungan Pelayanan Internal perkantoran Polri | Q13: =Q14+Q24 -> 103020000
A14: 3073.001 | B14: Layanan Dukungan Manajemen Internal Perkantoran | N14: 12 | O14: BLN | Q14: =Q15 -> 81600000
A15: 003 | B15: Dukungan Operasional Pertahanan dan Keamanan | Q15: =Q16+Q20 -> 81600000
A16: AF | B16: PERENCANAAN PROGRAM DAN ANGGARAN | Q16: =Q17 -> 78000000
A17: 521119 | B17: Belanja perjalanan biasa | Q17: =Q18 -> 78000000 | R17: RM
B18: > | C18: Giat Bag Ren Satker | N18: 1 | O18: THN | P18: 78000000 | Q18: =N18*P18 -> 78000000
A20: JZ | B20: HONORARIUM SAI/SAKPA/SIMAK/SMAP/PENGELOLA KEUANGAN | Q20: =Q21 -> 3600000
A21: 521115 | B21: Belanja Honor Operasional Satuan Kerja | Q21: =Q22 -> 3600000 | R21: RM
B22: > | C22: Honor Operator Smap | D22: [ | E22: 1 | F22: org | G22: x | H22: 12 | I22: bln | J22: ] | N22: =E22*H22 -> 12 | O22: OB | P22: 300000 | Q22: =N22*P22 -> 3600000
A24: 3073.994 | B24: Layanan Perkantoran | N24: 12 | O24: BLN | Q24: =Q25 -> 21420000
A25: 002 | B25: Operasional Dan Pemeliharaan Kantor | Q25: =Q26 -> 21420000
A26: BX | B26: PENGADAAN PERALATAN / PERLENGKAPAN KANTOR POLRES | Q26: =Q27 -> 21420000
A27: 521811 | B27: Belanja Keperluan Perkantoran | Q27: =Q28 -> 21420000 | R27: RM
B28: >> | C28: Bekal Kantor | Q28: =Q29 -> 21420000
C29: - BAG REN | N29: 14 | O29: OT | P29: 1530000 | Q29: =N29*P29 -> 21420000
A31: 5051 | B31: Penyusunan Kebijakan Polri | Q31: =Q32 -> 9800000
A32: 5051.001 | B32: Penyusunan Naskah Kebijakan Polri | Q32: =Q33 -> 9800000
A33: 003 | B33: Dukungan Operasional Pertahanan dan Keamanan | Q33: =Q34 -> 9800000
A34: E | B34: PENYUSUNAN PROGRAM, ANGGARAN DAN RENCANA KERJA | Q34: =Q35 -> 9800000
A35: 521211 | B35: Belanja barang operasional lainnya | Q35: =Q36+Q40+Q44 -> 9800000 | R35: RM
B36: > | C36: Biaya Rapat Pokja dan Susun Ran Renja T.A. 2021 | Q36: =Q37+Q38+Q39 -> 3500000
C37: - Makan | D37: [ | E37: 10 | F37: Org | G37: x | H37: 5 | I37: Hr | J37: ] | N37: =E37*H37 -> 50 | O37: OH | P37: 46000 | Q37: =N37*P37 -> 2300000
C38: - Snack | D38: [ | E38: 10 | F38: Org | G38: x | H38: 5 | I38: Hr | J38: ] | N38: =E38*H38 -> 50 | O38: OH | P38: 16000 | Q38: =N38*P38 -> 800000
C39: - ATK / Dokumentasi | N39: 1 | O39: GIAT | P39: 400000 | Q39: =N39*P39 -> 400000
B40: > | C40: Biaya Rapat Pokja dan Susun Renja T.A. 2021 | Q40: =Q41+Q42+Q43 -> 3500000
C41: - Makan | D41: [ | E41: 10 | F41: Org | G41: x | H41: 5 | I41: Hr | J41: ] | N41: =E41*H41 -> 50 | O41: OH | P41: 46000 | Q41: =N41*P41 -> 2300000
C42: - Snack | D42: [ | E42: 10 | F42: Org | G42: x | H42: 5 | I42: Hr | J42: ] | N42: =E42*H42 -> 50 | O42: OH | P42: 16000 | Q42: =N42*P42 -> 800000
C43: - ATK / Dokumentasi | N43: 1 | O43: GIAT | P43: 400000 | Q43: =N43*P43 -> 400000
B44: > | C44: Biaya Rapat Pokja dan Susun Rengiat T.A. 2021 | Q44: =Q45+Q46+Q47 -> 2800000
C45: - Makan | D45: [ | E45: 8 | F45: Org | G45: x | H45: 5 | I45: Hr | J45: ] | N45: =E45*H45 -> 40 | O45: OH | P45: 46000 | Q45: =N45*P45 -> 1840000
C46: - Snack | D46: [ | E46: 8 | F46: Org | G46: x | H46: 5 | I46: Hr | J46: ] | N46: =E46*H46 -> 40 | O46: OH | P46: 16000 | Q46: =N46*P46 -> 640000
C47: - ATK / Dokumentasi | N47: 1 | O47: GIAT | P47: 320000 | Q47: =N47*P47 -> 320000
A49: 060.01.10 | B49: PROGRAM PEMELIHARAAN KEAMANAN DAN KETERTIBAN MASYARAKAT | Q49: =Q50 -> 132366000
A50: 3128 | B50: Dukungan Manajemen dan Teknis Pemeliharaan Keamanan dan Ketertiban Masyarakat | Q50: =Q51 -> 132366000
A51: 3128.001 | B51: Layanan Dukungan Manajemen Dan Teknis Harkamtibmas (Base Line) | N51: 12 | O51: BLN | Q51: =Q52 -> 132366000
A52: 003 | B52: Dukungan Operasional Pertahanan dan Keamanan | Q52: =Q53+Q64 -> 132366000
A53: G | B53: PENYUSUNAN DAN EVALUASI LKIP | Q53: =Q55+Q59 -> 7200000
A54: 521211 | B54: Belanja Bahan | Q54: =Q55+Q59 -> 7200000 | R54: RM
B55: > | C55: BIAYA RAPAT POKJA DAN SUSUN LKIP T.A. 2019 | Q55: =Q56+Q57+Q58 -> 3600000
C56: - Makan | D56: [ | E56: 10 | F56: Org | G56: x | H56: 5 | I56: Hr | J56: ] | N56: 50 | O56: OH | P56: 47000 | Q56: =N56*P56 -> 2350000
C57: - Snack | D57: [ | E57: =E56 -> 10 | F57: Org | G57: x | H57: 5 | I57: Hr | J57: ] | N57: 50 | O57: OH | P57: 20000 | Q57: =N57*P57 -> 1000000
C58: - Dukmin | N58: 1 | O58: GIAT | P58: 250000 | Q58: =N58*P58 -> 250000
B59: > | C59: BIAYA RAPAT POKJA DAN SUSUN TAPJA T.A. 2019 | Q59: =Q60+Q61+Q62 -> 3600000
C60: - Makan | D60: [ | E60: 10 | F60: Org | G60: x | H60: 5 | I60: Hr | J60: ] | N60: 50 | O60: OH | P60: 47000 | Q60: =N60*P60 -> 2350000
C61: - Snack | D61: [ | E61: =E60 -> 10 | F61: Org | G61: x | H61: 5 | I61: Hr | J61: ] | N61: 50 | O61: OH | P61: 20000 | Q61: =N61*P61 -> 1000000
C62: - Dukmin | N62: 1 | O62: GIAT | P62: 250000 | Q62: =N62*P62 -> 250000
A64: FT | B64: DUKOPSNAL POLRES | Q64: =Q65 -> 125166000
A65: 521119 | B65: Belanja Barang Operasional Lainnya | Q65: =Q66 -> 125166000 | R65: RM
B66: > | C66: DUKUNGAN OPERASIONAL | Q66: =Q67+Q71+Q76+Q81+Q86+Q91+Q96+Q101+Q106+Q111 -> 125166000
C67: >> Biaya Perjalanan Dinas Supervisi Ke Polsek ( Bag Ren ) | Q67: =Q68+Q69 -> 21480000
C68: -Uang harian | D68: [ | E68: 8 | F68: Org | G68: x | H68: 4 | I68: Hr | J68: x | K68: 4 | L68: Giat | M68: ] | N68: =K68*H68*E68 -> 128 | O68: OH | P68: 160000 | Q68: =N68*P68 -> 20480000
C69: -Dukmin | D69: [ | F69: 4 | G69: Giat | L69: ] | N69: =F69 -> 4 | O69: GIAT | P69: 250000 | Q69: =N69*P69 -> 1000000
C71: >> Biaya Rapat Pokja Sun Rendisgar TA. 2018 | Q71: =SUM(Q72:Q74) -> 9140000
C72: - Makan | D72: 48 | E72: Org | F72: x | G72: 3 | H72: Hr | I72: x | J72: 1 | K72: Giat | N72: =D72*G72*J72 -> 144 | O72: OG | P72: 45000 | Q72: =N72*P72 -> 6480000
C73: - Snack | D73: 48 | E73: Org | F73: x | G73: 3 | H73: Hr | I73: x | J73: 1 | K73: Giat | N73: =D73*G73*J73 -> 144 | O73: OG | P73: 15000 | Q73: =N73*P73 -> 2160000
C74: - Dukmin | N74: 1 | O74: GIAT | P74: 500000 | Q74: =N74*P74 -> 500000
C76: >> Biaya Anev Anggaran | Q76: =SUM(Q77:Q79) -> 13520000
C77: - Makan | D77: 48 | E77: Org | F77: x | G77: 1 | H77: x | I77: 4 | J77: Giat | N77: =D77*G77*I77 -> 192 | O77: OG | P77: 45000 | Q77: =N77*P77 -> 8640000
C78: - Snack | D78: 48 | E78: Org | F78: x | G78: 1 | H78: x | I78: 4 | J78: Giat | N78: =D78*G78*I78 -> 192 | O78: OG | P78: 15000 | Q78: =N78*P78 -> 2880000
C79: - Dukmin | H79: 4 | I79: Giat | N79: 4 | O79: GIAT | P79: 500000 | Q79: =N79*P79 -> 2000000
C81: >> Biaya Anev Quick Wins | Q81: =SUM(Q82:Q84) -> 13520000
C82: - Makan | D82: 48 | E82: Org | F82: x | G82: 1 | H82: x | I82: 4 | J82: Giat | N82: =D82*G82*I82 -> 192 | O82: OG | P82: 45000 | Q82: =N82*P82 -> 8640000
C83: - Snack | D83: 48 | E83: Org | F83: x | G83: 1 | H83: x | I83: 4 | J83: Giat | N83: =D83*G83*I83 -> 192 | O83: OG | P83: 15000 | Q83: =N83*P83 -> 2880000
C84: - Dukmin | H84: 4 | I84: Giat | N84: 4 | O84: GIAT | P84: 500000 | Q84: =N84*P84 -> 2000000
C86: >> Biaya Sosialisasi | Q86: =SUM(Q87:Q89) -> 25320000
C87: - Makan | D87: 62 | E87: Org | F87: x | G87: 1 | H87: x | I87: 6 | J87: Giat | N87: =D87*G87*I87 -> 372 | O87: OG | P87: 45000 | Q87: =N87*P87 -> 16740000
C88: - Snack | D88: 62 | E88: Org | F88: x | G88: 1 | H88: x | I88: 6 | J88: Giat | N88: =D88*G88*I88 -> 372 | O88: OG | P88: 15000 | Q88: =N88*P88 -> 5580000
C89: - Dukmin | H89: 6 | I89: Giat | N89: =H89 -> 6 | O89: GIAT | P89: 500000 | Q89: =N89*P89 -> 3000000
C91: >> Biaya Rapat dengan Kaurmintu/Kasium | Q91: =SUM(Q92:Q94) -> 7260000
C92: - Makan | D92: 32 | E92: Org | F92: x | G92: 1 | H92: x | I92: 3 | J92: Giat | N92: =D92*G92*I92 -> 96 | O92: OG | P92: 45000 | Q92: =N92*P92 -> 4320000
C93: - Snack | D93: 32 | E93: Org | F93: x | G93: 1 | H93: x | I93: 3 | J93: Giat | N93: =D93*G93*I93 -> 96 | O93: OG | P93: 15000 | Q93: =N93*P93 -> 1440000
C94: - Dukmin | H94: 3 | I94: Giat | N94: =H94 -> 3 | O94: GIAT | P94: 500000 | Q94: =N94*P94 -> 1500000
C96: >> Biaya Rapat Sun Pagu Ideal TA. 2020 | Q96: =SUM(Q97:Q99) -> 6010000
C97: - Makan | D97: 48 | E97: Org | F97: x | G97: 2 | H97: Hr | I97: x | J97: 1 | K97: Giat | N97: =D97*G97*J97 -> 96 | O97: OG | P97: 45000 | Q97: =N97*P97 -> 4320000
C98: - Snack | D98: 48 | E98: Org | F98: x | G98: 2 | H98: Hr | I98: x | J98: 1 | K98: Giat | N98: =D98*G98*J98 -> 96 | O98: OG | P98: 15000 | Q98: =N98*P98 -> 1440000
C99: - Dukmin | N99: 1 | O99: GIAT | P99: 250000 | Q99: =N99*P99 -> 250000
C101: >> Biaya Rapat Sun TOR/ RAB Ta. 2019 | Q101: =SUM(Q102:Q104) -> 17780000
C102: - Makan | D102: 48 | E102: Org | F102: x | G102: 2 | H102: Hr | I102: x | J102: 3 | K102: Giat | N102: =D102*G102*J102 -> 288 | O102: OG | P102: 45000 | Q102: =N102*P102 -> 12960000
C103: - Snack | D103: 48 | E103: Org | F103: x | G103: 2 | H103: Hr | I103: x | J103: 3 | K103: Giat | N103: =D103*G103*J103 -> 288 | O103: OG | P103: 15000 | Q103: =N103*P103 -> 4320000
C104: - Dukmin | N104: 1 | O104: GIAT | P104: 500000 | Q104: =N104*P104 -> 500000
C106: >> Biaya Rapat IKU Satker | Q106: =SUM(Q107:Q109) -> 3130000
C107: - Makan | D107: 48 | E107: Org | F107: x | G107: 1 | H107: Hr | I107: x | J107: 1 | K107: Giat | N107: =D107*G107*J107 -> 48 | O107: OG | P107: 45000 | Q107: =N107*P107 -> 2160000
C108: - Snack | D108: 48 | E108: Org | F108: x | G108: 1 | H108: Hr | I108: x | J108: 1 | K108: Giat | N108: =D108*G108*J108 -> 48 | O108: OG | P108: 15000 | Q108: =N108*P108 -> 720000
C109: - Dukmin | N109: 1 | O109: GIAT | P109: 250000 | Q109: =N109*P109 -> 250000
C111: >> Biaya Rapat Sun Renstra Satker 2020 -2024 | Q111: =SUM(Q112:Q114) -> 8006000
C112: - Makan | D112: 42 | E112: Org | F112: x | G112: 3 | H112: Hr | I112: x | J112: 1 | K112: Giat | N112: =D112*G112*J112 -> 126 | O112: OG | P112: 45000 | Q112: =N112*P112 -> 5670000
C113: - Snack | D113: 42 | E113: Org | F113: x | G113: 3 | H113: Hr | I113: x | J113: 1 | K113: Giat | N113: =D113*G113*J113 -> 126 | O113: OG | P113: 15000 | Q113: =N113*P113 -> 1890000
C114: - Dukmin | N114: 1 | O114: GIAT | P114: 446000 | Q114: =N114*P114 -> 446000
B116: J U M L A H | Q116: =Q49+Q12 -> 245186000

Sheet BINMAS
A1: KEPOLISIAN NEGARA REPUBLIK INDONESIA
A2: DAERAH SULAWESI BARAT
A3: RESORT POLEWALI MANDAR
A4: JL. Dr. Ratulangi No. 17 Polewali 91314
A6: RENCANA PENDISTRIBUSIAN ANGGARAN (RENDISGAR) TAHUN 2020
A7: SAT BINMAS
A10: No | B10: Tahapan Pelaksanaan dan Rincian Komponen Biaya | N10: Volume | O10: Satuan | P10: Biaya | Q10: Jumlah | R10: SD/CP
O11: Ukur | P11: Satuan Ukur
A12: 1 | B12: 2 | N12: 3 | O12: 5 | P12: 6 | Q12: 7
A13: 060.01.01 | B13: Program Dukungan Manajemen dan Pelaksanaan Tugas Teknis Lainnya Polri | Q13: =Q14 -> 7650000
A14: 3073 | B14: Dukungan Pelayanan Internal perkantoran Polri | Q14: =Q15 -> 7650000
A15: 3073.994 | B15: Layanan Perkantoran | N15: 12 | O15: BLN | Q15: =Q16 -> 7650000
A16: 002 | B16: Operasional Dan Pemeliharaan Kantor | Q16: =Q17 -> 7650000
A17: BX | B17: PENGADAAN PERALATAN / PERLENGKAPAN KANTOR POLRES | Q17: =Q18 -> 7650000
A18: 521811 | B18: Belanja Keperluan Perkantoran | Q18: =Q19 -> 7650000 | R18: RM
B19: >> | C19: Bekal Kantor | N19: =SUM(N20:N20) -> 5 | O19: OT | P19: 1530000 | Q19: =N19*P19 -> 7650000
C20: - SAT BINMAS | N20: 5 | O20: OT | P20: 1530000 | Q20: =N20*P20 -> 7650000
A22: 060.01.09 | B22: PROGRAM PEMBERDAYAAN POTENSI KEAMANAN | Q22: =Q23 -> 1829995000
A23: 5076 | B23: Pembinaan Potensi Keamanan | Q23: =Q24 -> 1829995000
A24: 5076.002 | B24: Pemberdayaan Potensi Keamanan | N24: 12 | O24: BLN | Q24: =Q25 -> 1829995000
A25: 003 | B25: Dukungan Operasional Pertahanan dan Keamanan | Q25: =Q26+Q47+Q54+Q59+Q77+Q87+Q94 -> 1829995000
A26: FM | B26: PERTEMUAN KEMITRAAN POLISI DAN MASYARAKAT (POLRES) | Q26: =Q27 -> 108512000
A27: 521119 | B27: Belanja Barang Operasional Lainnya | Q27: =Q28+Q34+Q40 -> 108512000 | R27: RM
B28: > | C28: BIMBINGAN DAN PENYULUHAN MASYARAKAT | Q28: =Q29 -> 30356000
B29: >> | C29: POLRES | Q29: =SUM(Q30:Q33) -> 30356000
C30: - Uang Saku | D30: ( | E30: 6 | F30: Org | G30: x | H30: 47 | I30: giat | J30: ) | N30: =E30*H30 -> 282 | O30: OG | P30: 22000 | Q30: =N30*P30 -> 6204000
C31: - Uang Makan | D31: ( | E31: 6 | F31: Org | G31: x | H31: 47 | I31: giat | J31: ) | N31: =E31*H31 -> 282 | O31: OG | P31: 31000 | Q31: =N31*P31 -> 8742000
C32: - Dana Satuan | D32: ( | E32: 6 | F32: Org | G32: x | H32: 47 | I32: giat | J32: ) | N32: =E32*H32 -> 282 | O32: OG | P32: 5000 | Q32: =N32*P32 -> 1410000
C33: - Sarana Kontak | N33: 1 | O33: THN | P33: 14000000 | Q33: =N33*P33 -> 14000000
B34: > | C34: BIMBINGAN DAN PENYULUHAN NARKOBA | Q34: =Q35 -> 15896000
B35: >> | C35: POLRES | Q35: =SUM(Q36:Q39) -> 15896000
C36: - Uang Saku | D36: ( | E36: 6 | F36: Org | G36: x | H36: 27 | I36: giat | J36: ) | N36: =E36*H36 -> 162 | O36: OG | P36: 22000 | Q36: =N36*P36 -> 3564000
C37: - Dana Makan | D37: ( | E37: 6 | F37: Org | G37: x | H37: 27 | I37: giat | J37: ) | N37: =E37*H37 -> 162 | O37: OG | P37: 31000 | Q37: =N37*P37 -> 5022000
C38: - Dana Satuan | D38: ( | E38: 6 | F38: Org | G38: x | H38: 27 | I38: giat | J38: ) | N38: =E38*H38 -> 162 | O38: OG | P38: 5000 | Q38: =N38*P38 -> 810000
C39: - Sarana Kontak | N39: 1 | O39: THN | P39: 6500000 | Q39: =N39*P39 -> 6500000
B40: > | C40: BIMBINGAN DAN PENYULUHAN OLEH SANTRI POLRI | Q40: =Q41 -> 62260000
B41: >> | C41: POLRES | Q41: =SUM(Q42:Q45) -> 62260000
C42: - Uang Saku | D42: ( | E42: 10 | F42: Org | G42: x | H42: 57 | I42: giat | J42: ) | N42: =E42*H42 -> 570 | O42: OG | P42: 22000 | Q42: =N42*P42 -> 12540000
C43: - Dana Makan | D43: ( | E43: 10 | F43: Org | G43: x | H43: 57 | I43: giat | J43: ) | N43: =E43*H43 -> 570 | O43: OG | P43: 31000 | Q43: =N43*P43 -> 17670000
C44: - Dana Satuan | D44: ( | E44: 10 | F44: Org | G44: x | H44: 57 | I44: giat | J44: ) | N44: =E44*H44 -> 570 | O44: OG | P44: 5000 | Q44: =N44*P44 -> 2850000
C45: - Sarana Kontak | N45: 1 | O45: THN | P45: 29200000 | Q45: =N45*P45 -> 29200000
A47: IW | B47: OPERASIONAL BHABINKAMTIBMAS | Q47: =Q48 -> 1112580000
A48: 521119 | B48: Belanja Barang Operasional Lainnya | Q48: =Q50+Q52 -> 1112580000 | R48: RM
B49: > | C49: DUKUNGAN OPERASIONAL
C50: >> Bhabinkamtibmas | D50: ( | E50: 68 | F50: Org | G50: x | H50: 249 | I50: Hari | J50: ) | N50: 16932 | O50: ORG | P50: 65000 | Q50: =N50*P50 -> 1100580000
A51: 521119 | B51: Belanja Barang Operasional Lainnya | Q51: =Q52 -> 12000000 | R51: PNBP
C52: >> Biaya Pulsa Bhabinkamtibmas | D52: ( | E52: 10 | F52: UNIT | G52: x | H52: 12 | I52: BLN | J52: ) | N52: 120 | O52: ORG | P52: 100000 | Q52: =N52*P52 -> 12000000
A54: IX | B54: OPERASI BINMAS | Q54: =Q55 -> 154512000
A55: 521119 | B55: Belanja Barang Operasional Lainnya | Q55: =Q57 -> 154512000
B56: > | C56: OPERASI BINMAS | Q56: =Q57 -> 154512000
C57: >> Operasi Binmas | N57: 2 | O57: GIAT | P57: 77256000 | Q57: =N57*P57 -> 154512000 | R57: RM
A59: IY | B59: FOCUS GROUP DISCUSSION (FGD) | Q59: =Q60 -> 412380000
A60: 521211 | B60: Belanja Bahan | Q60: =Q61+Q65+Q72+Q74 -> 412380000 | R60: PNBP
B61: > | C61: FOCUS GROUP DISCUSSION (FGD) | Q61: =Q62+Q63+Q64 -> 312480000
C62: - Makan | D62: ( | E62: 120 | F62: Org | G62: x | H62: 1 | I62: HR | J62: X | K62: 12 | L62: GIAT | M62: ) | N62: 1440 | O62: OK | P62: 47000 | Q62: =N62*P62 -> 67680000
C63: - Snack | D63: ( | E63: 120 | F63: Org | G63: x | H63: 1 | I63: HR | J63: x | K63: 12 | L63: GIAT | M63: ) | N63: 1440 | O63: OK | P63: 20000 | Q63: =N63*P63 -> 28800000
C64: - Transportasi | D64: ( | E64: 120 | F64: Org | G64: x | H64: 12 | I64: GIAT | J64: ) | N64: 1440 | O64: OK | P64: 150000 | Q64: =N64*P64 -> 216000000
B65: > | C65: HONORARIUM | Q65: =SUM(Q66:Q71) -> 79200000
C66: - Penanggung Jawab | D66: ( | E66: 1 | F66: Org | G66: x | H66: 1 | I66: HR | J66: X | K66: 12 | L66: GIAT | M66: ) | N66: 12 | O66: OK | P66: 450000 | Q66: =N66*P66 -> 5400000
C67: - Ketua | D67: ( | E67: 1 | F67: Org | G67: x | H67: 1 | I67: HR | J67: x | K67: 12 | L67: GIAT | M67: ) | N67: 12 | O67: OK | P67: 300000 | Q67: =N67*P67 -> 3600000
C68: - Sekretaris/Anggota | D68: ( | E68: 11 | F68: Org | G68: x | H68: 1 | I68: HR | J68: x | K68: 12 | L68: GIAT | M68: ) | N68: 132 | O68: OK | P68: 300000 | Q68: =N68*P68 -> 39600000
C69: - Narasumber | D69: ( | E69: 2 | F69: Org | G69: x | H69: 1 | I69: HR | J69: x | K69: 12 | L69: GIAT | M69: ) | N69: 24 | O69: OK | P69: 900000 | Q69: =N69*P69 -> 21600000
C70: - Moderator | D70: ( | E70: 1 | F70: Org | G70: x | H70: 1 | I70: HR | J70: x | K70: 12 | L70: GIAT | M70: ) | N70: 12 | O70: OK | P70: 250000 | Q70: =N70*P70 -> 3000000
C71: - Spanduk/Baliho | N71: 12 | O71: GIAT | P71: 500000 | Q71: =N71*P71 -> 6000000
B72: > | C72: PROBLEM SOLVING POLRES | Q72: =Q73 -> 4500000
C73: - Problem Solving Polres | N73: 30 | O73: KKS | P73: 150000 | Q73: =N73*P73 -> 4500000
B74: > | C74: PROBLEM SOLVING POLSEK | Q74: =Q75 -> 16200000
C75: - Problem Solving Polsek | D75: ( 9 | E75: SEK | F75: x | G75: 12 | H75: Giat | I75: ) | N75: 108 | O75: giat | P75: 150000 | Q75: =N75*P75 -> 16200000
A77: UK | B77: KEGIATAN I PROGRAM QUICK WINS | Q77: =Q78 -> 19656000
A78: 521119 | B78: Belanja Barang Operasional Lainnya | Q78: =Q79 -> 19656000 | R78: RM
B79: > | C79: Penertiban dan Penegakan Hukum Bagi Organisasi Radikal dan Anti Pancasila | Q79: =Q80+Q82 -> 19656000
C80: >>Silaturahmi ke Tokoh-Tokoh Masyarakat (TOGA, TODA, TOMAS) | Q80: =Q81 -> 8064000
C81: - Polres | D81: ( | E81: 2 | F81: Org | G81: x | H81: 96 | I81: Giat | J81: ) | N81: =E81*H81 -> 192 | O81: OG | P81: 42000 | Q81: =N81*P81 -> 8064000
C82: > Rapat Koordinasi | Q82: =SUM(Q83:Q85) -> 11592000
C83: - Makan Rapat | D83: ( | E83: 12 | F83: Org | G83: x | H83: 1 | I83: hr | J83: x | K83: 12 | L83: Giat | M83: ) | N83: 144 | O83: OK | P83: 47000 | Q83: =P83*N83 -> 6768000
C84: - Snack Rapat | D84: ( | E84: 12 | F84: Org | G84: x | H84: 1 | I84: hr | J84: x | K84: 12 | L84: Giat | M84: ) | N84: 144 | O84: OK | P84: 20000 | Q84: =P84*N84 -> 2880000
C85: - Pembuatan Laporan | N85: 12 | O85: GIAT | P85: 162000 | Q85: =P85*N85 -> 1944000
A87: UM | B87: KEGIATAN III PROGRAM QUICK WINS | Q87: =Q88 -> 19215000
A88: 521119 | B88: Belanja Barang Operasional Lainnya | Q88: =Q89 -> 19215000 | R88: RM
B89: > | C89: Aksi Nasional Pembersihan Preman dan Premanisme | Q89: =SUM(Q90:Q92) -> 19215000
C90: - Uang Saku | D90: ( | E90: 5 | F90: org | G90: x | H90: 63 | I90: Hr | J90: ) | N90: 315 | O90: OH | P90: 22000 | Q90: =P90*N90 -> 6930000
C91: - Uang Makan | D91: ( | E91: 5 | F91: org | G91: x | H91: 63 | I91: Hr | J91: ) | N91: 315 | O91: OH | P91: 34000 | Q91: =P91*N91 -> 10710000
C92: - Dana Satuan | D92: ( | E92: 5 | F92: org | G92: x | H92: 63 | I92: Hr | J92: ) | N92: 315 | O92: OH | P92: 5000 | Q92: =P92*N92 -> 1575000
A94: UP | B94: KEGIATAN VI PROGRAM QUICK WINS | Q94: =Q95 -> 3140000
A95: 521119 | B95: Belanja Barang Operasional Lainnya | Q95: =Q96 -> 3140000 | R95: RM
B96: > | C96: Polisi sebagai Penggerak Revolusi Mental dan Pelopor Tertib Sosial Diruang publik | Q96: =Q97+Q98+Q99+Q100 -> 3140000
C97: - Snack | D97: ( 40 Org x 2 Giat x 1 Kali ) | N97: 80 | O97: OK | P97: 18000 | Q97: =N97*P97 -> 1440000
C98: - Uang Harian | D98: ( 2 Org x 2 Giat x 1 Kali ) | N98: 4 | O98: OK | P98: 150000 | Q98: =N98*P98 -> 600000
C99: - Uang Transportasi | D99: ( 2 Org x 2 Giat x 1 Kali ) | N99: 4 | O99: OK | P99: 200000 | Q99: =N99*P99 -> 800000
C100: - Dukmin | N100: 1 | O100: THN | P100: 300000 | Q100: =N100*P100 -> 300000
B102: JUMLAH | Q102: =Q13+Q22 -> 1837645000

Sheet IK
A1: KEPOLISIAN NEGARA REPUBLIK INDONESIA
A2: DAERAH SULAWESI BARAT
A3: RESORT POLEWALI MANDAR
A4: JL. Dr. Ratulangi No. 17 Polewali 91314
A6: RENCANA PENDISTRIBUSIAN ANGGARAN (RENDISGAR) TAHUN 2020
A7: SAT INTEL
A9: No | B9: Tahapan Pelaksanaan dan Rincian Komponen Biaya | N9: Volume | O9: Satuan | P9: Biaya | Q9: Jumlah | R9: SD/CP
O10: Ukur | P10: Satuan Ukur
A11: 1 | B11: 2 | N11: 3 | O11: 5 | P11: 6 | Q11: 7
A12: 060.01.01 | B12: Program Dukungan Manajemen dan Pelaksanaan Tugas Teknis Lainnya Polri | Q12: =Q13 -> 7650000
A13: 3073 | B13: Dukungan Pelayanan Internal perkantoran Polri | Q13: =Q14 -> 7650000
A14: 3073.994 | B14: Layanan Perkantoran | N14: 12 | O14: BLN | Q14: =Q15 -> 7650000
A15: 002 | B15: Operasional Dan Pemeliharaan Kantor | Q15: =Q16 -> 7650000
A16: BX | B16: PENGADAAN PERALATAN / PERLENGKAPAN KANTOR POLRES | Q16: =Q17 -> 7650000
A17: 521811 | B17: Belanja Keperluan Perkantoran | Q17: =Q18 -> 7650000 | R17: RM
B18: >> | C18: Bekal Kantor | N18: =SUM(N19:N19) -> 5 | O18: OT | P18: 1530000 | Q18: =N18*P18 -> 7650000
C19: - SAT INTELKAM | N19: 5 | O19: OT | P19: 1530000 | Q19: =N19*P19 -> 7650000
A21: 060.01.07 | B21: PROGRAM PENGEMBANGAN STRATEGI KEAMANAN DAN KETERTIBAN | Q21: =Q22+Q49+Q62+Q93+Q124+Q155 -> 1579579000
A22: 3111 | B22: Dukungan Manajemen dan Teknis Strategi Keamanan dan Ketertiban | Q22: =Q23 -> 72760000
A23: 3111.001 | B23: Layanan Dukungan Manejemen dan Teknis Strategi Keamanan dan Ketertiban | N23: 12 | O23: BLN | Q23: =Q24 -> 72760000
A24: 003 | B24: Dukungan Operasional Pertahanan dan Keamanan | Q24: =Q25+Q32+Q36+Q40+Q45 -> 72760000
A25: B | B25: HONOR PNBP | Q25: =Q27+Q29 -> 8400000
A26: 521115 | B26: Belanja Honor Operasional satuan kerja | Q26: =Q27+Q29 -> 8400000 | R26: PNBP
B27: > | C27: HONOR PEMBANTU BENDAHARA PENERIMAAN | Q27: =Q28 -> 4200000
C28: - HONOR PBK SKCK POLRES | G28: [ | H28: 1 | I28: Org | J28: x | K28: 12 | L28: Bln | M28: ] | N28: =H28*K28 -> 12 | O28: OB | P28: 350000 | Q28: =P28*N28 -> 4200000
B29: > | C29: HONOR PELAKSANA SKCK | Q29: =SUM(Q30:Q30) -> 4200000
C30: - POLRES | G30: [ | H30: 1 | I30: Org | J30: x | K30: 12 | L30: Bln | M30: ] | N30: =H30*K30 -> 12 | O30: OB | P30: 350000 | Q30: =P30*N30 -> 4200000
A32: BM | B32: OPRASIONAL DAN PEMELIHARAAN JAR. SISTEM INFORMASI | Q32: =Q33 -> 3600000
A33: 523133 | B33: Belanja Pemeliharaan Jaringan | Q33: =Q34 -> 3600000 | R33: PNBP
C34: - HAR JARINGAN SKCK ONLINE | N34: 1 | O34: THN | P34: 3600000 | Q34: =N34*P34 -> 3600000
A36: BX | B36: PENGADAAN PERALATAN / PERLENGKAPAN KANTOR (POLRES) | Q36: =Q37 -> 15000000
A37: 521811 | B37: Belanja Keperluan Perkantoran | Q37: =Q38 -> 15000000 | R37: PNBP
C38: - ATK SKCK Sat Intel | N38: 1 | O38: THN | P38: 15000000 | Q38: =N38*P38 -> 15000000
A40: FS | B40: DUKUNGAN OPERASIONAL SATKER | Q40: =Q41 -> 2400000
A41: 521119 | B41: Belanja Barang Operasional Lainnya | Q41: =Q43 -> 2400000 | R41: PNBP
B42: > | C42: Dukungan Pulsa Personal Digital Assistant (PDA)
C43: - Polres | D43: ( | E43: 2 | F43: UNIT | G43: x | H43: 12 | I43: BLN | J43: ) | N43: =E43*H43 -> 24 | O43: UNIT | P43: 100000 | Q43: =N43*P43 -> 2400000
A45: KQ | B45: DETEKSI / DETEKSI AKSI ( POLRES ) | Q45: =Q46 -> 43360000
A46: 521119 | B46: Belanja Barang Opeasional Lainnya | Q46: =Q47 -> 43360000 | R46: RM
B47: > | C47: GIAT DETEKSI INTELEJEN | N47: 1 | O47: THN | P47: 43360000 | Q47: =N47*P47 -> 43360000
A49: 3112 | B49: Analisis Keamanan | Q49: =Q50 -> 193515000
A50: 3112.001 | B50: Layanan Informasi Analisis Keamanan | N50: 12 | O50: BLN | Q50: =Q51 -> 193515000
A51: 003 | B51: Dukungan Operasional Pertahanan dan Keamanan | Q51: =Q52 -> 193515000
A52: EE | B52: PENDATAAN DAN PENGAWASAN PELAKU TINDAK PIDANA | Q52: =Q53 -> 193515000
A53: 521119 | B53: Belanja Barang Operasional Lainnya | Q53: =Q55+Q57 -> 193515000 | R53: RM
B54: > | C54: Analisis Keamanan
C55: >> Giat Analisis Intelijen | Q55: =Q56 -> 187845000
C56: - Pembuatan Naskah | N56: 7 | O56: NSKH | P56: 26835000 | Q56: =N56*P56 -> 187845000
C57: >> Honor Penganalisa/ Penelaah | Q57: =SUM(Q58:Q60) -> 5670000
C58: - Analisis Utama | D58: ( | E58: 7 | F58: org | G58: x | H58: 6 | I58: jam | J58: ) | N58: =E58*H58 -> 42 | O58: OJ | P58: 50000 | Q58: =N58*P58 -> 2100000
C59: - Analisis Madya | D59: ( | E59: 7 | F59: org | G59: x | H59: 6 | I59: jam | J59: ) | N59: =E59*H59 -> 42 | O59: OJ | P59: 45000 | Q59: =N59*P59 -> 1890000
C60: - Analisis Pratama | D60: ( | E60: 7 | F60: org | G60: x | H60: 6 | I60: jam | J60: ) | N60: =E60*H60 -> 42 | O60: OJ | P60: 40000 | Q60: =N60*P60 -> 1680000
A62: 3114 | B62: Penyelenggaraan Strategi Keamanan dan Ketertiban Bidang Politik | Q62: =Q63 -> 275135000
A63: 3114.001 | B63: Informasi Deteksi Aksi Strategi Keamanan dan Ketertiban Bidang Politik | N63: 12 | O63: BLN | Q63: =Q64 -> 275135000
A64: 003 | B64: Dukungan Operasional Pertahanan dan Keamanan | Q64: =Q65+Q86+Q89 -> 275135000
A65: DZ | B65: STRATEGI KEAMANAN DAN KETERTIBAN BIDANG POLITIK | Q65: =Q66+Q84 -> 164785000
A66: 521119 | B66: Belanja Barang Opeasional Lainnya | Q66: =Q67+Q73 -> 163490000 | R66: RM
B67: > | C67: Giat Intelijen | Q67: =Q68+Q71 -> 4554000
C68: >> Pulbaket Polres | Q68: =Q69+Q70 -> 2190000
C69: - Laporan Info | N69: 8 | O69: Lap | P69: 135000 | Q69: =N69*P69 -> 1080000
C70: - Laporan Infosus | N70: 6 | O70: Lap | P70: 185000 | Q70: =N70*P70 -> 1110000
C71: >> Laporan Intelijen | Q71: =Q72 -> 2364000
C72: - Pembuatan Berkas | N72: 12 | O72: BRKS | P72: 197000 | Q72: =N72*P72 -> 2364000
B73: > | C73: Giat Taktis Intelijen | Q73: =Q74+Q76+Q78+Q81 -> 158936000
C74: >> Deteksi/ Lidik | Q74: =SUM(Q75:Q75) -> 19026000
C75: - Polres | D75: ( | E75: 3 | F75: org | G75: x | H75: 6 | I75: hr | J75: ) | N75: =E75*H75 -> 18 | O75: OH | P75: 1057000 | Q75: =N75*P75 -> 19026000
C76: >> Pengamanan Intelijen | Q76: =Q77 -> 10872000
C77: - PAM Intelijen | D77: ( | E77: 3 | F77: org | G77: x | H77: 4 | I77: hr | J77: ) | N77: =E77*H77 -> 12 | O77: OH | P77: 906000 | Q77: =N77*P77 -> 10872000
C78: >> Pembinaan dan Pembentukan Jaringan Intelijen | Q78: =Q79+Q80 -> 18688000
C79: - Bina Jaringan | N79: 1 | O79: Giat | P79: 9408000 | Q79: =N79*P79 -> 9408000
C80: - Bentuk Jaringan | N80: 1 | O80: Giat | P80: 9280000 | Q80: =N80*P80 -> 9280000
C81: >> Penggalangan Intelijen | Q81: =Q82+Q83 -> 110350000
C82: - Giat Penggalangan Individu | N82: 2 | O82: Giat | P82: 22956000 | Q82: =N82*P82 -> 45912000
C83: - Giat Penggalangan Kelompok | N83: 2 | O83: Giat | P83: 32219000 | Q83: =N83*P83 -> 64438000
A84: 521119 | B84: Belanja Barang Opeasional Lainnya | Q84: =Q85 -> 1295000 | R84: PNBP
B85: > | C85: Produk - produk Intelijen berupa Pembuatan Infosus Bidang Politik | N85: 7 | O85: Lap | P85: 185000 | Q85: =N85*P85 -> 1295000
A86: VA | B86: PENGGALANGAN INTELIJEN SASARAN PERORANGAN KHUSUS POLRES | Q86: =Q87 -> 45912000
A87: 521119 | B87: Belanja Barang Opeasional Lainnya | Q87: =Q88 -> 45912000 | R87: RM
B88: > | C88: GIAT PENGGALANGAN KHUSUS | N88: 2 | O88: Giat | P88: 22956000 | Q88: =N88*P88 -> 45912000
A89: VB | B89: PENGGALANGAN INTELEJEN SASARAN KELOMPOK KHUSUS POLRES | Q89: =Q90 -> 64438000
A90: 521119 | B90: Belanja Barang Opeasional Lainnya | Q90: =Q91 -> 64438000 | R90: RM
B91: > | C91: GIAT PENGGALANGAN KHUSUS | N91: 2 | O91: Giat | P91: 32219000 | Q91: =N91*P91 -> 64438000
A93: 3115 | B93: Penyelenggaraan Strategi Keamanan dan Ketertiban Bidang Ekonomi | Q93: =Q94 -> 236673000
A94: 3115.001 | B94: Informasi Deteksi Aksi Strategi Keamanan dan Ketertiban Bidang Ekonomi | N94: 12 | O94: BLN | Q94: =Q95 -> 236673000
A95: 003 | B95: Dukungan Operasional Pertahanan dan Keamanan | Q95: =Q96+Q117+Q120 -> 236673000
A96: EA | B96: STRATEGI KEAMANAN DAN KETERTIBAN BIDANG EKONOMI | Q96: =Q97+Q115 -> 181498000
A97: 521119 | B97: Belanja Barang Opeasional Lainnya | Q97: =Q98+Q104 -> 180203000 | R97: RM
B98: > | C98: Giat Intelijen | Q98: =Q99+Q102 -> 4959000
C99: >> Pulbaket Polres | Q99: =Q100+Q101 -> 2595000
C100: - Laporan Info | N100: 11 | O100: Lap | P100: 135000 | Q100: =N100*P100 -> 1485000
C101: - Laporan Infosus | N101: 6 | O101: Lap | P101: 185000 | Q101: =N101*P101 -> 1110000
C102: >> Laporan Intelijen | Q102: =Q103 -> 2364000
C103: - Pembuatan Berkas | N103: 12 | O103: BRKS | P103: 197000 | Q103: =N103*P103 -> 2364000
B104: > | C104: Giat Taktis Intelijen | Q104: =Q105+Q107+Q109+Q112 -> 175244000
C105: >> Deteksi/ Lidik | Q105: =SUM(Q106:Q106) -> 31710000
C106: - Polres | D106: ( | E106: 3 | F106: org | G106: x | H106: 10 | I106: hr | J106: ) | N106: =E106*H106 -> 30 | O106: OH | P106: 1057000 | Q106: =N106*P106 -> 31710000
C107: >> Pengamanan Intelijen | Q107: =Q108 -> 14496000
C108: - PAM Intelijen | D108: ( | E108: 4 | F108: org | G108: x | H108: 4 | I108: hr | J108: ) | N108: =E108*H108 -> 16 | O108: OH | P108: 906000 | Q108: =N108*P108 -> 14496000
C109: >> Pembinaan dan Pembentukan Jaringan Intelijen | Q109: =Q110+Q111 -> 18688000
C110: - Bina Jaringan | N110: 1 | O110: Giat | P110: 9408000 | Q110: =N110*P110 -> 9408000
...

Sheet RESKRIM
A1: KEPOLISIAN NEGARA REPUBLIK INDONESIA
A2: DAERAH SULAWESI BARAT
A3: RESORT POLEWALI MANDAR
A4: JL. Dr. Ratulangi No. 17 Polewali 91314
A6: RENCANA PENDISTRIBUSIAN ANGGARAN (RENDISGAR) TAHUN 2020
A7: SAT RESKRIM
A9: No | B9: Tahapan Pelaksanaan dan Rincian Komponen Biaya | N9: Volume | O9: Satuan | P9: Biaya | Q9: Jumlah | R9: SD/CP
O10: Ukur | P10: Satuan Ukur
A11: 1 | B11: 2 | N11: 3 | O11: 5 | P11: 6 | Q11: 7
A12: 060.01.01 | B12: Program Dukungan Manajemen dan Pelaksanaan Tugas Teknis Lainnya Polri | Q12: =Q13 -> 7650000
A13: 3073 | B13: Dukungan Pelayanan Internal perkantoran Polri | Q13: =Q14 -> 7650000
A14: 3073.994 | B14: Layanan Perkantoran | N14: 12 | O14: BLN | Q14: =Q15 -> 7650000
A15: 002 | B15: Operasional Dan Pemeliharaan Kantor | Q15: =Q16 -> 7650000
A16: BX | B16: PENGADAAN PERALATAN / PERLENGKAPAN KANTOR POLRES | Q16: =Q17 -> 7650000
A17: 521811 | B17: Belanja Keperluan Perkantoran | Q17: =Q18 -> 7650000 | R17: RM
B18: >> | C18: Bekal Kantor | N18: =SUM(N19:N19) -> 5 | O18: OT | P18: 1530000 | Q18: =N18*P18 -> 7650000
C19: - SAT RESKRIM | N19: 5 | O19: OT | P19: 1530000 | Q19: =N19*P19 -> 7650000
A21: 060.01.11 | B21: PROGRAM PENYELIDIKAN DAN PENYIDIKAN TINDAK PIDANA | Q21: =Q22+Q32+Q62 -> 1688281000
A22: 3140 | B22: Penyelenggaraan Identifikasi Penyelidikan dan Penyidikan Tindak Pidana | Q22: =Q23 -> 23515000
A23: 3140.001 | B23: Hasil Pemeriksaan Identifikasi | N23: 12 | O23: BLN | Q23: =Q24 -> 23515000
A24: 003 | B24: Dukungan Operasional Pertahanan dan Keamanan | Q24: =Q25 -> 23515000
A25: HF | B25: PENYELENGGARAAN IDENTIFIKASI PENYELIDIKAN DAN PENYIDIKAN | Q25: =Q27 -> 23515000
B26: TINDAK PIDANA
A27: 521119 | B27: Belanja barang operasional lainnya | Q27: =Q28 -> 23515000 | R27: RM
B28: > | C28: BANTEK IDENTIFIKASI | Q28: =Q30+Q29 -> 23515000
C29: - BANTEK IDENTIFIKASI DALAM LIDIK SIDIK TINDAK PIDANA | N29: 13 | O29: GIAT | P29: 1699000 | Q29: =N29*P29 -> 22087000
C30: - BANTEK IDENTIFIKASI DALAM LIDIK SIDIK TINDAK PIDANA | N30: 1 | O30: GIAT | P30: 1428000 | Q30: =N30*P30 -> 1428000
A32: 3142 | B32: Penindakan Tindak Pidana Umum | Q32: =Q34+Q117 -> 1271695000
A33: 3142.001 | B33: Penanganan Tidak Pidana Umum | Q33: =Q34 -> 1271695000
A34: 003 | B34: Dukungan Operasional Pertahanan dan Keamanan | Q34: =Q35+Q47+Q51+Q57 -> 1271695000
A35: HL | B35: TINDAK PIDANA UMUM POLRES | Q35: =Q36 -> 1246485000
A36: 521119 | B36: Belanja barang operasional lainnya | Q36: =Q37+Q43 -> 1246485000 | R36: RM
B37: > | C37: POLRES | Q37: =SUM(Q38:Q42) -> 1205845000
C38: - KEGIATAN SANGAT SULIT | N38: 5 | O38: KSS | P38: 31507000 | Q38: =P38*N38 -> 157535000
C39: - KEGIATAN SULIT | N39: 10 | O39: KSS | P39: 26911000 | Q39: =P39*N39 -> 269110000
C40: - KEGIATAN SEDANG | N40: 24 | O40: KSS | P40: 12710000 | Q40: =P40*N40 -> 305040000
C41: - KEGIATAN MUDAH | N41: 41 | O41: KSS | P41: 7610000 | Q41: =P41*N41 -> 312010000
C42: - TAMBAHAN KEGIATAN SULIT | N42: 6 | O42: KSS | P42: 27025000 | Q42: =P42*N42 -> 162150000
B43: > | C43: ANGGARAN MENDESAK | Q43: =Q44+Q45 -> 40640000
C44: - KEGIATAN SEDANG | N44: 2 | O44: KSS | P44: 12710000 | Q44: =P44*N44 -> 25420000
C45: - KEGIATAN MUDAH | N45: 2 | O45: KSS | P45: 7610000 | Q45: =P45*N45 -> 15220000
A47: UA | B47: VISUM LUAR (PEMERIKSAAN LUAR ORANG HIDUP) | Q47: =Q48 -> 1500000
A48: 521119 | B48: Belanja barang operasional lainnya | Q48: =Q49+Q50 -> 1500000 | R48: RM
C49: - PEMERIKSAAN LUAR ORANG HIDUP | N49: 5 | O49: KSS | P49: 300000 | Q49: =P49*N49 -> 1500000
A51: UK | B51: KEGIATAN I PROGRAM QUICK WINS | Q51: =Q52 -> 11000000
A52: 521119 | B52: Belanja Barang dan Operasional Lainya | Q52: =Q55 -> 11000000
B53: > | C53: PENERTIBAN DAN PENEGAKAN HUKUM BAGI ORGANISASI RADIKAL
C54: DAN ANTI PANCASILA
C55: - KEGIATAN SEDANG | N55: 1 | O55: KSS | P55: 11000000 | Q55: =P55*N55 -> 11000000
A57: UM | B57: KEGIATAN III PROGRAM QUICK WINS | Q57: =Q58 -> 12710000
A58: 521119 | B58: Belanja Barang dan Operasional Lainya | Q58: =Q60 -> 12710000
B59: > | C59: AKSI NASIONAL PEMBERANTASAN PREMAN DAN PREMANISME
C60: - KEGIATAN SEDANG | N60: 1 | O60: KSS | P60: 12710000 | Q60: =P60*N60 -> 12710000
A62: 3146 | B62: Penindakan Tindak Pidana Korupsi | Q62: =Q63 -> 393071000
A63: 3146.001 | B63: Penanganan Tindak Pidana Korupsi | N63: 2 | O63: KASUS | Q63: =Q64 -> 393071000
A64: 003 | B64: Dukungan Operasional dan Keamanan | Q64: =Q66 -> 393071000
A65: HP | B65: TINDAK PIDANA KORUPSI
A66: 521119 | B66: Belanja barang operasional lainnya | Q66: =Q67+Q68 -> 393071000 | R66: RM
B67: - | C67: PENYELIDIKAN DAN PENYIDIKAN TINDAK PIDANA KORUPSI | N67: 1 | O67: KSS | P67: 208071000 | Q67: =N67*P67 -> 208071000
B68: - | C68: TINDAK PIDANA KORUPSI | N68: 1 | O68: KSS | P68: 185000000 | Q68: =N68*P68 -> 185000000
B70: JUMLAH | Q70: =Q21+Q12 -> 1695931000

Sheet LANTAS
A1: KEPOLISIAN NEGARA REPUBLIK INDONESIA
A2: DAERAH SULAWESI BARAT
A3: RESORT POLEWALI MANDAR
A4: JL. Dr. Ratulangi No. 17 Polewali 91314
A6: 9RENCANA PENDISTRIBUSIAN ANGGARAN (RENDISGAR) TAHUN 2020
A7: SAT LANTAS
A9: No | B9: Tahapan Pelaksanaan dan Rincian Komponen Biaya | N9: Volume | O9: Satuan | P9: Biaya | Q9: Jumlah | R9: SD/CP
O10: Ukur | P10: Satuan Ukur
A11: 1 | B11: 2 | N11: 3 | O11: 5 | P11: 6 | Q11: 7
A12: 060.01.01 | B12: Program Dukungan Manajemen dan Pelaksanaan Tugas Teknis Lainnya Polri | Q12: =Q13 -> 9180000
A13: 3073 | B13: Dukungan Pelayanan Internal perkantoran Polri | Q13: =Q14 -> 9180000
A14: 3073.994 | B14: Layanan Perkantoran | N14: 12 | O14: BLN | Q14: =Q15 -> 9180000
A15: 002 | B15: Operasional Dan Pemeliharaan Kantor | Q15: =Q16 -> 9180000
A16: BX | B16: PENGADAAN PERALATAN / PERLENGKAPAN KANTOR POLRES | Q16: =Q17 -> 9180000
A17: 521811 | B17: Belanja Keperluan Perkantoran | Q17: =Q18 -> 9180000 | R17: RM
B18: >> | C18: Bekal Kantor | N18: =SUM(N19:N19) -> 6 | O18: OT | P18: 1530000 | Q18: =N18*P18 -> 9180000
C19: - SAT LANTAS | N19: 6 | O19: OT | P19: 1530000 | Q19: =N19*P19 -> 9180000
A21: 060.01.10 | B21: PROGRAM PEMELIHARAAN KEAMANAN DAN KETERTIBAN MASYARAKAT | Q21: =Q22 -> 745519000
A22: 3133 | B22: Peningkatan Pelayanan Keamanan dan Keselamatan Masyarakat di Bidang Lantas | Q22: =Q23 -> 745519000
A23: 3133.994 | B23: PELAKSANAAN HARKAMTIBMAS | N23: 12 | O23: LAPORAN | Q23: =Q24 -> 745519000
A24: 003 | B24: Dukungan Operasional Pertahanan dan Keamanan | Q24: =Q25+Q41+Q49+Q62+Q68 -> 745519000
A25: B | B25: HONOR PNBP | Q25: =Q26 -> 149120000
A26: 521115 | B26: Honor operasional satuan kerja | Q26: =Q27+Q29+Q31+Q36+Q38 -> 149120000 | R26: PNBP
B27: > | C27: Honor Petugas Pelaksana SIM | Q27: =Q28 -> 21600000
B28: - | C28: Level II | F28: [ | G28: 6 | H28: Org | I28: x | J28: 12 | K28: Bln | L28: ] | N28: =G28*J28 -> 72 | O28: OB | P28: 300000 | Q28: =N28*P28 -> 21600000
B29: > | C29: Honor Petugas Pelaksana Samsat : | Q29: =Q30 -> 25200000
B30: - | C30: Samsat Type B1 | F30: [ | G30: 6 | H30: Org | I30: x | J30: 12 | K30: Bln | L30: ] | N30: =G30*J30 -> 72 | O30: OB | P30: 350000 | Q30: =N30*P30 -> 25200000
B31: > | C31: Honor Pembantu Bendahara Penerimaan | Q31: =SUM(Q32:Q35) -> 16320000
B32: - | C32: Honor PBP SIM | F32: [ | G32: 1 | H32: Org | I32: x | J32: 12 | K32: Bln | L32: ] | N32: =G32*J32 -> 12 | O32: OB | P32: 370000 | Q32: =N32*P32 -> 4440000
B33: - | C33: Honor PBP TNKB | F33: [ | G33: 1 | H33: Org | I33: x | J33: 12 | K33: Bln | L33: ] | N33: =G33*J33 -> 12 | O33: OB | P33: 250000 | Q33: =N33*P33 -> 3000000
B34: - | C34: Honor PBP BPKB | F34: [ | G34: 1 | H34: Org | I34: x | J34: 12 | K34: Bln | L34: ] | N34: =G34*J34 -> 12 | O34: OB | P34: 370000 | Q34: =N34*P34 -> 4440000
B35: - | C35: Honor PBP STNK /STCK | F35: [ | G35: 1 | H35: Org | I35: x | J35: 12 | K35: Bln | L35: ] | N35: =G35*J35 -> 12 | O35: OB | P35: 370000 | Q35: =N35*P35 -> 4440000
B36: > | C36: Honor Bendahara Penerimaan | Q36: =Q37 -> 6000000
B37: - | C37: Bendahara Penerimaan | F37: [ | G37: 1 | H37: Org | I37: x | J37: 12 | K37: Bln | L37: ] | N37: =G37*J37 -> 12 | O37: OB | P37: 500000 | Q37: =N37*P37 -> 6000000
B38: > | C38: Honor Tilang | Q38: =Q39 -> 80000000
B39: - | C39: Honor Petugas Tilang | N39: 4000 | O39: SET | P39: 20000 | Q39: =N39*P39 -> 80000000
A41: DD | B41: PENGAWASAN DAN PEMBINAAN | Q41: =Q44+Q47 -> 8400000
A42: 521115 | B42: Honor Operasional Satuan Kerja | Q42: =Q44 -> 7200000 | R42: PNBP
B43: - | C43: Honor Operator Data Laka Lantas Online TA. 2018
C44: - Honor Operator | F44: ( | G44: 2 | H44: Org | I44: x | J44: 12 | K44: bln | L44: ) | N44: =G44*J44 -> 24 | O44: OB | P44: 300000 | Q44: =N44*P44 -> 7200000
A45: 521119 | B45: Belanja Barang Operasional Lainnya | Q45: =Q47 -> 1200000 | R45: PNBP
B46: - | C46: Biaya pulsa operasional tablet pendataan laka lantas TA. 2018
C47: - Biaya Pulsa | F47: ( | G47: 1 | H47: Unit | I47: x | J47: 12 | K47: bln | L47: ) | N47: =G47*J47 -> 12 | O47: UB | P47: 100000 | Q47: =N47*P47 -> 1200000
A49: GI | B49: MENYELENGGARAKAN PENGATURAN, PENGAWALAN DAN PATROLI | Q49: =Q51 -> 353952000
B50: LANTAS POLRES ( PNBP )
A51: 521119 | B51: Belanja Barang Operasional Lainnya | Q51: =Q52 -> 353952000 | R51: PNBP
B52: > | C52: POLRES : | Q52: =Q53+Q57 -> 353952000
C53: >> Pengaturan Lantas | Q53: =Q54+Q55 -> 125856000
C54: - Uang Saku | F54: [ | G54: 24 | H54: Org | I54: x | J54: 228 | K54: Giat | L54: ] | N54: =G54*J54 -> 5472 | O54: OG | P54: 18000 | Q54: =N54*P54 -> 98496000
C55: - Dana Satuan | F55: [ | G55: =G54 -> 24 | H55: Org | I55: x | J55: =J54 -> 228 | K55: Giat | L55: ] | N55: =G55*J55 -> 5472 | O55: OG | P55: 5000 | Q55: =N55*P55 -> 27360000
C57: >> Pengawalan dan Patroli Lantas | Q57: =SUM(Q58:Q60) -> 228096000
C58: - Uang Saku | F58: [ | G58: 24 | H58: Org | I58: x | J58: 144 | K58: Giat | L58: ] | N58: =G58*J58 -> 3456 | O58: OG | P58: 22000 | Q58: =N58*P58 -> 76032000
C59: - Uang Makan | F59: [ | G59: 24 | H59: Org | I59: x | J59: 144 | K59: Giat | L59: ] | N59: =G59*J59 -> 3456 | O59: OG | P59: 39000 | Q59: =N59*P59 -> 134784000
C60: - Dana Satuan | F60: [ | G60: =G58 -> 24 | H60: Org | I60: x | J60: =J58 -> 144 | K60: Giat | L60: ] | N60: =G60*J60 -> 3456 | O60: OG | P60: 5000 | Q60: =N60*P60 -> 17280000
A62: GR | B62: PENINGKATAN KUALITAS PELAYANAN PUBLIK | Q62: =Q66+Q64 -> 96619000
A63: 521119 | B63: Belanja Barang Operasional Lainnya | Q63: =Q64 -> 93619000 | R63: PNBP
B64: - | C64: DIKMAS LANTAS | N64: 1 | O64: THN | P64: 93619000 | Q64: =N64*P64 -> 93619000
A65: 521811 | B65: Belanja Keperluan Perkantoran | Q65: =Q66 -> 3000000 | R65: PNBP
B66: - | C66: CETAK BUKU SSB | N66: 60 | O66: BUKU | P66: 50000 | Q66: =N66*P66 -> 3000000
A68: GY | B68: PENYELIDIKAN DAN PENYIDIKAN LAKA LANTAS POLRES | Q68: =Q69 -> 137428000
A69: 521119 | B69: Belanja Barang Operasional Lainnya | Q69: =Q70 -> 137428000 | R69: PNBP
B70: > | C70: POLRES | Q70: =Q71+Q79 -> 137428000
C71: >> BIAYA LIDIK DAN SIDIK KESELAMATAN LAKA LANTAS | Q71: =SUM(Q72:Q78) -> 65604000
C72: - Biaya Laka Lantas Ringan | N72: 41 | O72: KSS | P72: 303000 | Q72: =N72*P72 -> 12423000
C73: - Biaya Laka Lantas Tidak Menonjol | N73: 11 | O73: KSS | P73: 1405000 | Q73: =N73*P73 -> 15455000
C74: - Kasus Tabrak Lari | N74: 6 | O74: KSS | P74: 2621000 | Q74: =N74*P74 -> 15726000
C75: - Saksi Ahli | N75: 4 | O75: OK | P75: 2000000 | Q75: =N75*P75 -> 8000000
C76: - Otopsi | N76: 2 | O76: OK | P76: 2500000 | Q76: =N76*P76 -> 5000000
C77: - Derek Besar | N77: 12 | O77: UNIT | P77: 500000 | Q77: =N77*P77 -> 6000000
C78: - Derek Kecil | N78: 12 | O78: UNIT | P78: 250000 | Q78: =N78*P78 -> 3000000
C79: >> BIAYA KASUS LAKA MENONJOL (MENINGGAL DUNIA 5 ORANG ATAU | Q79: =SUM(Q81:Q83) -> 71824000
C80: LEBIH/ORANG ASING/TNI/POLRI/VIP :
C81: - Kendaraan Bus/ Akap | N81: 2 | O81: KSS | P81: 6792000 | Q81: =N81*P81 -> 13584000
C82: - Kendaraan R4 Umum/ Angkutan Kota | N82: 5 | O82: KSS | P82: 4844000 | Q82: =N82*P82 -> 24220000
C83: - Kendaraan Umum/ Taxi/ Pribadi | N83: 9 | O83: KSS | P83: 3780000 | Q83: =N83*P83 -> 34020000
B85: JUMLAH | Q85: =Q12+Q21 -> 754699000

Sheet SABHARA
A1: KEPOLISIAN NEGARA REPUBLIK INDONESIA
A2: DAERAH SULAWESI BARAT
A3: RESORT POLEWALI MANDAR
A4: JL. Dr. Ratulangi No. 17 Polewali 91314
A6: RENCANA PENDISTRIBUSIAN ANGGARAN (RENDISGAR) TAHUN 2020
A7: SAT SABHARA
A9: No | B9: Tahapan Pelaksanaan dan Rincian Komponen Biaya | N9: Volume | O9: Satuan | P9: Biaya | Q9: Jumlah | R9: SD/CP
O10: Ukur | P10: Satuan Ukur
A11: 1 | B11: 2 | N11: 3 | O11: 5 | P11: 6 | Q11: 7
A12: 060.01.10 | B12: PROGRAM PEMELIHARAAN KEAMANAN DAN KETERTIBAN MASYARAKAT | Q12: =Q13+Q35 -> 400299000
A13: 3130 | B13: Pembinaan Pelayanan Fungsi Sabhara | Q13: =Q14 -> 316785000
A14: 3130.003 | B14: Layanan Pembinaan Fungsi Sabhara | N14: 12 | O14: BLN | Q14: =Q15 -> 316785000
A15: 003 | B15: Dukungan Operasional Pertahanan dan Keamanan | Q15: =Q16+Q26 -> 316785000
A16: IE | B16: MENYELENGGARAKAN PENGATURAN, PENGAWALAN DAN PATROLI | Q16: =Q18 -> 250257000
B17: POLRES ( PNBP )
A18: 521119 | B18: Belanja Barang Operasional Lainnya | Q18: =Q19 -> 250257000 | R18: PNBP
B19: >> | C19: TURWALI RUTIN : | Q19: =SUM(Q21:Q24) -> 250257000
C20: >POLRES : | Q20: =Q19 -> 250257000
C21: - Uang Saku | F21: [ | G21: 12 | H21: Org | I21: x | J21: 312 | K21: Giat | L21: ] | N21: =G21*J21 -> 3744 | O21: OK | P21: 22000 | Q21: =P21*N21 -> 82368000
C22: - Uang Makan | F22: [ | G22: 12 | H22: Org | I22: x | J22: 312 | K22: Giat | L22: ] | N22: =G22*J22 -> 3744 | O22: OK | P22: 39000 | Q22: =N22*P22 -> 146016000
C23: - Dana Satuan | F23: [ | G23: 12 | H23: Org | I23: x | J23: 312 | K23: Giat | L23: ] | N23: =G23*J23 -> 3744 | O23: OK | P23: 5000 | Q23: =P23*N23 -> 18720000
C24: - Dukmin | N24: 1 | O24: THN | P24: 3153000 | Q24: =P24*N24 -> 3153000
A26: UK | B26: KEGIATAN I PROGRAM QUICK WINS | Q26: =Q27 -> 66528000 | R26: RM
A27: 521119 | B27: Belanja Barang Operasional Lainnya | Q27: =Q28 -> 66528000
B28: > | C28: PENERTIBAN DAN PENEGAKAN HUKUM BAGI ORGANISASI RADIKAL | Q28: =Q30+Q49+Q53+Q57+Q61+Q65+Q69+Q73+Q77+Q81 -> 66528000
C29: DAN ANTI PANCASILA
C30: >> POLRES | Q30: =SUM(Q31:Q33) -> 66528000
C31: - Uang Saku | F31: [ | G31: 7 | H31: Org | I31: x | J31: 144 | K31: Giat | L31: ] | N31: =G31*J31 -> 1008 | O31: OG | P31: 22000 | Q31: =P31*N31 -> 22176000
C32: - Uang Makan | F32: [ | G32: 7 | H32: Org | I32: x | J32: 144 | K32: Giat | L32: ] | N32: =G32*J32 -> 1008 | O32: OG | P32: 39000 | Q32: =N32*P32 -> 39312000
C33: - Dana Satuan | F33: [ | G33: 7 | H33: Org | I33: x | J33: 144 | K33: Giat | L33: ] | N33: =G33*J33 -> 1008 | O33: OG | P33: 5000 | Q33: =P33*N33 -> 5040000
A35: 5081 | B35: Pelacakan dan Penangkalan Keamanan dan Ketertiban | Q35: =Q36 -> 83514000
A36: 5081.001 | B36: Layanan dukungan Manajemen Pelacakan dan Penangkalan [Base Line] | N36: 12 | O36: BLN | Q36: =Q37+Q43 -> 83514000
A37: 003 | B37: Dukungan Operasional Pertahanan dan Keamanan | Q37: =Q38 -> 54750000
A38: GQ | B38: PELAYANAN KESEHATAN DAN MAKAN SATWA | Q38: =Q39 -> 54750000
A39: 521112 | B39: Belanja Barang Operasional Lainnya | Q39: =Q40+Q41 -> 54750000 | R39: RM
C40: - ULP SATWA | D40: ( | E40: 2 | F40: EKOR | G40: x | H40: 365 | I40: Hr | J40: ) | N40: 730 | O40: EH | P40: 50000 | Q40: =P40*N40 -> 36500000
C41: - OBAT-OBATAN DAN SANITASI SATWA | D41: ( | E41: 2 | F41: EKOR | G41: x | H41: 365 | I41: Hr | J41: ) | N41: 730 | O41: EH | P41: 25000 | Q41: =P41*N41 -> 18250000
A43: GR | B43: PENINGKATAN KUALITAS PELAYANAN PUBLIK | Q43: =Q44 -> 28764000
A44: 521119 | B44: Belanja Barang Operasional Lainnya | Q44: =Q46+Q47+Q48 -> 28764000 | R44: RM
B45: > | C45: PATROLI DENGAN SATWA ANJING
C46: - UANG SAKU | D46: ( | E46: 3 | F46: ORG | G46: x | H46: 204 | I46: Hr | J46: ) | N46: 612 | O46: OH | P46: 22000 | Q46: =P46*N46 -> 13464000
C47: - UANG MAKAN | D47: ( | E47: 3 | F47: ORG | G47: x | H47: 204 | I47: Hr | J47: ) | N47: 612 | O47: OH | P47: 20000 | Q47: =P47*N47 -> 12240000
C48: - UANG SATUAN | D48: ( | E48: 3 | F48: ORG | G48: x | H48: 204 | I48: Hr | J48: ) | N48: 612 | O48: OH | P48: 5000 | Q48: =P48*N48 -> 3060000
B50: JUMLAH | Q50: =Q12 -> 400299000

Sheet POLAIR
A1: KEPOLISIAN NEGARA REPUBLIK INDONESIA
A2: DAERAH SULAWESI BARAT
A3: RESORT POLEWALI MANDAR
A4: JL. Dr. Ratulangi No. 17 Polewali 91314
A6: RENCANA PENDISTRIBUSIAN ANGGARAN (RENDISGAR) TAHUN 2020
A7: SAT POLAIR
A9: No | B9: Tahapan Pelaksanaan dan Rincian Komponen Biaya | N9: Volume | O9: Satuan | P9: Biaya | Q9: Jumlah | R9: SD/CP
O10: Ukur | P10: Satuan Ukur
A11: 1 | B11: 2 | N11: 3 | O11: 5 | P11: 6 | Q11: 7
A12: 060.01.01 | B12: Program Dukungan Manajemen dan Pelaksanaan Tugas Teknis Lainnya Polri | Q12: =Q13 -> 7650000
A13: 3073 | B13: Dukungan Pelayanan Internal perkantoran Polri | Q13: =Q14 -> 7650000
A14: 3073.994 | B14: Layanan Perkantoran | N14: 12 | O14: BLN | Q14: =Q15 -> 7650000
A15: 002 | B15: Operasional Dan Pemeliharaan Kantor | Q15: =Q16 -> 7650000
A16: BX | B16: PENGADAAN PERALATAN / PERLENGKAPAN KANTOR POLRES | Q16: =Q17 -> 7650000
A17: 521811 | B17: Belanja Keperluan Perkantoran | Q17: =Q18 -> 7650000 | R17: RM
B18: >> | C18: Bekal Kantor | N18: =SUM(N19:N19) -> 5 | O18: OT | P18: 1530000 | Q18: =N18*P18 -> 7650000
C19: - SAT POLAIR | N19: 5 | O19: OT | P19: 1530000 | Q19: =N19*P19 -> 7650000
A21: 060.01.10 | B21: PROGRAM PEMELIHARAAN KEAMANAN DAN KETERTIBAN MASYARAKAT | Q21: =Q22+Q35 -> 286888000
A22: 3130 | B22: Pembinaan Pelayanan Fungsi Sabhara | Q22: =Q23 -> 106000000
A23: 3130.003 | B23: Layanan Pembinaan Fungsi Sabhara | N23: 12 | O23: BLN | Q23: =Q24 -> 106000000
A24: 003 | B24: Dukungan Operasional Pertahanan dan Keamanan | Q24: =Q25 -> 106000000
A25: IE | B25: MENYELENGGARAKAN PENGATURAN, PENGAWALAN DAN PATROLI | Q25: =Q27 -> 106000000
B26: POLRES ( PNBP )
A27: 521119 | B27: Belanja Barang Operasional Lainnya | Q27: =Q28 -> 106000000 | R27: PNBP
B28: >> | C28: PATROLI PERAIRAN | Q28: =SUM(Q30:Q33) -> 106000000
C29: >POLRES : | Q29: =Q28 -> 106000000
C30: - Komandan | F30: [ | G30: 1 | H30: Org | I30: x | J30: 212 | K30: Hr | L30: ] | N30: =G30*J30 -> 212 | O30: OH | P30: 150000 | Q30: =N30*P30 -> 31800000
C31: - PA Neutika | F31: [ | G31: 1 | H31: Org | I31: x | J31: 212 | K31: Hr | L31: ] | N31: =G31*J31 -> 212 | O31: OH | P31: 100000 | Q31: =N31*P31 -> 21200000
C32: - PA Tehnik | F32: [ | G32: 1 | H32: Org | I32: x | J32: 212 | K32: Hr | L32: ] | N32: =G32*J32 -> 212 | O32: OH | P32: 100000 | Q32: =N32*P32 -> 21200000
C33: - Anggota Kapal | F33: [ | G33: 2 | H33: Org | I33: x | J33: 212 | K33: Hr | L33: ] | N33: =G33*J33 -> 424 | O33: OH | P33: 75000 | Q33: =N33*P33 -> 31800000
A35: 3134 | B35: Penyelenggaraan Kepolisian Perairan | Q35: =Q36 -> 180888000
A36: 3134.001 | B36: Layanan Dukungan Manajemen Kepolisian Perairan | N36: 12 | O36: BLN | Q36: =Q37 -> 180888000
A37: 003 | B37: Dukungan Operasional Pertahanan dan Keamanan | Q37: =Q38 -> 180888000
A38: UK | B38: KEGIATAN I PROGRAM QUICK WINS | Q38: =Q39 -> 180888000
A39: 521119 | B39: Belanja Barang Operasional Lainnya | Q39: =Q40+Q51 -> 180888000 | R39: RM
B40: > | C40: PENERTIBAN DAN PENEGAKAN HUKUM BAGI ORGANISASI RADIKAL DAN | Q40: =Q42+Q46 -> 171888000
C41: ANTI PANCASILA
C42: >> PESERTA | Q42: =SUM(Q43:Q45) -> 19584000
C43: - MAKAN | D43: ( | E43: 20 | F43: org | G43: x | H43: 1 | I43: HR | J43: x | K43: 12 | L43: giat | M43: ) | N43: =E43*H43*K43 -> 240 | O43: OG | P43: 47000 | Q43: =N43*P43 -> 11280000
C44: - SNACK | D44: ( | E44: 20 | F44: org | G44: x | H44: 1 | I44: HR | J44: x | K44: 12 | L44: giat | M44: ) | N44: =E44*H44*K44 -> 240 | O44: OG | P44: 20000 | Q44: =N44*P44 -> 4800000
C45: - SPANDUK | N45: 12 | O45: BUAH | P45: 292000 | Q45: =N45*P45 -> 3504000
C46: >> SARANA KONTAK | Q46: =SUM(Q47:Q50) -> 152304000
C47: - LIFE BOUY | D47: ( | E47: 12 | F47: Buah | G47: x | H47: 1 | I47: HR | J47: x | K47: 12 | L47: Giat | M47: ) | N47: =E47*H47*K47 -> 144 | O47: OG | P47: 446000 | Q47: =N47*P47 -> 64224000
C48: - BENDERA | D48: ( | E48: 20 | F48: Buah | G48: x | H48: 1 | I48: HR | J48: x | K48: 12 | L48: Giat | M48: ) | N48: =E48*H48*K48 -> 240 | O48: OG | P48: 50000 | Q48: =N48*P48 -> 12000000
C49: - PAKET SEMBAKO | D49: ( | E49: 20 | F49: Buah | G49: x | H49: 1 | I49: HR | J49: x | K49: 12 | L49: Giat | M49: ) | N49: =E49*H49*K49 -> 240 | O49: OG | P49: 300000 | Q49: =N49*P49 -> 72000000
C50: - TEKS PANCASILA | D50: ( | E50: 20 | F50: Buah | G50: x | H50: 1 | I50: HR | J50: x | K50: 12 | L50: Giat | M50: ) | N50: =E50*H50*K50 -> 240 | O50: OG | P50: 17000 | Q50: =N50*P50 -> 4080000
C51: >>LAPORAN HASIL PELAKSANAAN | Q51: =Q52 -> 9000000
C52: - LAPHASIL PELAKSANAAN | D52: ( | E52: 5 | F52: LAP | G52: x | H52: 1 | I52: HR | J52: x | K52: 4 | L52: Giat | M52: ) | N52: 20 | O52: LAP | P52: 450000 | Q52: =P52*N52 -> 9000000
A54: 060.01.11 | B54: PROGRAM PENYELIDIKAN DAN PENYIDIKAN TINDAK PIDANA | Q54: =Q55+Q66+Q164+Q178 -> 20320000
A55: 3142 | B55: Penindakan Tindak Pidana Umum | Q55: =Q57+Q113 -> 20320000
A56: 3142.001 | B56: Penanganan Tidak Pidana Umum | Q56: =Q57 -> 20320000
A57: 003 | B57: Dukungan Operasional Pertahanan dan Keamanan | Q57: =Q58+Q67+Q103+Q98+Q108 -> 20320000
A58: HL | B58: TINDAK PIDANA UMUM POLRES | Q58: =Q59 -> 20320000
A59: 521119 | B59: Belanja barang operasional lainnya | Q59: =Q60+Q63 -> 20320000 | R59: RM
B60: > | C60: POLRES | Q60: =Q61+Q62 -> 20320000
C61: - KEGIATAN SEDANG | N61: 1 | O61: KSS | P61: 12710000 | Q61: =P61*N61 -> 12710000
C62: - KEGIATAN MUDAH | N62: 1 | O62: KSS | P62: 7610000 | Q62: =P62*N62 -> 7610000
B64: JUMLAH | Q64: =Q12+Q21+Q54 -> 314858000

Sheet NARKOBA
A1: KEPOLISIAN NEGARA REPUBLIK INDONESIA
A2: DAERAH SULAWESI BARAT
A3: RESORT POLEWALI MANDAR
A4: JL. Dr. Ratulangi No. 17 Polewali 91314
A6: RENCANA PENDISTRIBUSIAN ANGGARAN (RENDISGAR) TAHUN 2020
A7: SAT NARKOBA
A9: No | B9: Tahapan Pelaksanaan dan Rincian Komponen Biaya | N9: Volume | O9: Satuan | P9: Biaya | Q9: Jumlah | R9: SD/CP
O10: Ukur | P10: Satuan Ukur
A11: 1 | B11: 2 | N11: 3 | O11: 5 | P11: 6 | Q11: 7
A12: 060.01.01 | B12: Program Dukungan Manajemen dan Pelaksanaan Tugas Teknis Lainnya Polri | Q12: =Q13 -> 9180000
A13: 3073 | B13: Dukungan Pelayanan Internal perkantoran Polri | Q13: =Q14 -> 9180000
A14: 3073.994 | B14: Layanan Perkantoran | N14: 12 | O14: BLN | Q14: =Q15 -> 9180000
A15: 002 | B15: Operasional Dan Pemeliharaan Kantor | Q15: =Q16 -> 9180000
A16: BX | B16: PENGADAAN PERALATAN / PERLENGKAPAN KANTOR POLRES | Q16: =Q17 -> 9180000
A17: 521811 | B17: Belanja Keperluan Perkantoran | Q17: =Q18 -> 9180000 | R17: RM
B18: >> | C18: Bekal Kantor | N18: =SUM(N19:N19) -> 6 | O18: OT | P18: 1530000 | Q18: =N18*P18 -> 9180000
C19: - SAT NARKOBA | N19: 6 | O19: OT | P19: 1530000 | Q19: =N19*P19 -> 9180000
A21: 060.01.11 | B21: PROGRAM PENYELIDIKAN DAN PENYIDIKAN TINDAK PIDANA | Q21: =Q22 -> 774882000
A22: 3144 | B22: Penindakan Tindak Pidana Narkoba | Q22: =Q23 -> 774882000
A23: 3144.001 | B23: Penanganan Tindak Pidana Narkoba [Base Line] | Q23: =Q24 -> 774882000
A24: 003 | B24: Dukungan Operasional Pertahanan dan Keamanan | Q24: =Q25 -> 774882000
A25: HN | B25: TINDAK PIDANA NARKOBA | Q25: =SUM(Q26) -> 774882000
A26: 521119 | B26: Belanja barang operasional lainnya | Q26: =Q27+Q31 -> 774882000 | R26: RM
B27: > | C27: PENANGANAN KASUS NARKOBA | Q27: =SUM(Q28:Q30) -> 524986000
B28: - | C28: PENYELIDIKAN | N28: 2 | O28: KSS | P28: 26005000 | Q28: =N28*P28 -> 52010000
B29: - | C29: PENYIDIKAN | N29: 13 | O29: KSS | P29: 15697000 | Q29: =N29*P29 -> 204061000
B30: - | C30: TINDAK PIDANA NARKOBA | N30: 2 | O30: KSS | P30: 134457500 | Q30: =N30*P30 -> 268915000
B31: > | C31: ANGGARAN MENDESAK | Q31: =SUM(Q32:Q34) -> 249896000
B32: - | C32: PENYELIDIKAN | N32: 2 | O32: KSS | P32: 26005000 | Q32: =N32*P32 -> 52010000
B33: - | C33: PENYIDIKAN | N33: 2 | O33: KSS | P33: 15697000 | Q33: =N33*P33 -> 31394000
B34: - | C34: PENGEMBANGAN | N34: 2 | O34: KSS | P34: 83246000 | Q34: =N34*P34 -> 166492000
B36: JUMLAH | Q36: =Q21+Q12 -> 784062000

Sheet TAHTI
A1: KEPOLISIAN NEGARA REPUBLIK INDONESIA
A2: DAERAH SULAWESI BARAT
A3: RESORT POLEWALI MANDAR
A4: JL. Dr. Ratulangi No. 17 Polewali 91314
A7: RENCANA PENDISTRIBUSIAN ANGGARAN (RENDISGAR) TAHUN 2020
A8: SAT TAHTI
A10: No | B10: Tahapan Pelaksanaan dan Rincian Komponen Biaya | N10: Volume | O10: Satuan | P10: Biaya | Q10: Jumlah | R10: SD/CP
O11: Ukur | P11: Satuan Ukur
A12: 1 | B12: 2 | N12: 3 | O12: 5 | P12: 6 | Q12: 7
A13: 060.01.01 | B13: Program Dukungan Manajemen dan Pelaksanaan Tugas Teknis Lainnya Polri | Q13: =Q14 -> 6120000
A14: 3073 | B14: Dukungan Pelayanan Internal perkantoran Polri | Q14: =Q15 -> 6120000
A15: 3073.994 | B15: Layanan Perkantoran | N15: 12 | O15: BLN | Q15: =Q16 -> 6120000
A16: 002 | B16: Operasional Dan Pemeliharaan Kantor | Q16: =Q17 -> 6120000
A17: BX | B17: PENGADAAN PERALATAN / PERLENGKAPAN KANTOR POLRES | Q17: =Q18 -> 6120000
A18: 521811 | B18: Belanja Keperluan Perkantoran | Q18: =Q19 -> 6120000 | R18: RM
B19: >> | C19: Bekal Kantor | N19: =SUM(N20:N20) -> 4 | O19: OT | P19: 1530000 | Q19: =N19*P19 -> 6120000
C20: - SAT TAHTI | N20: 4 | O20: OT | P20: 1530000 | Q20: =N20*P20 -> 6120000 | T20: 169830000
A22: 060.01.10 | B22: PROGRAM PEMELIHARAAN KEAMANAN DAN KETERTIBAN MASYARAKAT | Q22: =Q23 -> 87840000
A23: 3128 | B23: Dukungan Manajemen dan Teknis Pemeliharaan Keamanan dan Ketertiban Masyarakat | Q23: =Q24 -> 87840000
A24: 3128.001 | B24: Layanan Dukungan Manajemen Dan Teknis Harkamtibmas (Base Line) | N24: 12 | O24: BLN | Q24: =Q25 -> 87840000
A25: 003 | B25: Dukungan Operasional Pertahanan dan Keamanan | Q25: =Q26 -> 87840000
A26: FT | B26: DUKOPSNAL POLRES | Q26: =Q27 -> 87840000
A27: 521119 | B27: Belanja Barang Operasional Lainnya | Q27: =Q28 -> 87840000 | R27: RM
B28: > | C28: DUKUNGAN OPERASIONAL | Q28: =Q30 -> 87840000
C29: Makan Tahanan ( Duk Ops)
C30: >> Polres | D30: ( | E30: 6 | F30: Orang | G30: x | H30: 366 | I30: Hri | J30: ) | N30: =E30*H30 -> 2196 | O30: THN | P30: 40000 | Q30: =N30*P30 -> 87840000
A33: 060.01.11 | B33: PROGRAM PENYELIDIKAN DAN PENYIDIKAN TINDAK PIDANA | Q33: =Q34 -> 400998000
A34: 3142 | B34: Penindakan Tindak Pidana Umum | Q34: =Q36+Q96 -> 400998000
A35: 3142.006 | B35: Layanan Dukungan Manajemen Tindak Pidana Umum [ Base Line] | N35: 12 | O35: Bulan | Q35: =Q36 -> 400998000
A36: 003 | B36: Dukungan Operasional Pertahanan dan Keamanan | Q36: =Q37+Q42+Q54+Q59 -> 400998000
A37: HC | B37: PENGADAAN BAHAN MAKANAN DAN PERAWATAN TAHANAN POLRES | Q37: =Q38 -> 234240000
A38: 521112 | B38: Belanja pengadaan bahan makanan | Q38: =Q40 -> 234240000 | R38: RM
B39: > | C39: Makan Tahanan ( Termasuk Pembayaran Tunggakan Tahun Sebelumnya)
C40: >> Polres | D40: ( | E40: 16 | F40: Orang | G40: x | H40: 366 | I40: Hri | J40: ) | N40: =E40*H40 -> 5856 | O40: THN | P40: 40000 | Q40: =N40*P40 -> 234240000
A42: HD | B42: PENGADAAN BAHAN MAKANAN DAN PERAWATAN TAHANAN POLSEK | Q42: =Q43 -> 68400000
A43: 521112 | B43: > | C43: Makan Tahanan (termasuk Pembayaran tunggakan tahun sebelumnya) | Q43: =SUM(Q44:Q52) -> 68400000 | R43: RM
C44: - Polsek Wonomulyo | N44: 190 | O44: THN | P44: 40000 | Q44: =N44*P44 -> 7600000
C45: - Polsek Polewali | N45: 190 | O45: THN | P45: 40000 | Q45: =N45*P45 -> 7600000
C46: - Polsek Campalagian | N46: 190 | O46: THN | P46: 40000 | Q46: =N46*P46 -> 7600000
C47: - Polsek Tinambung | N47: 190 | O47: THN | P47: 40000 | Q47: =N47*P47 -> 7600000
C48: - Polsek Allu | N48: 190 | O48: THN | P48: 40000 | Q48: =N48*P48 -> 7600000
C49: - Polsek Binuang | N49: 190 | O49: THN | P49: 40000 | Q49: =N49*P49 -> 7600000
C50: - Polsek Tutar | N50: 190 | O50: THN | P50: 40000 | Q50: =N50*P50 -> 7600000
C51: - Polsek Tapango | N51: 190 | O51: THN | P51: 40000 | Q51: =N51*P51 -> 7600000
C52: - Polsek Matanga | N52: 190 | O52: THN | P52: 40000 | Q52: =N52*P52 -> 7600000
A54: HW | B54: PERAWATAN TAHANAN (POLRES) | Q54: =Q55 -> 76128000
A55: 521119 | B55: Belanja Barang Operasional Lainnya | Q55: =Q57 -> 76128000 | R55: RM
B56: > | C56: Perawatan Tahanan (termasuk pembayaran tunggakan tahun sebelumnya)
C57: - Polres | D57: ( | E57: 16 | F57: Orang | G57: x | H57: 366 | I57: Hri | J57: ) | N57: =E57*H57 -> 5856 | O57: THN | P57: 13000 | Q57: =N57*P57 -> 76128000
A59: HX | B59: PERAWATAN TAHANAN (POLSEK) | Q59: =Q60 -> 22230000
A60: 521119 | B60: Belanja Barang Operasional Lainnya | Q60: =SUM(Q62:Q70) -> 22230000 | R60: RM
B61: > | C61: Perawatan Tahanan (termasuk pembayaran tunggakan tahun sebelumnya)
C62: - Polsek Wonomulyo | N62: 190 | O62: THN | P62: 13000 | Q62: =N62*P62 -> 2470000
C63: - Polsek Polewali | N63: 190 | O63: THN | P63: 13000 | Q63: =N63*P63 -> 2470000
C64: - Polsek Campalagian | N64: 190 | O64: THN | P64: 13000 | Q64: =N64*P64 -> 2470000
C65: - Polsek Tinambung | N65: 190 | O65: THN | P65: 13000 | Q65: =N65*P65 -> 2470000
C66: - Polsek Allu | N66: 190 | O66: THN | P66: 13000 | Q66: =N66*P66 -> 2470000
C67: - Polsek Binuang | N67: 190 | O67: THN | P67: 13000 | Q67: =N67*P67 -> 2470000
C68: - Polsek Tutar | N68: 190 | O68: THN | P68: 13000 | Q68: =N68*P68 -> 2470000
C69: - Polsek Tapango | N69: 190 | O69: THN | P69: 13000 | Q69: =N69*P69 -> 2470000
C70: - Polsek Matanga | N70: 190 | O70: THN | P70: 13000 | Q70: =N70*P70 -> 2470000
B72: JUMLAH | Q72: =Q33+Q22+Q13 -> 494958000

Sheet SARPRAS
A1: KEPOLISIAN NEGARA REPUBLIK INDONESIA
A2: DAERAH SULAWESI BARAT
A3: RESORT POLEWALI MANDAR
A4: JL. Dr. Ratulangi No. 17 Polewali 91314
A6: RENCANA PENDISTRIBUSIAN ANGGARAN (RENDISGAR) TAHUN 2020
A7: SUBBAG SARPRAS
A8: No | B8: Tahapan Pelaksanaan dan Rincian Komponen Biaya | N8: Volume | O8: Satuan | P8: Biaya | Q8: Jumlah | R8: SD/CP
O9: Ukur | P9: Satuan Ukur
A10: 1 | B10: 2 | N10: 3 | O10: 5 | P10: 6 | Q10: 7
A11: 060.01.01 | B11: Program Dukungan Manajemen dan Pelaksanaan Tugas Teknis Lainnya Polri | Q11: =Q12 -> 195084000
A12: 3073 | B12: Dukungan Pelayanan Internal perkantoran Polri | Q12: =Q13+Q19 -> 195084000
A13: 3073.001 | B13: Layanan Dukungan Manajemen Internal Perkantoran | N13: 12 | O13: Lyn | Q13: =Q14 -> 1800000
A14: 003 | B14: Dukungan Operasional Pertahanan dan Keamanan | Q14: =Q15 -> 1800000
A15: JZ | B15: HONORARIUM SAI/SAKPA/SIMAK/SMAP/PENGELOLA KEUANGAN | Q15: =Q16 -> 1800000
A16: 521115 | B16: Belanja Honor Operasional Satuan Kerja | Q16: =Q17 -> 1800000 | R16: RM
B17: > | C17: Honor Operator Simak BMN | D17: [ | E17: 1 | F17: org | G17: x | H17: 12 | I17: bln | J17: ] | N17: =E17*H17 -> 12 | O17: OB | P17: 150000 | Q17: =P17*N17 -> 1800000
A19: 3073.994 | B19: Layanan Perkantoran | N19: 12 | O19: BLN | Q19: =Q20 -> 193284000
A20: 002 | B20: Operasional Pemeliharaan Kantor | Q20: =Q21+Q25+Q29 -> 193284000
A21: BP | B21: BIAYA TELEPON | Q21: =Q23 -> 35964000
A22: 522112 | B22: Belanja Langganan Telepon | Q22: =Q23 -> 35964000
B23: - | C23: Biaya Telepon ( Termasuk pembayaran tunggakan tahun sebelumnya ) | N23: 1 | O23: THN | P23: 35964000 | Q23: =N23*P23 -> 35964000 | R23: RM
A25: BX | B25: PENGADAAN PERALATAN / PERLENGKAPAN KANTOR POLRES | Q25: =Q26 -> 6120000
A26: 521811 | B26: Belanja Keperluan Perkantoran | Q26: =Q27 -> 6120000 | R26: RM
B27: >> | C27: Bekal Kantor | Q27: =Q28 -> 6120000
C28: - SUBBAG SARPRAS | N28: 4 | O28: OT | P28: 1530000 | Q28: =N28*P28 -> 6120000
A29: LK | B29: INTERNET | Q29: =Q30 -> 151200000
A30: 522119 | B30: Belanja Langganan Daya dan Jasa Lainya | Q30: =SUM(Q34:Q42:Q32) -> 151200000 | R30: RM
B31: > | C31: POLRES | Q31: =Q32 -> 86400000
C32: - BIAYA INTERNET | D32: [ | E32: 12 | F32: TTK | G32: x | H32: 12 | I32: bln | J32: ] | N32: =E32*H32 -> 144 | O32: TTK | P32: 600000 | Q32: =N32*P32 -> 86400000
B33: > | C33: POLSEK
C34: - Polsek Wonomulyo | N34: 12 | O34: BLN | P34: 600000 | Q34: =N34*P34 -> 7200000
C35: - Polsek Campalagian | N35: 12 | O35: BLN | P35: 600000 | Q35: =N35*P35 -> 7200000
C36: - Polsek Polewali | N36: 12 | O36: BLN | P36: 600000 | Q36: =N36*P36 -> 7200000
C37: - Polsek Tinambung | N37: 12 | O37: BLN | P37: 600000 | Q37: =N37*P37 -> 7200000
C38: - Polsek Allu | N38: 12 | O38: BLN | P38: 600000 | Q38: =N38*P38 -> 7200000
C39: - Polsek Tapango | N39: 12 | O39: BLN | P39: 600000 | Q39: =N39*P39 -> 7200000
C40: - Polsek Binuang | N40: 12 | O40: BLN | P40: 600000 | Q40: =N40*P40 -> 7200000
C41: - Polsek Matangnga | N41: 12 | O41: BLN | P41: 600000 | Q41: =N41*P41 -> 7200000
C42: - Polsek Tutar | N42: 12 | O42: BLN | P42: 600000 | Q42: =N42*P42 -> 7200000
A44: 060.01.02 | B44: PROGRAM PENINGKATAN SARANA DAN PRASARANA APARATUR POLRI | Q44: =Q45 -> 4389036000
A45: 5059 | B45: Dukungan Manajemen dan Teknik Sarpras | Q45: =Q47+Q86 -> 4389036000
A46: 5059.001 | B46: Layanan Perkatoran Sarpras | N46: 12 | O46: BLN | Q46: =Q47 -> 452160000
A47: 003 | B47: Dukungan Operasional Pertahanan dan Keamanan | Q47: =Q48+Q52+Q56+Q60+Q64+Q70+Q82 -> 452160000
A48: AZ | B48: PEMELIHARAAN KENDARAAN BERMOTOR RODA 4/6/10 (Polres) | Q48: =Q49 -> 30000000
A49: 523121 | B49: Belanja biaya pemeliharaan peralatan dan mesin | Q49: =Q50 -> 30000000 | R49: PNBP
B50: - | C50: Har Ranmor R4 Lantas | N50: 2 | O50: UNIT | P50: 15000000 | Q50: =N50*P50 -> 30000000
A52: BC | B52: PERAWATAN KENDARAAN BERMOTOR RODA 2 POLRES | Q52: =Q53 -> 42250000
A53: 523121 | B53: Belanja biaya pemeliharaan peralatan dan mesin | Q53: =Q54 -> 42250000 | R53: PNBP
C54: - Har Ranmor R2 Lantas | N54: 13 | O54: Unit | P54: 3250000 | Q54: =P54*N54 -> 42250000
A56: BJ | B56: PERAWATAN PERALATAN FUNGSIONAL POLRES | Q56: =Q57 -> 15000000
A57: 523121 | B57: Belanja biaya pemeliharaan peralatan dan mesin | Q57: =Q58 -> 15000000 | R57: PNBP
B58: - | C58: Harwat pada ruang pelayanan SIM | N58: 1 | O58: THN | P58: 15000000 | Q58: =P58 -> 15000000
A60: BM | B60: OPRASIONAL DAN PEMELIHARAAN JARINGAN SISTEM INFORMASI | Q60: =Q61 -> 3600000
A61: 523133 | B61: Belanja Pemeliharaan Jaringan | Q61: =Q62 -> 3600000 | R61: PNBP
B62: - | C62: HAR JARINGAN SKCK ONLAIN | N62: 1 | O62: THN | P62: 3600000 | Q62: =P62 -> 3600000
A64: KC | B64: PEMELIHARAAN PERALATAN KANTOR POLRES | Q64: =Q65 -> 2070000
A65: 523121 | B65: Belanja biaya pemeliharaan peralatan dan mesin | Q65: =SUM(Q66:Q68) -> 2070000 | R65: PNBP
C66: - Har Komputer SKCK online | N66: 1 | O66: UNIT | P66: 730000 | Q66: =N66*P66 -> 730000
C67: - Har Komputer Sat Intelkam | N67: 1 | O67: UNIT | P67: 730000 | Q67: =N67*P67 -> 730000
C68: - Har Printer SKCK Online | N68: 1 | O68: UNIT | P68: 610000 | Q68: =N68*P68 -> 610000
A70: KD | B70: PEMELIHARAAN PERALATAN KANTOR POLSEK | Q70: =Q71 -> 6570000
A71: 523121 | B71: Belanja biaya pemeliharaan peralatan dan mesin | Q71: =SUM(Q72:Q80) -> 6570000 | R71: PNBP
B72: - HAR Komputer Unit Intelkam Polsek Wonomulyo | N72: 1 | O72: Unit | P72: 730000 | Q72: =N72*P72 -> 730000
B73: - HAR Komputer Unit Intelkam Polsek Campalagian | N73: 1 | O73: Unit | P73: 730000 | Q73: =N73*P73 -> 730000
B74: - HAR Komputer Unit Intelkam Polsek Polsek Polewali | N74: 1 | O74: Unit | P74: 730000 | Q74: =N74*P74 -> 730000
B75: - HAR Komputer Unit Intelkam Polsek Polsek Tinambung | N75: 1 | O75: Unit | P75: 730000 | Q75: =N75*P75 -> 730000
B76: - HAR Komputer Unit Intelkam Polsek Polsek Allu | N76: 1 | O76: Unit | P76: 730000 | Q76: =N76*P76 -> 730000
B77: - HAR Komputer Unit Intelkam Polsek Polsek Tapango | N77: 1 | O77: Unit | P77: 730000 | Q77: =N77*P77 -> 730000
B78: - HAR Komputer Unit Intelkam Polsek Polsek Binuang | N78: 1 | O78: Unit | P78: 730000 | Q78: =N78*P78 -> 730000
B79: - HAR Komputer Unit Intelkam Polsek Polsek Matanga | N79: 1 | O79: Unit | P79: 730000 | Q79: =N79*P79 -> 730000
B80: - HAR Komputer Unit Intelkam Polsek Polsek Tutar | N80: 1 | O80: Unit | P80: 730000 | Q80: =N80*P80 -> 730000
A82: UC | B82: BMP FUNGSI LANTAS ( PNBP ) | Q82: =Q84 -> 352670000
A83: 523122 | B83: Belanja Barang Operasional Lainnya | Q83: =SUM(Q84:Q84) -> 352670000 | R83: PNBP
C84: - Pengadaan Pertamax, HSD, Mesran dan Meditran untuk fungsi Lantas | N84: 1 | O84: THN | P84: 352670000 | Q84: =N84*P84 -> 352670000
A86: 002 | B86: Operasional dan Pemeliharaan Kantor | Q86: =Q140+Q151+Q155+Q166+Q103+Q87+Q91+Q107+Q112+Q124+Q128+Q160 -> 3936876000
A87: AP | B87: PEMELIHARAAN GEDUNG KANTOR POLRES | Q87: =Q88 -> 120000000
A88: 523111 | B88: Belanja Pemeliharaan Gedung Dan Bangunan | Q88: =Q89 -> 120000000 | R88: RM
C89: - Har gedung kantor POLRES | N89: 1000 | O89: M2 | P89: 120000 | Q89: =N89*P89 -> 120000000
A91: AQ | B91: PEMELIHARAAN GEDUNG KANTOR POLSEK | Q91: =Q92 -> 108000000
A92: 523111 | B92: Belanja Pemeliharaan Gedung Dan Bangunan | Q92: =SUM(Q93:Q101) -> 108000000 | R92: RM
C93: - POLSEK WONOMULYO | N93: 100 | O93: M2 | P93: 120000 | Q93: =N93*P93 -> 12000000
C94: - POLSEK CAMPALAGIAN | N94: 100 | O94: M2 | P94: 120000 | Q94: =N94*P94 -> 12000000
C95: - POLSEK POLEWALI | N95: 100 | O95: M2 | P95: 120000 | Q95: =N95*P95 -> 12000000
C96: - POLSEK TINAMBUNG | N96: 100 | O96: M2 | P96: 120000 | Q96: =N96*P96 -> 12000000
C97: - POLSEK ALLU | N97: 100 | O97: M2 | P97: 120000 | Q97: =N97*P97 -> 12000000
C98: - POLSEK TAPANGO | N98: 100 | O98: M2 | P98: 120000 | Q98: =N98*P98 -> 12000000
C99: - POLSEK BINUANG | N99: 100 | O99: M2 | P99: 120000 | Q99: =N99*P99 -> 12000000
C100: - POLSEK MATANGGA | N100: 100 | O100: M2 | P100: 120000 | Q100: =N100*P100 -> 12000000
C101: - POLSEK TUTAR | N101: 100 | O101: M2 | P101: 120000 | Q101: =N101*P101 -> 12000000
A103: AX | B103: PEMELIHARAAN ALAT ANGKUTAN AIR | Q103: =Q104 -> 50000000
A104: 523121 | B104: Belanja biaya pemeliharaan peralatan dan mesin | Q104: =Q105 -> 50000000 | R104: RM
C105: - Har kapal C3 | N105: 1 | O105: UNIT | P105: 50000000 | Q105: =N105*P105 -> 50000000
A107: AZ | B107: PEMELIHARAAN KENDARAAN BERMOTOR RODA 4/6/10 POLRES | Q107: =Q108 -> 385000000
A108: 523121 | B108: Belanja pemeliharaan peralatan dan mesin | Q108: =Q110+Q109 -> 385000000 | R108: RM
C109: - Har RANMOR RODA 6 | N109: 5 | O109: UNIT | P109: 25000000 | Q109: =N109*P109 -> 125000000
C110: - Har RANMOR RODA 4 | N110: 13 | O110: UNIT | P110: 20000000 | Q110: =N110*P110 -> 260000000
A112: BA | B112: PEMELIHARAAN KENDARAAN BERMOTOR RODA 4/6/10 POLSEK | Q112: =Q113 -> 180000000
A113: 523121 | B113: Belanja Pemeliharaan Peralatan dan Mesin | Q113: =SUM(Q114:Q122) -> 180000000 | R113: RM
C114: - POLSEK WONOMULYO | N114: 1 | O114: UNIT | P114: 20000000 | Q114: =N114*P114 -> 20000000
C115: - POLSEK CAMPALAGIAN | N115: 1 | O115: UNIT | P115: 20000000 | Q115: =N115*P115 -> 20000000
...

Sheet KEU
A1: KEPOLISIAN NEGARA REPUBLIK INDONESIA
A2: DAERAH SULAWESI BARAT
A3: RESORT POLEWALI MANDAR
A4: JL. Dr. Ratulangi No. 17 Polewali 91314
A6: RENCANA PENDISTRIBUSIAN ANGGARAN (RENDISGAR) TAHUN 2020
A7: SEKSI KEUANGAN
A9: No | B9: Tahapan Pelaksanaan dan Rincian Komponen Biaya | N9: Volume | O9: Satuan | P9: Biaya | Q9: Jumlah | R9: SD/CP
O10: Ukur | P10: Satuan Ukur
A11: 1 | B11: 2 | N11: 3 | O11: 5 | P11: 6 | Q11: 7
A12: 060.01.01 | B12: Program Dukungan Manajemen dan Pelaksanaan Tugas Teknis Lainnya Polri | Q12: =Q13 -> 35123053000
A13: 3073 | B13: Dukungan Pelayanan Internal perkantoran Polri | Q13: =Q14+Q20 -> 35123053000
A14: 3073.001 | B14: Layanan Dukungan Manajemen Internal Perkantoran | N14: 12 | O14: Lyn | Q14: =Q15 -> 1800000
A15: 003 | B15: Dukungan Operasional Pertahanan dan Keamanan | Q15: =Q16 -> 1800000
A16: JZ | B16: HONORARIUM SAI/SAKPA/SIMAK/SMAP/PENGELOLA KEUANGAN | Q16: =Q17 -> 1800000
A17: 521115 | B17: Belanja Honor Operasional Satuan Kerja | Q17: =Q18 -> 1800000 | R17: RM
B18: > | C18: Honor Operator Sakpa | D18: [ | E18: 1 | F18: org | G18: x | H18: 12 | I18: bln | J18: ] | N18: =E18*H18 -> 12 | O18: OB | P18: 150000 | Q18: =N18*P18 -> 1800000
A20: 3073.994 | B20: Layanan Perkantoran | N20: 12 | O20: BLN | Q20: =Q21+Q24 -> 35121253000
A21: 001 | B21: Pembayaran Gaji dan Tunjangan | Q21: =Q22 -> 35099833000
A22: A | B22: Pembayaran Gaji dan Tunjangan | Q22: 35099833000
A24: 002 | B24: Operasional Dan Pemeliharaan Kantor | Q24: =Q25 -> 21420000
A25: BX | B25: PENGADAAN PERALATAN / PERLENGKAPAN KANTOR POLRES | Q25: =Q26 -> 21420000
A26: 521811 | B26: Belanja Keperluan Perkantoran | Q26: =Q27 -> 21420000 | R26: RM
B27: >> | C27: Bekal Kantor | Q27: =Q28 -> 21420000
C28: - SI KEU | N28: 14 | O28: OT | P28: 1530000 | Q28: =N28*P28 -> 21420000
A30: 060.01.10 | B30: PROGRAM PEMELIHARAAN KEAMANAN DAN KETERTIBAN MASYARAKAT | Q30: =Q31+Q313+Q377+Q480+Q499+Q506+Q537 -> 506260000
A31: 3128 | B31: Dukungan Manajemen dan Teknis Pemeliharaan Keamanan dan Ketertiban Masyarakat | Q31: =Q32 -> 506260000
A32: 3128.001 | B32: Layanan Dukungan Manajemen Dan Teknis Harkamtibmas (Base Line) | N32: 12 | O32: BLN | Q32: =Q298+Q33 -> 506260000
A33: 003 | B33: Dukungan Operasional Pertahanan dan Keamanan | Q33: =Q34+Q49+Q53 -> 506260000
A34: AD | B34: RAPAT-RAPAT KORDINASI/KERJA/DINAS/PIMPINAN KELOMPOK KERJA/KONSULTASI | Q34: =Q35 -> 220740000
A35: 524111 | B35: Belanja Perjalanan dinas Biasa | Q35: =Q36+Q40+Q44 -> 220740000 | R35: RM
B36: > Pamen | Q36: =SUM(Q37:Q39) -> 33960000
C37: - Uang Harian | D37: [ | E37: 2 | F37: Org | G37: x | H37: 3 | I37: Hr | J37: x | K37: 6 | L37: Giat | M37: ] | N37: =E37*H37*K37 -> 36 | O37: OH | P37: 410000 | Q37: =N37*P37 -> 14760000
C38: - Penginapan | D38: [ | E38: 2 | F38: Org | G38: x | H38: 2 | I38: Hr | J38: x | K38: 6 | L38: Giat | M38: ] | N38: =E38*H38*K38 -> 24 | O38: OH | P38: 700000 | Q38: =N38*P38 -> 16800000
C39: - Transportasi | D39: [ | E39: 2 | F39: Org | G39: x | H39: 1 | I39: PP | J39: x | K39: 6 | L39: Giat | M39: ] | N39: =E39*H39*K39 -> 12 | O39: OH | P39: 200000 | Q39: =N39*P39 -> 2400000
B40: > Pama | Q40: =SUM(Q41:Q43) -> 50940000
C41: - Uang Harian | D41: [ | E41: 3 | F41: Org | G41: x | H41: 3 | I41: Hr | J41: x | K41: 6 | L41: Giat | M41: ] | N41: =E41*H41*K41 -> 54 | O41: OH | P41: 410000 | Q41: =N41*P41 -> 22140000
C42: - Penginapan | D42: [ | E42: 3 | F42: Org | G42: x | H42: 2 | I42: Hr | J42: x | K42: 6 | L42: Giat | M42: ] | N42: =E42*H42*K42 -> 36 | O42: OH | P42: 700000 | Q42: =N42*P42 -> 25200000
C43: - Transportasi | D43: [ | E43: 3 | F43: Org | G43: x | H43: 1 | I43: PP | J43: x | K43: 6 | L43: Giat | M43: ] | N43: =E43*H43*K43 -> 18 | O43: OH | P43: 200000 | Q43: =N43*P43 -> 3600000
B44: > Bintara | Q44: =SUM(Q45:Q47) -> 135840000
C45: - Uang Harian | D45: [ | E45: 8 | F45: Org | G45: x | H45: 3 | I45: Hr | J45: x | K45: 6 | L45: Giat | M45: ] | N45: =E45*H45*K45 -> 144 | O45: OH | P45: 410000 | Q45: =N45*P45 -> 59040000
C46: - Penginapan | D46: [ | E46: 8 | F46: Org | G46: x | H46: 2 | I46: Hr | J46: x | K46: 6 | L46: Giat | M46: ] | N46: =E46*H46*K46 -> 96 | O46: OH | P46: 700000 | Q46: =N46*P46 -> 67200000
C47: - Transportasi | D47: [ | E47: 8 | F47: Org | G47: x | H47: 1 | I47: PP | J47: x | K47: 6 | L47: Giat | M47: ] | N47: =E47*H47*K47 -> 48 | O47: OH | P47: 200000 | Q47: =N47*P47 -> 9600000
A49: AM | B49: PEMBINAAN ADMINISTRASI DAN PENGELOLAAN KEUANGAN | Q49: =Q50 -> 20000000
A50: 521119 | B50: Belanja Barang Operasional Lainnya | Q50: =Q51 -> 20000000 | R50: RM
C51: - Giat Pengelola Keuangan | N51: 1 | O51: THN | P51: 20000000 | Q51: =N51*P51 -> 20000000
A53: FT | B53: DUKOPSNAL POLRES | Q53: =Q54 -> 265520000
A54: 521119 | B54: Belanja Barang Operasional Lainnya | Q54: =Q55 -> 265520000 | R54: RM
B55: > | C55: DUKUNGAN OPERASIONAL | Q55: =Q56+Q61+Q66 -> 265520000
C56: >> Pamen/PNS Gol. IV 2 Orang | Q56: =SUM(Q57:Q59) -> 45280000
C57: - Uang Harian | D57: [ | E57: 4 | F57: Org | G57: x | H57: 3 | I57: Hr | J57: x | K57: 4 | L57: Giat | M57: ] | N57: =E57*H57*K57 -> 48 | O57: OH | P57: 410000 | Q57: =N57*P57 -> 19680000
C58: - Penginapan | D58: [ | E58: 4 | F58: Org | G58: x | H58: 2 | I58: Hr | J58: x | K58: 4 | L58: Giat | M58: ] | N58: =E58*H58*K58 -> 32 | O58: OH | P58: 700000 | Q58: =N58*P58 -> 22400000
C59: - Transportasi | D59: [ | E59: 4 | F59: Org | G59: x | H59: 1 | I59: PP | J59: x | K59: 4 | L59: Giat | M59: ] | N59: =E59*H59*K59 -> 16 | O59: OH | P59: 200000 | Q59: =N59*P59 -> 3200000
C61: >> Pama/PNS Gol. III 4 Orang | Q61: =SUM(Q62:Q64) -> 84160000
C62: - Uang Harian | D62: [ | E62: 8 | F62: Org | G62: x | H62: 3 | I62: Hr | J62: x | K62: 4 | L62: Giat | M62: ] | N62: =E62*H62*K62 -> 96 | O62: OH | P62: 410000 | Q62: =N62*P62 -> 39360000
C63: - Penginapan | D63: [ | E63: 8 | F63: Org | G63: x | H63: 2 | I63: Hr | J63: x | K63: 4 | L63: Giat | M63: ] | N63: =E63*H63*K63 -> 64 | O63: OH | P63: 600000 | Q63: =N63*P63 -> 38400000
C64: - Transportasi | D64: [ | E64: 8 | F64: Org | G64: x | H64: 1 | I64: PP | J64: x | K64: 4 | L64: Giat | M64: ] | N64: =E64*H64*K64 -> 32 | O64: OH | P64: 200000 | Q64: =N64*P64 -> 6400000
C66: >> Bintara/PNS Gol. II 8 Orang | Q66: =SUM(Q67:Q69) -> 136080000
C67: - Uang Harian | D67: [ | E67: 14 | F67: Org | G67: x | H67: 3 | I67: Hr | J67: x | K67: 4 | L67: Giat | M67: ] | N67: =E67*H67*K67 -> 168 | O67: OH | P67: 410000 | Q67: =N67*P67 -> 68880000
C68: - Penginapan | D68: [ | E68: 14 | F68: Org | G68: x | H68: 2 | I68: Hr | J68: x | K68: 4 | L68: Giat | M68: ] | N68: =E68*H68*K68 -> 112 | O68: OH | P68: 500000 | Q68: =N68*P68 -> 56000000
C69: - Transportasi | D69: [ | E69: 14 | F69: Org | G69: x | H69: 1 | I69: PP | J69: x | K69: 4 | L69: Giat | M69: ] | N69: =E69*H69*K69 -> 56 | O69: OH | P69: 200000 | Q69: =N69*P69 -> 11200000
B71: JUMLAH | Q71: =Q30+Q12 -> 35629313000

Sheet PROPAM
A1: KEPOLISIAN NEGARA REPUBLIK INDONESIA
A2: DAERAH SULAWESI BARAT
A3: RESORT POLEWALI MANDAR
A4: JL. Dr. Ratulangi No. 17 Polewali 91314
A6: RENCANA PENDISTRIBUSIAN ANGGARAN (RENDISGAR) TAHUN 2020
A7: SEKSI PROPAM
A9: No | B9: Tahapan Pelaksanaan dan Rincian Komponen Biaya | N9: Volume | O9: Satuan | P9: Biaya | Q9: Jumlah | R9: SD/CP
O10: Ukur | P10: Satuan Ukur
A11: 1 | B11: 2 | N11: 3 | O11: 5 | P11: 6 | Q11: 7
A12: 060.01.01 | B12: Program Dukungan Manajemen dan Pelaksanaan Tugas Teknis Lainnya Polri | Q12: =Q13 -> 12240000
A13: 3073 | B13: Dukungan Pelayanan Internal perkantoran Polri | Q13: =Q14 -> 12240000
A14: 3073.994 | B14: Layanan Perkantoran | N14: 12 | O14: BLN | Q14: =Q15 -> 12240000
A15: 002 | B15: Operasional Dan Pemeliharaan Kantor | Q15: =Q16 -> 12240000
A16: BX | B16: PENGADAAN PERALATAN / PERLENGKAPAN KANTOR POLRES | Q16: =Q17 -> 12240000
A17: 521811 | B17: Belanja Keperluan Perkantoran | Q17: =Q18 -> 12240000 | R17: RM
B18: >> | C18: Bekal Kantor | Q18: =Q19 -> 12240000
C19: - SI PROPAM | N19: 8 | O19: OT | P19: 1530000 | Q19: =N19*P19 -> 12240000
A21: 060.01.03 | B21: PROGRAM PENGAWASAN DAN PENINGKATAN AKUNTABILITAS APARATUR POLRI | Q21: =Q22+Q30+Q38+Q70 -> 76541000
A22: 3088 | B22: Pertanggung Jawaban Profesi | Q22: =Q23 -> 23538000
A23: 3088.005 | B23: Penegakan Kode Etik Profesi | Q23: =Q24 -> 23538000
A24: 003 | B24: Dukungan Operasional Pertahanan Dan Keamanan | Q24: =Q25 -> 23538000
A25: DC | B25: PENEGAKAN HUKUM ANGGOTA/PNS POLRI (SIDANG DISIPLIN/KODE ETIK) | Q25: =Q26 -> 23538000
A26: 521119 | B26: Belanja Barang Operasional Lainnya | Q26: =Q28 -> 23538000 | R26: RM
B27: > | C27: BIDANG PROVESI
C28: - GIAT PERTANGGUNG JAWABAN PROVESI | N28: 1 | O28: THN | P28: 23538000 | Q28: =N28*P28 -> 23538000
A30: 3089 | B30: Penyelenggaraan Pengamanan Internal Polri | Q30: =Q31 -> 27500000
A31: 3089.002 | B31: Layanan Penyelidikan Pelanggaran Pegawai Pada Polri | Q31: =Q32 -> 27500000
A32: 003 | B32: Dukungan Operasional Pertahanan Dan Keamanan | Q32: =Q33 -> 27500000
A33: CW | B33: MENYELENGGARAKAN PENGAMANAN KEPOLISIAN | Q33: =Q34 -> 27500000
A34: 521119 | B34: Belanja Barang Operasional Lainnya | Q34: =Q36 -> 27500000 | R34: RM
B35: > | C35: Bidang PAM Internal Polri
C36: - GIAT PENYELENGGARAAN PENGAMANAN INTERNAL POLRI | N36: 1 | O36: THN | P36: 27500000 | Q36: =N36*P36 -> 27500000
A38: 3090 | B38: Penegakan Tata Tertib dan Disiplin Polri | Q38: =Q39 -> 25503000
A39: 3090.002 | B39: Penegakan Disiplin dan Ketertiban | Q39: =Q40 -> 25503000
A40: 003 | B40: Dukungan Operasional Pertahanan Dan Keamanan | Q40: =Q41+Q46+Q50 -> 25503000
A41: DE | B41: Kegiatan Pembinaan Provos | Q41: =Q42 -> 15983000
A42: 521119 | B42: Belanja Barang Operasional Lainnya | Q42: =Q44 -> 15983000 | R42: RM
B43: > | C43: BIDANG PROPOS TATA TERTIB
C44: - PENEGAKAN TATA TERTIB DAN DISIPLIN POLRI | N44: 1 | O44: THN | P44: 15983000 | Q44: =N44*P44 -> 15983000
A46: HC | B46: PENGADAAN BAHAN MAKANAN DAN PERAWATAN TAHANAN | Q46: =Q48 -> 1890000
A47: 521119 | B47: Belanja Barang Operasional Lainnya | Q47: =Q48 -> 1890000 | R47: RM
C48: - TAHANAN ANGGOTA | D48: [ | E48: 3 | F48: Org | G48: x | H48: 21 | I48: Hr | J48: ] | N48: =E48*H48 -> 63 | O48: OH | P48: 30000 | Q48: =N48*P48 -> 1890000
A50: UP | B50: KEGIATAN VI PROGRAM QUICK WINS | Q50: =Q51 -> 7630000
A51: 521211 | B51: Belanja Bahan | Q51: =Q53+Q54+Q55+Q56 -> 7630000 | R51: RM
B52: > | C52: POLISI SEBAGAI PENGGERAK REVOLUSI MENTAL & PELOPOR TERTIBSOSIAL DIRUANG PIBLIK
C53: - UANG HARIAN | D53: ( | E53: 3 | F53: ORG | G53: x | H53: 1 | I53: HARI | J53: x | K53: 8 | L53: GIAT | M53: ) | N53: =E53*H53*K53 -> 24 | O53: OH | P53: 120000 | Q53: =N53*P53 -> 2880000
C54: - MAKAN | D54: ( | E54: 20 | F54: ORG | G54: x | H54: 1 | I54: HARI | J54: x | K54: 4 | L54: GIAT | M54: ) | N54: =E54*H54*K54 -> 80 | O54: OH | P54: 30000 | Q54: =N54*P54 -> 2400000
C55: - SNACK | D55: ( | E55: 20 | F55: ORG | G55: x | H55: 1 | I55: HARI | J55: x | K55: 4 | L55: GIAT | M55: ) | N55: =E55*H55*K55 -> 80 | O55: OH | P55: 20000 | Q55: =N55*P55 -> 1600000
C56: - Dukmin | N56: 1 | O56: PKT | P56: 750000 | Q56: =N56*P56 -> 750000
A58: 060.01.10 | B58: PROGRAM PEMELIHARAAN KEAMANAN DAN KETERTIBAN MASYARAKAT | Q58: =Q59 -> 5040000
A59: 3128 | B59: Dukungan Manajemen dan Teknis Pemeliharaan Keamanan dan Ketertiban Masyarakat | Q59: =Q60 -> 5040000
A60: 3128.001 | B60: Layanan Dukungan Manajemen Dan Teknis Harkamtibmas (Base Line) | N60: 12 | O60: BLN | Q60: =Q61 -> 5040000
A61: 003 | B61: Dukungan Operasional Pertahanan dan Keamanan | Q61: =Q62 -> 5040000
A62: FT | B62: DUKOPSNAL POLRES | Q62: =Q63 -> 5040000
A63: 521119 | B63: Belanja Barang Operasional Lainnya | Q63: =Q64 -> 5040000 | R63: RM
B64: > | C64: DUKUNGAN OPERASIONAL | Q64: =Q66 -> 5040000
C65: Makan Tahanan Propam ( Duk Ops)
C66: - Tahanan Anggota | D66: [ | E66: 8 | F66: Org | G66: x | H66: 21 | I66: Hr | J66: ] | N66: =E66*H66 -> 168 | O66: OH | P66: 30000 | Q66: =N66*P66 -> 5040000
B69: JUMLAH | Q69: =Q21+Q12+Q58 -> 93821000

Sheet SIWAS
A1: KEPOLISIAN NEGARA REPUBLIK INDONESIA
A2: DAERAH SULAWESI BARAT
A3: RESORT POLEWALI MANDAR
A4: JL. Dr. Ratulangi No. 17 Polewali 91314
A6: RENCANA PENDISTRIBUSIAN ANGGARAN (RENDISGAR) TAHUN 2020
A7: SEKSI PENGAWASAN
A9: No | B9: Tahapan Pelaksanaan dan Rincian Komponen Biaya | N9: Volume | O9: Satuan | P9: Biaya | Q9: Jumlah | R9: SD/CP
O10: Ukur | P10: Satuan Ukur
A11: 1 | B11: 2 | N11: 3 | O11: 5 | P11: 6 | Q11: 7
A12: 060.01.01 | B12: Program Dukungan Manajemen dan Pelaksanaan Tugas Teknis Lainnya Polri | Q12: =Q13 -> 12240000
A13: 3073 | B13: Dukungan Pelayanan Internal perkantoran Polri | Q13: =Q14 -> 12240000
A14: 3073.994 | B14: Layanan Perkantoran | N14: 12 | O14: BLN | Q14: =Q15 -> 12240000
A15: 002 | B15: Operasional Dan Pemeliharaan Kantor | Q15: =Q16 -> 12240000
A16: BX | B16: PENGADAAN PERALATAN / PERLENGKAPAN KANTOR POLRES | Q16: =Q17 -> 12240000
A17: 521811 | B17: Belanja Keperluan Perkantoran | Q17: =Q18 -> 12240000 | R17: RM
B18: >> | C18: Bekal Kantor | Q18: =Q19 -> 12240000
C19: - SIWAS | N19: 8 | O19: OT | P19: 1530000 | Q19: =N19*P19 -> 12240000
A21: 060.01.03 | B21: PROGRAM PENGAWASAN DAN PENINGKATAN AKUNTABILITAS APARATUR POLRI | Q21: =Q22 -> 38000000
A22: 3091 | B22: Penyelenggaraan Pemeriksaan dan Pengawasan | Q22: =Q23 -> 38000000
A23: 3091.003 | B23: Pengawasan dan Pemeriksaan | Q23: =Q24 -> 38000000
A24: 003 | B24: Dukungan Operasional Pertahanan dan Keamanan | Q24: =Q27 -> 38000000
A25: CU | B25: PENYELENGGARAAN PEMERIKSAAN DAN PENGAWASAN
A26: 521119 | B26: Belanja Barang Operasional Lainnya | Q26: =Q27 -> 38000000 | R26: RM
B27: - | C27: GIAT SIWAS POLRES | N27: 1 | O27: THN | P27: 38000000 | Q27: =N27*P27 -> 38000000
A29: 060.01.10 | B29: PROGRAM PEMELIHARAAN KEAMANAN DAN KETERTIBAN MASYARAKAT | Q29: =Q30 -> 25920000
A30: 3128 | B30: Dukungan Manajemen dan Teknis Pemeliharaan Keamanan dan Ketertiban Masyarakat | Q30: =Q31 -> 25920000
A31: 3128.001 | B31: Layanan Dukungan Manajemen Dan Teknis Harkamtibmas (Base Line) | N31: 12 | O31: BLN | Q31: =Q32 -> 25920000
A32: 003 | B32: Dukungan Operasional Pertahanan dan Keamanan | Q32: =Q36+Q38 -> 25920000
A33: FT | B33: DUKOPSNAL POLRES | Q33: =Q34 -> 25920000
A34: 521119 | B34: Belanja Barang Operasional Lainnya | Q34: =Q35 -> 25920000 | R34: RM
B35: > | C35: DUKUNGAN OPERASIONAL | Q35: =Q36+Q38 -> 25920000
C36: >> Was Ops | D36: [ | E36: 3 | F36: Org | G36: x | H36: 2 | I36: Hr | J36: x | K36: 12 | L36: Giat | M36: ] | N36: =E36*H36*K36 -> 72 | O36: OH | P36: 160000 | Q36: =N36*P36 -> 11520000
C38: >> Investigasi Dumas | D38: [ | E38: 3 | F38: Org | G38: x | H38: 2 | I38: Hr | J38: x | K38: 12 | L38: Giat | M38: ] | N38: =E38*H38*K38 -> 72 | O38: OH | P38: 200000 | Q38: =N38*P38 -> 14400000
B39: JUMLAH | Q39: =Q29+Q21+Q12 -> 76160000

Sheet SPKT
A1: KEPOLISIAN NEGARA REPUBLIK INDONESIA
A2: DAERAH SULAWESI BARAT
A3: RESORT POLEWALI MANDAR
A4: JL. Dr. Ratulangi No. 17 Polewali 91314
A6: RENCANA PENDISTRIBUSIAN ANGGARAN (RENDISGAR) TAHUN 2020
A7: SPKT
A9: No | B9: Tahapan Pelaksanaan dan Rincian Komponen Biaya | N9: Volume | O9: Satuan | P9: Biaya | Q9: Jumlah | R9: SD/CP
O10: Ukur | P10: Satuan Ukur
A11: 1 | B11: 2 | N11: 3 | O11: 5 | P11: 6 | Q11: 7
A12: 060.01.01 | B12: Program Dukungan Manajemen dan Pelaksanaan Tugas Teknis Lainnya Polri | Q12: =Q13 -> 12240000
A13: 3073 | B13: Dukungan Pelayanan Internal perkantoran Polri | Q13: =Q14 -> 12240000
A14: 3073.994 | B14: Layanan Perkantoran | N14: 12 | O14: BLN | Q14: =Q15 -> 12240000
A15: 002 | B15: Operasional Pemeliharaan Kantor | Q15: =Q16 -> 12240000
A16: BX | B16: PENGADAAN PERALATAN / PERLENGKAPAN KANTOR POLRES | Q16: =Q17 -> 12240000
A17: 521811 | B17: Belanja Keperluan Perkantoran | Q17: =Q18 -> 12240000 | R17: RM
B18: >> | C18: Bekal Kantor | Q18: =Q19 -> 12240000
C19: - SPKT | N19: 8 | O19: OT | P19: 1530000 | Q19: =N19*P19 -> 12240000
A21: 060.01.10 | B21: PROGRAM PEMELIHARAAN KEAMANAN DAN KETERTIBAN MASYARAKAT | Q21: =Q22+Q30 -> 632880000
A22: 3128 | B22: Dukungan Manajemen dan Teknis Pemeliharaan Keamanan dan Ketertiban Masyarakat | Q22: =Q23 -> 614880000
A23: 3128.001 | B23: Layanan Dukungan Manajemen Dan Teknis Harkamtibmas (Base Line) | N23: 12 | O23: BLN | Q23: =Q254+Q24 -> 614880000
A24: 003 | B24: Dukungan Operasional Pertahanan dan Keamanan | Q24: =Q25 -> 614880000
A25: FZ | B25: ULP NON ORGANIK / JAGA FUNGSI POLRES | Q25: =Q26 -> 614880000
A26: 521112 | B26: Belanja pengadaan bahan makanan | Q26: =Q27 -> 614880000 | R26: RM
B27: > | C27: Uang Makan Non Organik | Q27: =Q28 -> 614880000
C28: - Polres | F28: [ | G28: 24 | H28: Org | I28: x | J28: 366 | K28: HR | L28: ] | N28: =J28*G28 -> 8784 | O28: OH | P28: 70000 | Q28: =N28*P28 -> 614880000
A30: 5077 | B30: Pembinaan Operasional Pemeliharaan Keamanan | Q30: =Q31 -> 18000000
A31: 5077.001 | B31: Operasional Pemeliharaan Keamanan | N31: 12 | O31: BLN | Q31: =Q32 -> 18000000
A32: 003 | B32: Dukungan Operasional Pertahanan dan Keamanan | Q32: =Q33 -> 18000000
A33: GT | B33: SETRA PELAYANAN KEPOLISIAN | Q33: =Q34 -> 18000000
A34: 521119 | B34: Belanja Barang Operasional Lainnya | Q34: =Q35 -> 18000000
B35: - | C35: GIAT SPK | N35: 1 | O35: THN | P35: 18000000 | Q35: =N35*P35 -> 18000000 | R35: RM
B37: JUMLAH | Q37: =Q21+Q12 -> 645120000

Sheet HUMAS
A1: KEPOLISIAN NEGARA REPUBLIK INDONESIA
A2: DAERAH SULAWESI BARAT
A3: RESORT POLEWALI MANDAR
A4: JL. Dr. Ratulangi No. 17 Polewali 91314
A6: RENCANA PENDISTRIBUSIAN ANGGARAN (RENDISGAR) TAHUN 2020
A7: SEKSI HUMAS
A9: No | B9: Tahapan Pelaksanaan dan Rincian Komponen Biaya | N9: Volume | O9: Satuan | P9: Biaya | Q9: Jumlah | R9: SD/CP
O10: Ukur | P10: Satuan Ukur
A11: 1 | B11: 2 | N11: 3 | O11: 5 | P11: 6 | Q11: 7
A12: 060.01.01 | B12: Program Dukungan Manajemen dan Pelaksanaan Tugas Teknis Lainnya Polri | Q12: =Q13+Q31 -> 91832000
A13: 3070 | B13: Penerangan Masyarakat | Q13: =Q14 -> 79312000
A14: 3070.001 | B14: Layanan Penerangan Masyarakat | N14: 12 | O14: BLN | Q14: =Q15 -> 79312000
A15: 003 | B15: Dukungan Operasional Pertahanan dan Keamanan | Q15: =Q16 -> 79312000
A16: AJ | B16: PENYELENGGARAAN HUMAS, PROTOKOL DAN PEMBERITAAN | Q16: =Q17 -> 79312000
A17: 521119 | B17: Belanja Barang Operasional Lainnya | Q17: =Q18+Q24 -> 79312000 | R17: RM
B18: > Press Release | Q18: =Q19+Q21+Q22+Q23 -> 66144000
C19: - Penggandaaan Materi Siaran Pers | N19: 67200 | O19: EXPL | P19: 250 | Q19: =N19*P19 -> 16800000
C20: atau Pers Release (40 LMBR x 35 EXPL x 4 GIAT x 12 BLN)
C21: - Makan | D21: ( | E21: 15 | F21: ORG | G21: x | H21: 4 | I21: GIAT | J21: x | K21: 12 | L21: BLN | M21: ) | N21: =E21*H21*K21 -> 720 | O21: ORG | P21: 47000 | Q21: =N21*P21 -> 33840000
C22: - Snack | D22: ( | E22: 15 | F22: ORG | G22: x | H22: 4 | I22: GIAT | J22: x | K22: 12 | L22: BLN | M22: ) | N22: =E22*H22*K22 -> 720 | O22: ORG | P22: 20000 | Q22: =N22*P22 -> 14400000
C23: - Dukmin | N23: 4 | O23: GIAT | P23: 276000 | Q23: =N23*P23 -> 1104000
B24: > Press Release | Q24: =Q25+Q27+Q28+Q29 -> 13168000
C25: - Penggandaaan Materi Siaran Pers | N25: 5040 | O25: EXPL | P25: 250 | Q25: =N25*P25 -> 1260000
C26: atau Pers Release (15 LMBR x 14 EXPL x 2 GIAT x 12 BLN)
C27: - Makan | D27: ( | E27: 7 | F27: ORG | G27: x | H27: 2 | I27: GIAT | J27: x | K27: 12 | L27: BLN | M27: ) | N27: =E27*H27*K27 -> 168 | O27: ORG | P27: 47000 | Q27: =N27*P27 -> 7896000
C28: - Snack | D28: ( | E28: 7 | F28: ORG | G28: x | H28: 2 | I28: GIAT | J28: x | K28: 12 | L28: BLN | M28: ) | N28: =E28*H28*K28 -> 168 | O28: ORG | P28: 20000 | Q28: =N28*P28 -> 3360000
C29: - Dukmin | N29: 2 | O29: GIAT | P29: 326000 | Q29: =N29*P29 -> 652000
A31: 3073 | B31: Dukungan Pelayanan Internal perkantoran Polri | Q31: =Q32+Q41 -> 12520000
A32: 3073.001 | B32: Layanan Dukungan Manajemen Internal Perkantoran | N32: 12 | O32: BLN | Q32: =Q33 -> 6400000
A33: 003 | B33: Dukungan Operasional Pertahanan dan Keamanan | Q33: =Q34 -> 6400000
A34: S | B34: MENYELENGGARAKAN HUMAS | Q34: =Q35 -> 6400000
A35: 521119 | B35: Belanja barang operasional lainnya | Q35: =Q36+Q38 -> 6400000 | R35: RM
C36: > GIAT HUMAS | N36: 1 | O36: THN | P36: 4000000 | Q36: =P36 -> 4000000
C37: -Giat Humas
C38: > SARANA KONTAK | N38: 12 | O38: BLN | P38: 200000 | Q38: =N38*P38 -> 2400000
C39: -Sarana Kontak
A41: 3073.994 | B41: Layanan Perkantoran | N41: 12 | O41: BLN | Q41: =Q42 -> 6120000
A42: 002 | B42: Operasional Dan Pemeliharaan Kantor | Q42: =Q43 -> 6120000
A43: BX | B43: PENGADAAN PERALATAN / PERLENGKAPAN KANTOR POLRES | Q43: =Q44 -> 6120000
A44: 521811 | B44: Belanja Keperluan Perkantoran | Q44: =Q45 -> 6120000 | R44: RM
B45: >> | C45: Bekal Kantor | Q45: =Q46 -> 6120000
C46: - SUBBAG HUMAS | N46: 4 | O46: OT | P46: 1530000 | Q46: =N46*P46 -> 6120000
B48: JUMLAH | Q48: =Q12 -> 91832000

Sheet SITIPOL
A1: KEPOLISIAN NEGARA REPUBLIK INDONESIA
A2: DAERAH SULAWESI BARAT
A3: RESORT POLEWALI MANDAR
A4: JL. Dr. Ratulangi No. 17 Polewali 91314
A6: RENCANA PENDISTRIBUSIAN ANGGARAN (RENDISGAR) TAHUN 2020
A7: SITIPOL
A9: No | B9: Tahapan Pelaksanaan dan Rincian Komponen Biaya | N9: Volume | O9: Satuan | P9: Biaya | Q9: Jumlah | R9: SD/CP
O10: Ukur | P10: Satuan Ukur
A11: 1 | B11: 2 | N11: 3 | O11: 5 | P11: 6 | Q11: 7
A12: 060.01.01 | B12: Program Dukungan Manajemen dan Pelaksanaan Tugas Teknis Lainnya Polri | Q12: =Q13 -> 7650000
A13: 3073 | B13: Dukungan Pelayanan Internal perkantoran Polri | Q13: =Q14 -> 7650000
A14: 3073.994 | B14: Layanan Perkantoran | N14: 12 | O14: BLN | Q14: =Q15 -> 7650000
A15: 002 | B15: Operasional Pemeliharaan Kantor | Q15: =Q16 -> 7650000
A16: BX | B16: PENGADAAN PERALATAN / PERLENGKAPAN KANTOR POLRES | Q16: =Q17 -> 7650000
A17: 521811 | B17: Belanja Keperluan Perkantoran | Q17: =Q18 -> 7650000 | R17: RM
B18: >> | C18: Bekal Kantor | N18: =SUM(N19:N19) -> 5 | O18: OT | P18: 1530000 | Q18: =SUM(Q19:Q19) -> 7650000
C19: - SITIPOL | N19: 5 | O19: OT | P19: 1530000 | Q19: =N19*P19 -> 7650000
A21: 060.01.10 | B21: PROGRAM PEMELIHARAAN KEAMANAN DAN KETERTIBAN MASYARAKAT | Q21: =Q22 -> 6750000
A22: 3128 | B22: Dukungan Manajemen dan Teknis Pemeliharaan Keamanan dan Ketertiban Masyarakat | Q22: =Q23 -> 6750000
A23: 3128.001 | B23: Layanan Dukungan Manajemen Dan Teknis Harkamtibmas (Base Line) | N23: 12 | O23: BLN | Q23: =Q24 -> 6750000
A24: 003 | B24: Dukungan Operasional Pertahanan dan Keamanan | Q24: =Q25 -> 6750000
A25: FT | B25: DUKOPSNAL POLRES | Q25: =Q26 -> 6750000
A26: 521119 | B26: Belanja Barang Operasional Lainnya | Q26: =Q27 -> 6750000 | R26: RM
B27: > | C27: DUKUNGAN OPERASIONAL | Q27: =Q28+Q34+Q39+Q44 -> 6750000
C28: >> Vicon Satker | Q28: =SUM(Q29:Q29) -> 6750000
C29: - Snack | D29: 15 | E29: Org | F29: x | G29: 1 | H29: Hr | I29: x | J29: 30 | K29: Giat | N29: =D29*G29*J29 -> 450 | O29: OG | P29: 15000 | Q29: =N29*P29 -> 6750000
B31: JUMLAH | Q31: =Q12+Q21 -> 14400000

Sheet SIUM
A1: KEPOLISIAN NEGARA REPUBLIK INDONESIA
A2: DAERAH SULAWESI BARAT
A3: RESORT POLEWALI MANDAR
A4: JL. Dr. Ratulangi No. 17 Polewali 91314
A6: RENCANA PENDISTRIBUSIAN ANGGARAN (RENDISGAR) TAHUN 2020
A7: SEKSI UMUM
A9: No | B9: Tahapan Pelaksanaan dan Rincian Komponen Biaya | N9: Volume | O9: Satuan | P9: Biaya | Q9: Jumlah | R9: SD/CP
O10: Ukur | P10: Satuan Ukur
A11: 1 | B11: 2 | N11: 3 | O11: 5 | P11: 6 | Q11: 7
A12: 060.01.01 | B12: Program Dukungan Manajemen dan Pelaksanaan Tugas Teknis Lainnya Polri | Q12: =Q13 -> 12240000
A13: 3073 | B13: Dukungan Pelayanan Internal perkantoran Polri | Q13: =Q14 -> 12240000
A14: 3073.994 | B14: Layanan Perkantoran | N14: 12 | O14: BLN | Q14: =Q15 -> 12240000
A15: 002 | B15: Operasional Pemeliharaan Kantor | Q15: =Q16 -> 12240000
A16: BX | B16: PENGADAAN PERALATAN / PERLENGKAPAN KANTOR POLRES | Q16: =Q17 -> 12240000
A17: 521811 | B17: Belanja Keperluan Perkantoran | Q17: =Q18 -> 12240000 | R17: RM
B18: >> | C18: Bekal Kantor | N18: =SUM(N19:N19) -> 8 | O18: OT | P18: 1530000 | Q18: =SUM(Q19:Q19) -> 12240000
C19: - SIUM | N19: 8 | O19: OT | P19: 1530000 | Q19: =N19*P19 -> 12240000
B20: JUMLAH | Q20: =Q12 -> 12240000

Sheet WONO
A1: KEPOLISIAN NEGARA REPUBLIK INDONESIA
A2: DAERAH SULAWESI BARAT
A3: RESORT POLEWALI MANDAR
A4: JL. Dr. Ratulangi No. 17 Polewali 91314
A6: RENCANA PENDISTRIBUSIAN ANGGARAN (RENDISGAR) TAHUN 2020
A7: POLSEK WONOMULYO
A9: No | B9: Tahapan Pelaksanaan dan Rincian Komponen Biaya | N9: Volume | O9: Satuan | P9: Biaya | Q9: Jumlah | R9: SD/CP
O10: Ukur | P10: Satuan Ukur
A11: 1 | B11: 2 | N11: 3 | O11: 5 | P11: 6 | Q11: 7
A12: 060.01.01 | B12: Program Dukungan Manajemen dan Pelaksanaan Tugas Teknis Lainnya Polri | Q12: =Q13 -> 24480000
A13: 3073 | B13: Dukungan Pelayanan Internal perkantoran Polri | Q13: =Q14 -> 24480000
A14: 3073.994 | B14: Layanan Perkantoran | N14: 1 | O14: Layanan | Q14: =Q15 -> 24480000
A15: 002 | B15: Operasional Dan Pemeliharaan Kantor | Q15: =Q16 -> 24480000
A16: BY | B16: PENGADAAN PERALATAN / PERLENGKAPAN KANTOR POLSEK | Q16: =Q17 -> 24480000
A17: 521811 | B17: Belanja Keperluan Perkantoran | Q17: =Q18 -> 24480000 | R17: RM
C18: - Polsek Wonomulyo | N18: 16 | O18: OT | P18: 1530000 | Q18: =N18*P18 -> 24480000
A20: 060.01.07 | B20: PROGRAM PENGEMBANGAN STRATEGI KEAMANAN DAN KETERTIBAN | Q20: =Q21+Q44+Q56+Q68+Q80 -> 53631000
A21: 3111 | B21: Dukungan Manajemen dan Teknis Strategi Keamanan dan Ketertiban | Q21: =Q22 -> 12020000
A22: 3111.994 | B22: Layanan Perkantoran | N22: 12 | O22: BLN | Q22: =Q23 -> 12020000
A23: 003 | B23: Dukungan Operasional Pertahanan dan Keamanan | Q23: =Q24+Q29+Q34+Q39 -> 12020000
A24: B | B24: HONOR PNBP | Q24: =Q25 -> 4200000
A25: 521115 | B25: Honor Operasional satuan kerja | Q25: =Q26 -> 4200000 | R25: PNBP
B26: > | C26: Honor Pelaksana SKCK | Q26: =SUM(Q27:Q27) -> 4200000
C27: - Polsek Wonomulyo | G27: [ | H27: 1 | I27: Org | J27: x | K27: 12 | L27: Bln | M27: ] | N27: =H27*K27 -> 12 | O27: OB | P27: 350000 | Q27: =N27*P27 -> 4200000
A29: BY | B29: PENGADAAN PERALATAN / PERLENGKAPAN KANTOR (POLSEK) | Q29: =Q30 -> 5000000
A30: 521811 | B30: Belanja Keperluan Perkantoran | Q30: =SUM(Q32:Q32) -> 5000000 | R30: PNBP
B31: > | C31: TK SKCK Polsek
C32: - Polsek Wonomulyo | N32: 1 | O32: THN | P32: 5000000 | Q32: =N32*P32 -> 5000000
A34: FS | B34: DUKUNGAN OPERASIONAL SATKER | Q34: =Q35 -> 1200000
A35: 521119 | B35: Belanja Barang Operasional Lainnya | Q35: =SUM(Q37:Q37) -> 1200000 | R35: PNBP
B36: > | C36: Dukungan Pulsa Personal Digital Assistant (PDA)
C37: - Polsek Wonomulyo | D37: ( | E37: 1 | F37: UNIT | G37: x | H37: 12 | I37: BLN | J37: ) | N37: =E37*H37 -> 12 | O37: UNIT | P37: 100000 | Q37: =N37*P37 -> 1200000
A39: KR | B39: DETEKSI / DETEKSI AKSI ( POLSEK ) | Q39: =Q40 -> 1620000
A40: 521119 | B40: Belanja Barang Opeasional Lainnya | Q40: =Q41 -> 1620000 | R40: PNBP
B41: > | C41: Produk Intelijen berupa Laporan informasi | Q41: =SUM(Q42:Q42) -> 1620000
C42: - Polsek Wonomulyo | N42: 12 | O42: LAP | P42: 135000 | Q42: =N42*P42 -> 1620000
A44: 3114 | B44: Penyelenggaraan Strategi Keamanan dan Ketertiban Bidang Politik | Q44: =Q45 -> 11021000
A45: 3114.001 | B45: Informasi Deteksi Aksi Strategi Keamanan dan Ketertiban Bidang Politik | N45: 12 | O45: BLN | Q45: =Q46 -> 11021000
A46: 003 | B46: Dukungan Operasional Pertahanan dan Keamanan | Q46: =Q47 -> 11021000
A47: DZ | B47: STRATEGI KEAMANAN DAN KETERTIBAN BIDANG POLITIK | Q47: =Q48 -> 11021000
A48: 521119 | B48: Belanja Barang Opeasional Lainnya | Q48: =Q49+Q52 -> 11021000 | R48: RM
B49: > | C49: Giat Intelijen | Q49: =Q50 -> 2565000
C50: >> Pulbaket Polsek | Q50: =SUM(Q51:Q51) -> 2565000
C51: - Polsek Wonomulyo | N51: 19 | O51: Lap | P51: 135000 | Q51: =N51*P51 -> 2565000
B52: > | C52: Giat Taktis Intelijen | Q52: =Q53 -> 8456000
C53: >> Deteksi/ Lidik | Q53: =SUM(Q54:Q54) -> 8456000
C54: - Polsek Wonomulyo | D54: ( | E54: 2 | F54: org | G54: x | H54: 4 | I54: hr | J54: ) | N54: =E54*H54 -> 8 | O54: OH | P54: 1057000 | Q54: =N54*P54 -> 8456000
A56: 3115 | B56: Penyelenggaraan Strategi Keamanan dan Ketertiban Bidang Ekonomi | Q56: =Q57 -> 11696000
A57: 3115.001 | B57: Informasi Deteksi Aksi Strategi Keamanan dan Ketertiban Bidang Ekonomi | N57: 12 | O57: BLN | Q57: =Q58 -> 11696000
A58: 003 | B58: Dukungan Operasional Pertahanan dan Keamanan | Q58: =Q59 -> 11696000
A59: EA | B59: STRATEGI KEAMANAN DAN KETERTIBAN BIDANG EKONOMI | Q59: =Q60 -> 11696000
A60: 521119 | B60: Belanja Barang Opeasional Lainnya | Q60: =Q61+Q64 -> 11696000 | R60: RM
B61: > | C61: Giat Intelijen | Q61: =Q62 -> 3240000
C62: >> Pulbaket Polsek | Q62: =SUM(Q63:Q63) -> 3240000
C63: - Polsek Wonomulyo | N63: 24 | O63: Lap | P63: 135000 | Q63: =N63*P63 -> 3240000
B64: > | C64: Giat Taktis Intelijen | Q64: =Q65 -> 8456000
C65: >> Deteksi/ Lidik | Q65: =SUM(Q66:Q66) -> 8456000
C66: - Polsek Wonomulyo | D66: ( | E66: 2 | F66: org | G66: x | H66: 4 | I66: hr | J66: ) | N66: =E66*H66 -> 8 | O66: OH | P66: 1057000 | Q66: =N66*P66 -> 8456000
A68: 3116 | B68: Penyelenggaraan Strategi Keamanan dan Ketertiban Bidang Sosial | Q68: =Q69 -> 9312000
A69: 3116.001 | B69: Informasi Deteksi Aksi Strategi Keamanan dan Ketertiban Bidang Sosial | N69: 12 | O69: BLN | Q69: =Q70 -> 9312000
A70: 003 | B70: Dukungan Operasional Pertahanan dan Keamanan | Q70: =Q71 -> 9312000
A71: EB | B71: STRATEGI KEAMANAN DAN KETERTIBAN BIDANG SOSIAL | Q71: =Q72 -> 9312000
A72: 521119 | B72: Belanja Barang Opeasional Lainnya | Q72: =Q73+Q76 -> 9312000 | R72: RM
B73: > | C73: Giat Intelijen | Q73: =Q74 -> 2970000
C74: >> Pulbaket Polsek | Q74: =SUM(Q75:Q75) -> 2970000
C75: - Polsek Wonomulyo | N75: 22 | O75: Lap | P75: 135000 | Q75: =N75*P75 -> 2970000
B76: > | C76: Giat Taktis Intelijen | Q76: =Q77 -> 6342000
C77: >> Deteksi/ Lidik | Q77: =SUM(Q78:Q78) -> 6342000
C78: - Polsek Wonomulyo | D78: ( | E78: 2 | F78: org | G78: x | H78: 3 | I78: hr | J78: ) | N78: =E78*H78 -> 6 | O78: OH | P78: 1057000 | Q78: =N78*P78 -> 6342000
A80: 3117 | B80: Penyelenggaraan Strategi Keamanan dan Ketertiban Bidang Keamanan Negara | Q80: =Q81 -> 9582000
A81: 3117.001 | B81: Informasi Deteksi Aksi Strategi Keamanan dan Ketertiban Bidang Keamanan Negara | N81: 12 | O81: BLN | Q81: =Q82 -> 9582000
A82: 003 | B82: Dukungan Operasional Pertahanan dan Keamanan | Q82: =Q83 -> 9582000
A83: EC | B83: STRATEGI KEAMANAN DAN KETERTIBAN KEAMANAN NEGARA | Q83: =Q84 -> 9582000
A84: 521119 | B84: Belanja Barang Opeasional Lainnya | Q84: =Q85+Q88 -> 9582000 | R84: RM
B85: > | C85: Giat Intelijen | Q85: =Q86 -> 3240000
C86: >> Pulbaket Polsek | Q86: =SUM(Q87:Q87) -> 3240000
C87: - Polsek Wonomulyo | N87: 24 | O87: Lap | P87: 135000 | Q87: =N87*P87 -> 3240000
B88: > | C88: Giat Taktis Intelijen | Q88: =Q89 -> 6342000
C89: >> Deteksi/ Lidik | Q89: =SUM(Q90:Q90) -> 6342000
C90: - Polsek Wonomulyo | D90: ( | E90: 2 | F90: org | G90: x | H90: 3 | I90: hr | J90: ) | N90: =E90*H90 -> 6 | O90: OH | P90: 1057000 | Q90: =N90*P90 -> 6342000
A92: 060.01.09 | B92: PROGRAM PEMBERDAYAAN POTENSI KEAMANAN | Q92: =Q93 -> 20792000
A93: 5076 | B93: Pembinaan Potensi Keamanan | Q93: =Q94+Q374 -> 20792000
A94: 5076.002 | B94: Pemberdayaan Potensi Keamanan | N94: 12 | O94: BLN | Q94: =Q95 -> 20792000
A95: 003 | B95: Dukungan Operasional Pertahanan dan Keamanan | Q95: =Q96+Q111 -> 20792000
A96: FN | B96: PERTEMUAN KEMITRAAN POLISI DAN MASYARAKAT POLSEK | Q96: =Q97 -> 12728000
A97: 521119 | B97: Belanja Barang Operasional Lainnya | Q97: =Q98+Q104 -> 12728000 | R97: RM
B98: > | C98: BIMBINGAN DAN PENYULUHAN MASYARAKAT | Q98: =Q99 -> 7408000
B99: >> | C99: POLSEK WONOMULYO | Q99: =SUM(Q100:Q103) -> 7408000
C100: - Uang Saku | D100: ( | E100: 4 | F100: Org | G100: x | H100: 19 | I100: giat | J100: ) | N100: =E100*H100 -> 76 | O100: OG | P100: 22000 | Q100: =N100*P100 -> 1672000
C101: - Dana Makan | D101: ( | E101: 4 | F101: Org | G101: x | H101: 19 | I101: giat | J101: ) | N101: =E101*H101 -> 76 | O101: OG | P101: 31000 | Q101: =N101*P101 -> 2356000
C102: - Dana Satuan | D102: ( | E102: 4 | F102: Org | G102: x | H102: 19 | I102: giat | J102: ) | N102: =E102*H102 -> 76 | O102: OG | P102: 5000 | Q102: =N102*P102 -> 380000
C103: - Sarana Kontak | N103: 1 | O103: THN | P103: 3000000 | Q103: =N103*P103 -> 3000000
B104: > | C104: BIMBINGAN DAN PENYULUHAN NARKOBA | Q104: =Q105 -> 5320000
B105: >> | C105: POLSEK WONOMULYO | Q105: =SUM(Q106:Q109) -> 5320000
C106: - Uang Saku | D106: ( | E106: 4 | F106: Org | G106: x | H106: 10 | I106: giat | J106: ) | N106: =E106*H106 -> 40 | O106: OG | P106: 22000 | Q106: =N106*P106 -> 880000
C107: - Dana Makan | D107: ( | E107: 4 | F107: Org | G107: x | H107: 10 | I107: giat | J107: ) | N107: =E107*H107 -> 40 | O107: OG | P107: 31000 | Q107: =N107*P107 -> 1240000
C108: - Dana Satuan | D108: ( | E108: 4 | F108: Org | G108: x | H108: 10 | I108: giat | J108: ) | N108: =E108*H108 -> 40 | O108: OG | P108: 5000 | Q108: =N108*P108 -> 200000
C109: - Sarana Kontak | N109: 1 | O109: PKT | P109: 3000000 | Q109: =N109*P109 -> 3000000
A111: UK | B111: KEGIATAN I PROGRAM QUICK WINS | Q111: =Q112 -> 8064000
A112: 521119 | B112: Belanja Barang Operasional Lainnya | Q112: =Q113+Q181+Q186 -> 8064000 | R112: RM
...

Sheet CAMPA
A1: KEPOLISIAN NEGARA REPUBLIK INDONESIA
A2: DAERAH SULAWESI BARAT
A3: RESORT POLEWALI MANDAR
A4: JL. Dr. Ratulangi No. 17 Polewali 91314
A6: RENCANA PENDISTRIBUSIAN ANGGARAN (RENDISGAR) TAHUN 2020
A7: POLSEK CAMPALAGIAN
A9: No | B9: Tahapan Pelaksanaan dan Rincian Komponen Biaya | N9: Volume | O9: Satuan | P9: Biaya | Q9: Jumlah | R9: SD/CP
O10: Ukur | P10: Satuan Ukur
A11: 1 | B11: 2 | N11: 3 | O11: 5 | P11: 6 | Q11: 7
A12: 060.01.01 | B12: Program Dukungan Manajemen dan Pelaksanaan Tugas Teknis Lainnya Polri | Q12: =Q13 -> 19890000
A13: 3073 | B13: Dukungan Pelayanan Internal perkantoran Polri | Q13: =Q14 -> 19890000
A14: 3073.994 | B14: Layanan Perkantoran | N14: 1 | O14: Layanan | Q14: =Q15 -> 19890000
A15: 002 | B15: Operasional Pemeliharaan Kantor | Q15: =Q16 -> 19890000
A16: BY | B16: PENGADAAN PERALATAN / PERLENGKAPAN KANTOR POLSEK | Q16: =Q17 -> 19890000
A17: 521811 | B17: Belanja Keperluan Perkantoran | Q17: =SUM(Q19:Q19) -> 19890000 | R17: RM
B18: > | C18: Bekal Kantor Polsek
C19: - Polsek Campalagian | N19: 13 | O19: OT | P19: 1530000 | Q19: =N19*P19 -> 19890000
A21: 060.01.07 | B21: PROGRAM PENGEMBANGAN STRATEGI KEAMANAN DAN KETERTIBAN | Q21: =Q22+Q40+Q52+Q64+Q76 -> 37257000
A22: 3111 | B22: Dukungan Manajemen dan Teknis Strategi Keamanan dan Ketertiban | Q22: =Q23 -> 10220000
A23: 3111.994 | B23: Layanan Perkantoran | N23: 12 | O23: BLN | Q23: =Q24 -> 10220000
A24: 003 | B24: Dukungan Operasional Pertahanan dan Keamanan | Q24: =Q25+Q30+Q35 -> 10220000
A25: B | B25: HONOR PNBP | Q25: =Q26 -> 3600000
A26: 521115 | B26: Honor Operasional satuan kerja | Q26: =Q27 -> 3600000 | R26: PNBP
B27: > | C27: Honor Pelaksana SKCK | Q27: =SUM(Q28:Q28) -> 3600000
C28: - Polsek CAMPALAGIAN | G28: [ | H28: 1 | I28: Org | J28: x | K28: 12 | L28: Bln | M28: ] | N28: =H28*K28 -> 12 | O28: OB | P28: 300000 | Q28: =N28*P28 -> 3600000
A30: BY | B30: PENGADAAN PERALATAN / PERLENGKAPAN KANTOR (POLSEK) | Q30: =Q31 -> 5000000
A31: 521811 | B31: Belanja Keperluan Perkantoran | Q31: =SUM(Q33:Q33) -> 5000000 | R31: PNBP
B32: > | C32: TK SKCK Polsek
C33: - Polsek CAMPALAGIAN | N33: 1 | O33: THN | P33: 5000000 | Q33: =N33*P33 -> 5000000
A35: KR | B35: DETEKSI / DETEKSI AKSI ( POLSEK ) | Q35: =Q36 -> 1620000
A36: 521119 | B36: Belanja Barang Opeasional Lainnya | Q36: =Q37 -> 1620000 | R36: PNBP
B37: > | C37: Produk Intelijen berupa Laporan informasi | Q37: =SUM(Q38:Q38) -> 1620000
C38: - Polsek CAMPALAGIAN | N38: 12 | O38: LAP | P38: 135000 | Q38: =N38*P38 -> 1620000
A40: 3114 | B40: Penyelenggaraan Strategi Keamanan dan Ketertiban Bidang Politik | Q40: =Q41 -> 6793000
A41: 3114.001 | B41: Informasi Deteksi Aksi Strategi Keamanan dan Ketertiban Bidang Politik | N41: 12 | O41: BLN | Q41: =Q42 -> 6793000
A42: 003 | B42: Dukungan Operasional Pertahanan dan Keamanan | Q42: =Q43 -> 6793000
A43: DZ | B43: STRATEGI KEAMANAN DAN KETERTIBAN BIDANG POLITIK | Q43: =Q44 -> 6793000
A44: 521119 | B44: Belanja Barang Opeasional Lainnya | Q44: =Q45+Q48 -> 6793000 | R44: RM
B45: > | C45: Giat Intelijen | Q45: =Q46 -> 2565000
C46: >> Pulbaket Polsek | Q46: =SUM(Q47:Q47) -> 2565000
C47: - Polsek CAMPALAGIAN | N47: 19 | O47: Lap | P47: 135000 | Q47: =N47*P47 -> 2565000
B48: > | C48: Giat Taktis Intelijen | Q48: =Q49 -> 4228000
C49: >> Deteksi/ Lidik | Q49: =SUM(Q50:Q50) -> 4228000
C50: - Polsek CAMPALAGIAN | D50: ( | E50: 2 | F50: org | G50: x | H50: 2 | I50: hr | J50: ) | N50: =E50*H50 -> 4 | O50: OH | P50: 1057000 | Q50: =N50*P50 -> 4228000
A52: 3115 | B52: Penyelenggaraan Strategi Keamanan dan Ketertiban Bidang Ekonomi | Q52: =Q53 -> 6793000
A53: 3115.001 | B53: Informasi Deteksi Aksi Strategi Keamanan dan Ketertiban Bidang Ekonomi | N53: 12 | O53: BLN | Q53: =Q54 -> 6793000
A54: 003 | B54: Dukungan Operasional Pertahanan dan Keamanan | Q54: =Q55 -> 6793000
A55: EA | B55: STRATEGI KEAMANAN DAN KETERTIBAN BIDANG EKONOMI | Q55: =Q56 -> 6793000
A56: 521119 | B56: Belanja Barang Opeasional Lainnya | Q56: =Q57+Q60 -> 6793000 | R56: RM
B57: > | C57: Giat Intelijen | Q57: =Q58 -> 2565000
C58: >> Pulbaket Polsek | Q58: =SUM(Q59:Q59) -> 2565000
C59: - Polsek CAMPALAGIAN | N59: 19 | O59: Lap | P59: 135000 | Q59: =N59*P59 -> 2565000
B60: > | C60: Giat Taktis Intelijen | Q60: =Q61 -> 4228000
C61: >> Deteksi/ Lidik | Q61: =SUM(Q62:Q62) -> 4228000
C62: - Polsek CAMPALAGIAN | D62: ( | E62: 2 | F62: org | G62: x | H62: 2 | I62: hr | J62: ) | N62: =E62*H62 -> 4 | O62: OH | P62: 1057000 | Q62: =N62*P62 -> 4228000
A64: 3116 | B64: Penyelenggaraan Strategi Keamanan dan Ketertiban Bidang Sosial | Q64: =Q65 -> 6658000
A65: 3116.001 | B65: Informasi Deteksi Aksi Strategi Keamanan dan Ketertiban Bidang Sosial | N65: 12 | O65: BLN | Q65: =Q66 -> 6658000
A66: 003 | B66: Dukungan Operasional Pertahanan dan Keamanan | Q66: =Q67 -> 6658000
A67: EB | B67: STRATEGI KEAMANAN DAN KETERTIBAN SOSIAL BUDAYA | Q67: =Q68 -> 6658000
A68: 521119 | B68: Belanja Barang Opeasional Lainnya | Q68: =Q69+Q72 -> 6658000 | R68: RM
B69: > | C69: Giat Intelijen | Q69: =Q70 -> 2430000
C70: >> Pulbaket Polsek | Q70: =SUM(Q71:Q71) -> 2430000
C71: - Polsek CAMPALAGIAN | N71: 18 | O71: Lap | P71: 135000 | Q71: =N71*P71 -> 2430000
B72: > | C72: Giat Taktis Intelijen | Q72: =Q73 -> 4228000
C73: >> Deteksi/ Lidik | Q73: =SUM(Q74:Q74) -> 4228000
C74: - Polsek CAMPALAGIAN | D74: ( | E74: 2 | F74: org | G74: x | H74: 2 | I74: hr | J74: ) | N74: =E74*H74 -> 4 | O74: OH | P74: 1057000 | Q74: =N74*P74 -> 4228000
A76: 3117 | B76: Penyelenggaraan Strategi Keamanan dan Ketertiban Bidang Keamanan Negara | Q76: =Q77 -> 6793000
A77: 3117.001 | B77: Informasi Deteksi Aksi Strategi Keamanan dan Ketertiban Bidang Keamanan Negara | N77: 12 | O77: BLN | Q77: =Q78 -> 6793000
A78: 003 | B78: Dukungan Operasional Pertahanan dan Keamanan | Q78: =Q79 -> 6793000
A79: EC | B79: STRATEGI KEAMANAN DAN KETERTIBAN KEAMANAN NEGARA | Q79: =Q80 -> 6793000
A80: 521119 | B80: Belanja Barang Opeasional Lainnya | Q80: =Q81+Q84 -> 6793000 | R80: RM
B81: > | C81: Giat Intelijen | Q81: =Q82 -> 2565000
C82: >> Pulbaket Polsek | Q82: =SUM(Q83:Q83) -> 2565000
C83: - Polsek CAMPALAGIAN | N83: 19 | O83: Lap | P83: 135000 | Q83: =N83*P83 -> 2565000
B84: > | C84: Giat Taktis Intelijen | Q84: =Q85 -> 4228000
C85: >> Deteksi/ Lidik | Q85: =SUM(Q86:Q86) -> 4228000
C86: - Polsek CAMPALAGIAN | D86: ( | E86: 2 | F86: org | G86: x | H86: 2 | I86: hr | J86: ) | N86: =E86*H86 -> 4 | O86: OH | P86: 1057000 | Q86: =N86*P86 -> 4228000
A88: 060.01.09 | B88: PROGRAM PEMBERDAYAAN POTENSI KEAMANAN | Q88: =Q89 -> 17110000
A89: 5076 | B89: Pembinaan Potensi Keamanan | Q89: =Q90 -> 17110000
A90: 5076.002 | B90: Pemberdayaan Potensi Keamanan | N90: 12 | O90: BLN | Q90: =Q91 -> 17110000
A91: 003 | B91: Dukungan Operasional Pertahanan dan Keamanan | Q91: =Q92+Q107 -> 17110000
A92: FN | B92: PERTEMUAN KEMITRAAN POLISI DAN MASYARAKAT POLSEK | Q92: =Q93 -> 9046000
A93: 521119 | B93: Belanja Barang Operasional Lainnya | Q93: =Q94+Q100 -> 9046000 | R93: RM
B94: > | C94: BIMBINGAN DAN PENYULUHAN MASYARAKAT | Q94: =Q95 -> 5306000
B95: >> | C95: POLSEK CAMPALAGIAN | Q95: =SUM(Q96:Q99) -> 5306000
C96: - Uang Saku | D96: ( | E96: 3 | F96: Org | G96: x | H96: 19 | I96: giat | J96: ) | N96: =E96*H96 -> 57 | O96: OG | P96: 22000 | Q96: =N96*P96 -> 1254000
C97: - Dana Makan | D97: ( | E97: 3 | F97: Org | G97: x | H97: 19 | I97: giat | J97: ) | N97: =E97*H97 -> 57 | O97: OG | P97: 31000 | Q97: =N97*P97 -> 1767000
C98: - Dana Satuan | D98: ( | E98: 3 | F98: Org | G98: x | H98: 19 | I98: giat | J98: ) | N98: =E98*H98 -> 57 | O98: OG | P98: 5000 | Q98: =N98*P98 -> 285000
C99: - Sarana Kontak | N99: 1 | O99: THN | P99: 2000000 | Q99: =N99*P99 -> 2000000
B100: > | C100: BIMBINGAN DAN PENYULUHAN NARKOBA | Q100: =Q101 -> 3740000
B101: >> | C101: POLSEK CAMPALAGIAN | Q101: =SUM(Q102:Q105) -> 3740000
C102: - Uang Saku | D102: ( | E102: 3 | F102: Org | G102: x | H102: 10 | I102: giat | J102: ) | N102: =E102*H102 -> 30 | O102: OG | P102: 22000 | Q102: =N102*P102 -> 660000
C103: - Dana Makan | D103: ( | E103: 3 | F103: Org | G103: x | H103: 10 | I103: giat | J103: ) | N103: =E103*H103 -> 30 | O103: OG | P103: 31000 | Q103: =N103*P103 -> 930000
C104: - Dana Satuan | D104: ( | E104: 3 | F104: Org | G104: x | H104: 10 | I104: giat | J104: ) | N104: =E104*H104 -> 30 | O104: OG | P104: 5000 | Q104: =N104*P104 -> 150000
C105: - Sarana Kontak | N105: 1 | O105: PKT | P105: 2000000 | Q105: =N105*P105 -> 2000000
A107: UK | B107: KEGIATAN I PROGRAM QUICK WINS | Q107: =Q108 -> 8064000
A108: 521119 | B108: Belanja Barang Operasional Lainnya | Q108: =Q109+Q164+Q169 -> 8064000 | R108: RM
B109: > | C109: Penertiban dan Penegakan Hukum Bagi Organisasi Radikal dan Anti Pancasila | Q109: =Q110 -> 8064000
C110: >>Silaturahmi ke Tokoh-Tokoh Masyarakat (TOGA, TODA, TOMAS) | Q110: =SUM(Q111:Q111) -> 8064000
C111: - POLSEK CAMPALAGIAN | D111: ( | E111: 2 | F111: org | G111: x | H111: 96 | I111: Giat | J111: ) | N111: =E111*H111 -> 192 | O111: OG | P111: 42000 | Q111: =N111*P111 -> 8064000
...

Sheet PLW
A1: KEPOLISIAN NEGARA REPUBLIK INDONESIA
A2: DAERAH SULAWESI BARAT
A3: RESORT POLEWALI MANDAR
A4: JL. Dr. Ratulangi No. 17 Polewali 91314
A6: RENCANA PENDISTRIBUSIAN ANGGARAN (RENDISGAR) TAHUN 2020
A7: POLSEK POLEWALI
A9: No | B9: Tahapan Pelaksanaan dan Rincian Komponen Biaya | N9: Volume | O9: Satuan | P9: Biaya | Q9: Jumlah | R9: SD/CP
O10: Ukur | P10: Satuan Ukur
A11: 1 | B11: 2 | N11: 3 | O11: 5 | P11: 6 | Q11: 7
A12: 060.01.01 | B12: Program Dukungan Manajemen dan Pelaksanaan Tugas Teknis Lainnya Polri | Q12: =Q13 -> 19890000
A13: 3073 | B13: Dukungan Pelayanan Internal perkantoran Polri | Q13: =Q14 -> 19890000
A14: 3073.994 | B14: Layanan Perkantoran | N14: 1 | O14: Layanan | Q14: =Q15 -> 19890000
A15: 002 | B15: Operasional Pemeliharaan Kantor | Q15: =Q16 -> 19890000
A16: BY | B16: PENGADAAN PERALATAN / PERLENGKAPAN KANTOR POLSEK | Q16: =Q17 -> 19890000
A17: 521811 | B17: Belanja Keperluan Perkantoran | Q17: =SUM(Q19:Q19) -> 19890000 | R17: RM
B18: > | C18: Bekal Kantor Polsek | T18: =#REF!-Q17 -> #REF!
C19: - Polsek Polewali | N19: 13 | O19: OT | P19: 1530000 | Q19: =N19*P19 -> 19890000 | V19: 3
A21: 060.01.07 | B21: PROGRAM PENGEMBANGAN STRATEGI KEAMANAN DAN KETERTIBAN | Q21: =Q22+Q40+Q52+Q64+Q76 -> 37392000
A22: 3111 | B22: Dukungan Manajemen dan Teknis Strategi Keamanan dan Ketertiban | Q22: =Q23 -> 10220000
A23: 3111.994 | B23: Layanan Perkantoran | N23: 12 | O23: BLN | Q23: =Q24 -> 10220000
A24: 003 | B24: Dukungan Operasional Pertahanan dan Keamanan | Q24: =Q25+Q30+Q35 -> 10220000
A25: B | B25: HONOR PNBP | Q25: =Q26 -> 3600000
A26: 521115 | B26: Belanja Honor Operasional satuan kerja | Q26: =Q27 -> 3600000 | R26: PNBP
B27: > | C27: Honor Pelaksana SKCK | Q27: =SUM(Q28:Q28) -> 3600000
C28: - Polsek Polewali | G28: [ | H28: 1 | I28: Org | J28: x | K28: 12 | L28: Bln | M28: ] | N28: =H28*K28 -> 12 | O28: OB | P28: 300000 | Q28: =N28*P28 -> 3600000
A30: BY | B30: PENGADAAN PERALATAN / PERLENGKAPAN KANTOR (POLSEK) | Q30: =Q31 -> 5000000
A31: 521811 | B31: Belanja Keperluan Perkantoran | Q31: =SUM(Q33:Q33) -> 5000000 | R31: PNBP
B32: > | C32: ATK SKCK Polsek
C33: - Polsek Polewali | N33: 1 | O33: THN | P33: 5000000 | Q33: =N33*P33 -> 5000000
A35: KR | B35: DETEKSI / DETEKSI AKSI ( POLSEK ) | Q35: =Q36 -> 1620000
A36: 521119 | B36: Belanja Barang Opeasional Lainnya | Q36: =Q37 -> 1620000 | R36: PNBP
B37: > | C37: Produk Intelijen berupa Laporan informasi | Q37: =SUM(Q38:Q38) -> 1620000
C38: - Polsek Polewali | N38: 12 | O38: LAP | P38: 135000 | Q38: =N38*P38 -> 1620000
A40: 3114 | B40: Penyelenggaraan Strategi Keamanan dan Ketertiban Bidang Politik | Q40: =Q41 -> 6793000
A41: 3114.001 | B41: Informasi Deteksi Aksi Strategi Keamanan dan Ketertiban Bidang Politik | N41: 12 | O41: BLN | Q41: =Q42 -> 6793000
A42: 003 | B42: Dukungan Operasional Pertahanan dan Keamanan | Q42: =Q43 -> 6793000
A43: DZ | B43: STRATEGI KEAMANAN DAN KETERTIBAN BIDANG POLITIK | Q43: =Q44 -> 6793000
A44: 521119 | B44: Belanja Barang Opeasional Lainnya | Q44: =Q45+Q48 -> 6793000 | R44: RM
B45: > | C45: GIAT INTELIJEN | Q45: =Q46 -> 2565000
C46: >> PULBAKET POLSEK | Q46: =SUM(Q47:Q47) -> 2565000
C47: - POLSEK POLEWALI | N47: 19 | O47: Lap | P47: 135000 | Q47: =N47*P47 -> 2565000
B48: > | C48: GIAT TAKTIS INTELIJEN | Q48: =Q49 -> 4228000
C49: >> DETEKSI / LIDIK | Q49: =SUM(Q50:Q50) -> 4228000
C50: - POLSEK POLEWALI | D50: ( | E50: 2 | F50: org | G50: x | H50: 2 | I50: hr | J50: ) | N50: =E50*H50 -> 4 | O50: OH | P50: 1057000 | Q50: =N50*P50 -> 4228000
A52: 3115 | B52: Penyelenggaraan Strategi Keamanan dan Ketertiban Bidang Ekonomi | Q52: =Q53 -> 6793000
A53: 3115.001 | B53: Informasi Deteksi Aksi Strategi Keamanan dan Ketertiban Bidang Ekonomi | N53: 12 | O53: BLN | Q53: =Q54 -> 6793000
A54: 003 | B54: Dukungan Operasional Pertahanan dan Keamanan | Q54: =Q55 -> 6793000
A55: EA | B55: STRATEGI KEAMANAN DAN KETERTIBAN BIDANG EKONOMI | Q55: =Q56 -> 6793000
A56: 521119 | B56: Belanja Barang Opeasional Lainnya | Q56: =Q57+Q60 -> 6793000 | R56: RM
B57: > | C57: GIAT INTELIJEN | Q57: =Q58 -> 2565000
C58: >> PULBAKET POLSEK | Q58: =SUM(Q59:Q59) -> 2565000
C59: - POLSEK POLEWALI | N59: 19 | O59: Lap | P59: 135000 | Q59: =N59*P59 -> 2565000
B60: > | C60: GIAT TAKTIS INTELIJEN | Q60: =Q61 -> 4228000
C61: >> DETEKSI / LIDIK | Q61: =SUM(Q62:Q62) -> 4228000
C62: - POLSEK POLEWALI | D62: ( | E62: 2 | F62: org | G62: x | H62: 2 | I62: hr | J62: ) | N62: =E62*H62 -> 4 | O62: OH | P62: 1057000 | Q62: =N62*P62 -> 4228000
A64: 3116 | B64: Penyelenggaraan Strategi Keamanan dan Ketertiban Bidang Sosial | Q64: =Q65 -> 6793000
A65: 3116.001 | B65: Informasi Deteksi Aksi Strategi Keamanan dan Ketertiban Bidang Sosial Budaya | N65: 12 | O65: BLN | Q65: =Q66 -> 6793000
A66: 003 | B66: Dukungan Operasional Pertahanan dan Keamanan | Q66: =Q67 -> 6793000
A67: EB | B67: STRATEGI KEAMANAN DAN KETERTIBAN BIDANG SOSIAL | Q67: =Q68 -> 6793000
A68: 521119 | B68: Belanja Barang Opeasional Lainnya | Q68: =Q69+Q72 -> 6793000 | R68: RM
B69: > | C69: Giat Intelijen | Q69: =Q70 -> 2565000
C70: >> Pulbaket Polsek | Q70: =SUM(Q71:Q71) -> 2565000
C71: - Polsek Polewali | N71: 19 | O71: Lap | P71: 135000 | Q71: =N71*P71 -> 2565000
B72: > | C72: Giat Taktis Intelijen | Q72: =Q73 -> 4228000
C73: >> Deteksi/ Lidik | Q73: =SUM(Q74:Q74) -> 4228000
C74: - Polsek Polewali | D74: ( | E74: 2 | F74: org | G74: x | H74: 2 | I74: hr | J74: ) | N74: =E74*H74 -> 4 | O74: OH | P74: 1057000 | Q74: =N74*P74 -> 4228000
A76: 3117 | B76: Penyelenggaraan Strategi Keamanan dan Ketertiban Bidang Keamanan Negara | Q76: =Q77 -> 6793000
A77: 3117.001 | B77: Informasi Deteksi Aksi Strategi Keamanan dan Ketertiban Bidang Keamanan Negara | N77: 12 | O77: BLN | Q77: =Q78 -> 6793000
A78: 003 | B78: Dukungan Operasional Pertahanan dan Keamanan | Q78: =Q79+Q159 -> 6793000
A79: EC | B79: STRATEGI KEAMANAN DAN KETERTIBAN BIDANG KEAMANAN NEGARA | Q79: =Q80 -> 6793000
A80: 521119 | B80: Belanja Barang Opeasional Lainnya | Q80: =Q81+Q84 -> 6793000 | R80: RM
B81: > | C81: Giat Intelijen | Q81: =Q82 -> 2565000
C82: >> Pulbaket Polsek | Q82: =SUM(Q83:Q83) -> 2565000
C83: - Polsek Polewali | N83: 19 | O83: Lap | P83: 135000 | Q83: =N83*P83 -> 2565000
B84: > | C84: Giat Taktis Intelijen | Q84: =Q85 -> 4228000
C85: >> Deteksi/ Lidik | Q85: =SUM(Q86:Q86) -> 4228000
C86: - Polsek Polewali | D86: ( | E86: 2 | F86: org | G86: x | H86: 2 | I86: hr | J86: ) | N86: =E86*H86 -> 4 | O86: OH | P86: 1057000 | Q86: =N86*P86 -> 4228000
A88: 060.01.09 | B88: PROGRAM PEMBERDAYAAN POTENSI KEAMANAN | Q88: =Q89 -> 17110000 | T88: 1865730000
A89: 5076 | B89: Pembinaan Potensi Keamanan | Q89: =Q90 -> 17110000 | T89: =T88-Q88 -> 1848620000
A90: 5076.002 | B90: Pemberdayaan Potensi Keamanan | N90: 12 | O90: BLN | Q90: =Q91 -> 17110000
A91: 003 | B91: Dukungan Operasional Pertahanan dan Keamanan | Q91: =Q92+Q107 -> 17110000
A92: FN | B92: PERTEMUAN KEMITRAAN POLISI DAN MASYARAKAT | Q92: =Q93 -> 9046000
A93: 521119 | B93: Belanja Barang Operasional Lainnya | Q93: =Q94+Q100 -> 9046000 | R93: RM
B94: > | C94: BIMBINGAN DAN PENYULUHAN MASYARAKAT | Q94: =Q95 -> 5306000
B95: >> | C95: POLSEK POLEWALI | Q95: =SUM(Q96:Q99) -> 5306000
C96: - Uang Saku | D96: ( | E96: 3 | F96: Org | G96: x | H96: 19 | I96: giat | J96: ) | N96: =E96*H96 -> 57 | O96: OG | P96: 22000 | Q96: =N96*P96 -> 1254000
C97: - Dana Makan | D97: ( | E97: 3 | F97: Org | G97: x | H97: 19 | I97: giat | J97: ) | N97: =E97*H97 -> 57 | O97: OG | P97: 31000 | Q97: =N97*P97 -> 1767000
C98: - Dana Satuan | D98: ( | E98: 3 | F98: Org | G98: x | H98: 19 | I98: giat | J98: ) | N98: =E98*H98 -> 57 | O98: OG | P98: 5000 | Q98: =N98*P98 -> 285000
C99: - Sarana Kontak | N99: 1 | O99: THN | P99: 2000000 | Q99: =N99*P99 -> 2000000
B100: > | C100: BIMBINGAN DAN PENYULUHAN NARKOBA | Q100: =Q101 -> 3740000
B101: >> | C101: POLSEK POLEWALI | Q101: =SUM(Q102:Q105) -> 3740000
C102: - Uang Saku | D102: ( | E102: 3 | F102: Org | G102: x | H102: 10 | I102: giat | J102: ) | N102: =E102*H102 -> 30 | O102: OG | P102: 22000 | Q102: =N102*P102 -> 660000
C103: - Dana Makan | D103: ( | E103: 3 | F103: Org | G103: x | H103: 10 | I103: giat | J103: ) | N103: =E103*H103 -> 30 | O103: OG | P103: 31000 | Q103: =N103*P103 -> 930000
C104: - Dana Satuan | D104: ( | E104: 3 | F104: Org | G104: x | H104: 10 | I104: giat | J104: ) | N104: =E104*H104 -> 30 | O104: OG | P104: 5000 | Q104: =N104*P104 -> 150000
C105: - Sarana Kontak | N105: 1 | O105: THN | P105: 2000000 | Q105: =N105*P105 -> 2000000
A107: UK | B107: KEGIATAN I PROGRAM QUICK WINS | Q107: =Q108 -> 8064000
A108: 521119 | B108: Belanja Barang Operasional Lainnya | Q108: =Q109+Q163+Q168 -> 8064000 | R108: RM
B109: > | C109: Penertiban dan Penegakan Hukum Bagi Organisasi Radikal dan Anti Pancasila | Q109: =Q110 -> 8064000
C110: >>Silaturahmi ke Tokoh-Tokoh Masyarakat (TOGA, TODA, TOMAS) | Q110: =SUM(Q111:Q111) -> 8064000
C111: - Polsek Polewali | D111: ( | E111: 2 | F111: org | G111: x | H111: 96 | I111: Giat | J111: ) | N111: =E111*H111 -> 192 | O111: OG | P111: 42000 | Q111: =N111*P111 -> 8064000
...

Sheet TNB
A1: KEPOLISIAN NEGARA REPUBLIK INDONESIA
A2: DAERAH SULAWESI BARAT
A3: RESORT POLEWALI MANDAR
A4: JL. Dr. Ratulangi No. 17 Polewali 91314
A6: RENCANA PENDISTRIBUSIAN ANGGARAN (RENDISGAR) TAHUN 2020
A7: POLSEK TINAMBUNG
A9: No | B9: Tahapan Pelaksanaan dan Rincian Komponen Biaya | N9: Volume | O9: Satuan | P9: Biaya | Q9: Jumlah | R9: SD/CP
O10: Ukur | P10: Satuan Ukur
A11: 1 | B11: 2 | N11: 3 | O11: 5 | P11: 6 | Q11: 7
A12: 060.01.01 | B12: Program Dukungan Manajemen dan Pelaksanaan Tugas Teknis Lainnya Polri | Q12: =Q13 -> 19890000
A13: 3073 | B13: Dukungan Pelayanan Internal perkantoran Polri | Q13: =Q14 -> 19890000
A14: 3073.994 | B14: Layanan Perkantoran | N14: 1 | O14: Layanan | Q14: =Q15 -> 19890000
A15: 002 | B15: Operasional Pemeliharaan Kantor | Q15: =Q16 -> 19890000
A16: BY | B16: PENGADAAN PERALATAN / PERLENGKAPAN KANTOR POLSEK | Q16: =Q17 -> 19890000
A17: 521811 | B17: Belanja Keperluan Perkantoran | Q17: =SUM(Q19:Q19) -> 19890000 | R17: RM
B18: > | C18: Bekal Kantor Polsek | T18: =#REF!-Q17 -> #REF!
C19: - Polsek Tinambung | N19: 13 | O19: OT | P19: 1530000 | Q19: =N19*P19 -> 19890000 | V19: 3
A21: 060.01.07 | B21: PROGRAM PENGEMBANGAN STRATEGI KEAMANAN DAN KETERTIBAN | Q21: =Q22+Q40+Q52+Q64+Q76 -> 36717000
A22: 3111 | B22: Dukungan Manajemen dan Teknis Strategi Keamanan dan Ketertiban | Q22: =Q23 -> 10220000
A23: 3111.994 | B23: Layanan Perkantoran | N23: 12 | O23: BLN | Q23: =Q24 -> 10220000
A24: 003 | B24: Dukungan Operasional Pertahanan dan Keamanan | Q24: =Q25+Q30+Q35 -> 10220000
A25: B | B25: HONOR PNBP | Q25: =Q26 -> 3600000
A26: 521115 | B26: Honor Operasional satuan kerja | Q26: =Q27 -> 3600000 | R26: PNBP
B27: > | C27: Honor Pelaksana SKCK | Q27: =SUM(Q28:Q28) -> 3600000
C28: - POLSEK TINAMBUNG | G28: [ | H28: 1 | I28: Org | J28: x | K28: 12 | L28: Bln | M28: ] | N28: =H28*K28 -> 12 | O28: OB | P28: 300000 | Q28: =N28*P28 -> 3600000
A30: BY | B30: PENGADAAN PERALATAN / PERLENGKAPAN KANTOR (POLSEK) | Q30: =Q31 -> 5000000
A31: 521811 | B31: Belanja Keperluan Perkantoran | Q31: =SUM(Q33:Q33) -> 5000000 | R31: PNBP
B32: > | C32: TK SKCK Polsek
C33: - POLSEK TINAMBUNG | N33: 1 | O33: THN | P33: 5000000 | Q33: =N33*P33 -> 5000000
A35: KR | B35: DETEKSI / DETEKSI AKSI ( POLSEK ) | Q35: =Q36 -> 1620000
A36: 521119 | B36: Belanja Barang Opeasional Lainnya | Q36: =Q37 -> 1620000 | R36: PNBP
B37: > | C37: Produk Intelijen berupa Laporan informasi | Q37: =SUM(Q38:Q38) -> 1620000
C38: - POLSEK TINAMBUNG | N38: 12 | O38: LAP | P38: 135000 | Q38: =N38*P38 -> 1620000
A40: 3114 | B40: Penyelenggaraan Strategi Keamanan dan Ketertiban Bidang Politik | Q40: =Q41 -> 6793000
A41: 3114.001 | B41: Informasi Deteksi Aksi Strategi Keamanan dan Ketertiban Bidang Politik | N41: 12 | O41: BLN | Q41: =Q42 -> 6793000
A42: 003 | B42: Dukungan Operasional Pertahanan dan Keamanan | Q42: =Q43 -> 6793000
A43: DZ | B43: STRATEGI KEAMANAN DAN KETERTIBAN BIDANG POLITIK | Q43: =Q44 -> 6793000
A44: 521119 | B44: Belanja Barang Opeasional Lainnya | Q44: =Q45+Q48 -> 6793000 | R44: RM
B45: > | C45: Giat Intelijen | Q45: =Q46 -> 2565000
C46: >> Pulbaket Polsek | Q46: =SUM(Q47:Q47) -> 2565000
C47: - POLSEK TINAMBUNG | N47: 19 | O47: Lap | P47: 135000 | Q47: =N47*P47 -> 2565000
B48: > | C48: Giat Taktis Intelijen | Q48: =Q49 -> 4228000
C49: >> Deteksi/ Lidik | Q49: =SUM(Q50:Q50) -> 4228000
C50: - POLSEK TINAMBUNG | D50: ( | E50: 2 | F50: org | G50: x | H50: 2 | I50: hr | J50: ) | N50: =E50*H50 -> 4 | O50: OH | P50: 1057000 | Q50: =N50*P50 -> 4228000
A52: 3115 | B52: Penyelenggaraan Strategi Keamanan dan Ketertiban Bidang Ekonomi | Q52: =Q53 -> 6793000
A53: 3115.001 | B53: Informasi Deteksi Aksi Strategi Keamanan dan Ketertiban Bidang Ekonomi | N53: 12 | O53: BLN | Q53: =Q54 -> 6793000
A54: 003 | B54: Dukungan Operasional Pertahanan dan Keamanan | Q54: =Q55 -> 6793000
A55: EA | B55: STRATEGI KEAMANAN DAN KETERTIBAN BIDANG EKONOMI | Q55: =Q56 -> 6793000
A56: 521119 | B56: Belanja Barang Opeasional Lainnya | Q56: =Q57+Q60 -> 6793000 | R56: RM
B57: > | C57: Giat Intelijen | Q57: =Q58 -> 2565000
C58: >> Pulbaket Polsek | Q58: =SUM(Q59:Q59) -> 2565000
C59: - POLSEK TINAMBUNG | N59: 19 | O59: Lap | P59: 135000 | Q59: =N59*P59 -> 2565000
B60: > | C60: Giat Taktis Intelijen | Q60: =Q61 -> 4228000
C61: >> Deteksi/ Lidik | Q61: =SUM(Q62:Q62) -> 4228000
C62: - POLSEK TINAMBUNG | D62: ( | E62: 2 | F62: org | G62: x | H62: 2 | I62: hr | J62: ) | N62: =E62*H62 -> 4 | O62: OH | P62: 1057000 | Q62: =N62*P62 -> 4228000
A64: 3116 | B64: Penyelenggaraan Strategi Keamanan dan Ketertiban Bidang Sosial | Q64: =Q65 -> 6118000
A65: 3116.001 | B65: Informasi Deteksi Aksi Strategi Keamanan dan Ketertiban Bidang Sosial | N65: 12 | O65: BLN | Q65: =Q66 -> 6118000
A66: 003 | B66: Dukungan Operasional Pertahanan dan Keamanan | Q66: =Q67 -> 6118000
A67: EB | B67: STRATEGI KEAMANAN DAN KETERTIBAN SOSIAL BUDAYA | Q67: =Q68 -> 6118000
A68: 521119 | B68: Belanja Barang Opeasional Lainnya | Q68: =Q69+Q72 -> 6118000 | R68: RM
B69: > | C69: Giat Intelijen | Q69: =Q70 -> 1890000
C70: >> Pulbaket Polsek | Q70: =SUM(Q71:Q71) -> 1890000
C71: - POLSEK TINAMBUNG | N71: 14 | O71: Lap | P71: 135000 | Q71: =N71*P71 -> 1890000
B72: > | C72: Giat Taktis Intelijen | Q72: =Q73 -> 4228000
C73: >> Deteksi/ Lidik | Q73: =SUM(Q74:Q74) -> 4228000
C74: - POLSEK TINAMBUNG | D74: ( | E74: 2 | F74: org | G74: x | H74: 2 | I74: hr | J74: ) | N74: =E74*H74 -> 4 | O74: OH | P74: 1057000 | Q74: =N74*P74 -> 4228000
A76: 3117 | B76: Penyelenggaraan Strategi Keamanan dan Ketertiban Bidang Keamanan Negara | Q76: =Q77 -> 6793000
A77: 3117.001 | B77: Informasi Deteksi Aksi Strategi Keamanan dan Ketertiban Bidang Keamanan Negara | N77: 12 | O77: BLN | Q77: =Q78 -> 6793000
A78: 003 | B78: Dukungan Operasional Pertahanan dan Keamanan | Q78: =Q79 -> 6793000
A79: EC | B79: STRATEGI KEAMANAN DAN KETERTIBAN KEAMANAN NEGARA | Q79: =Q80 -> 6793000
A80: 521119 | B80: Belanja Barang Opeasional Lainnya | Q80: =Q81+Q84 -> 6793000 | R80: RM
B81: > | C81: Giat Intelijen | Q81: =Q82 -> 2565000
C82: >> Pulbaket Polsek | Q82: =SUM(Q83:Q83) -> 2565000
C83: - POLSEK TINAMBUNG | N83: 19 | O83: Lap | P83: 135000 | Q83: =N83*P83 -> 2565000
B84: > | C84: Giat Taktis Intelijen | Q84: =Q85 -> 4228000
C85: >> Deteksi/ Lidik | Q85: =SUM(Q86:Q86) -> 4228000
C86: - POLSEK TINAMBUNG | D86: ( | E86: 2 | F86: org | G86: x | H86: 2 | I86: hr | J86: ) | N86: =E86*H86 -> 4 | O86: OH | P86: 1057000 | Q86: =N86*P86 -> 4228000
A88: 060.01.09 | B88: PROGRAM PEMBERDAYAAN POTENSI KEAMANAN | Q88: =Q89 -> 17110000
A89: 5076 | B89: Pembinaan Potensi Keamanan | Q89: =Q90 -> 17110000
A90: 5076.002 | B90: Pemberdayaan Potensi Keamanan | N90: 12 | O90: BLN | Q90: =Q91 -> 17110000
A91: 003 | B91: Dukungan Operasional Pertahanan dan Keamanan | Q91: =Q92+Q107 -> 17110000
A92: FN | B92: PERTEMUAN KEMITRAAN POLISI DAN MASYARAKAT POLSEK | Q92: =Q93 -> 9046000
A93: 521119 | B93: Belanja Barang Operasional Lainnya | Q93: =Q94+Q100 -> 9046000 | R93: RM
B94: > | C94: BIMBINGAN DAN PENYULUHAN MASYARAKAT | Q94: =Q95 -> 5306000
B95: >> | C95: POLSEK TINAMBUNG | Q95: =SUM(Q96:Q99) -> 5306000
C96: - Uang Saku | D96: ( | E96: 3 | F96: Org | G96: x | H96: 19 | I96: giat | J96: ) | N96: =E96*H96 -> 57 | O96: OG | P96: 22000 | Q96: =N96*P96 -> 1254000
C97: - Uang Makan | D97: ( | E97: 3 | F97: Org | G97: x | H97: 19 | I97: giat | J97: ) | N97: =E97*H97 -> 57 | O97: OG | P97: 31000 | Q97: =N97*P97 -> 1767000
C98: - Dana Satuan | D98: ( | E98: 3 | F98: Org | G98: x | H98: 19 | I98: giat | J98: ) | N98: =E98*H98 -> 57 | O98: OG | P98: 5000 | Q98: =N98*P98 -> 285000
C99: - Sarana Kontak | N99: 1 | O99: THN | P99: 2000000 | Q99: =N99*P99 -> 2000000
B100: > | C100: BIMBINGAN DAN PENYULUHAN NARKOBA | Q100: =Q101 -> 3740000
B101: >> | C101: POLSEK TINAMBUNG | Q101: =SUM(Q102:Q105) -> 3740000
C102: - Uang Saku | D102: ( | E102: 3 | F102: Org | G102: x | H102: 10 | I102: giat | J102: ) | N102: =E102*H102 -> 30 | O102: OG | P102: 22000 | Q102: =N102*P102 -> 660000
C103: - Uang Makan | D103: ( | E103: 3 | F103: Org | G103: x | H103: 10 | I103: giat | J103: ) | N103: =E103*H103 -> 30 | O103: OG | P103: 31000 | Q103: =N103*P103 -> 930000
C104: - Dana Satuan | D104: ( | E104: 3 | F104: Org | G104: x | H104: 10 | I104: giat | J104: ) | N104: =E104*H104 -> 30 | O104: OG | P104: 5000 | Q104: =N104*P104 -> 150000
C105: - Sarana Kontak | N105: 1 | O105: PKT | P105: 2000000 | Q105: =N105*P105 -> 2000000
A107: UK | B107: KEGIATAN I PROGRAM QUICK WINS | Q107: =Q108 -> 8064000
A108: 521119 | B108: Belanja Barang Operasional Lainnya | Q108: =Q109+Q164+Q169 -> 8064000 | R108: RM
B109: > | C109: Penertiban dan Penegakan Hukum Bagi Organisasi Radikal dan Anti Pancasila | Q109: =Q110 -> 8064000
C110: >>Silaturahmi ke Tokoh-Tokoh Masyarakat (TOGA, TODA, TOMAS) | Q110: =SUM(Q111:Q111) -> 8064000
C111: - POLSEK TINAMBUNG | D111: ( | E111: 2 | F111: org | G111: x | H111: 96 | I111: Giat | J111: ) | N111: =E111*H111 -> 192 | O111: OG | P111: 42000 | Q111: =N111*P111 -> 8064000
...

Sheet ALLU
A1: KEPOLISIAN NEGARA REPUBLIK INDONESIA
A2: DAERAH SULAWESI BARAT
A3: RESORT POLEWALI MANDAR
A4: JL. Dr. Ratulangi No. 17 Polewali 91314
A6: RENCANA PENDISTRIBUSIAN ANGGARAN (RENDISGAR) TAHUN 2020
A7: POLSEK ALLU
A9: No | B9: Tahapan Pelaksanaan dan Rincian Komponen Biaya | N9: Volume | O9: Satuan | P9: Biaya | Q9: Jumlah | R9: SD/CP
O10: Ukur | P10: Satuan Ukur
A11: 1 | B11: 2 | N11: 3 | O11: 5 | P11: 6 | Q11: 7
A12: 060.01.01 | B12: Program Dukungan Manajemen dan Pelaksanaan Tugas Teknis Lainnya Polri | Q12: =Q13 -> 16830000
A13: 3073 | B13: Dukungan Pelayanan Internal perkantoran Polri | Q13: =Q14 -> 16830000
A14: 3073.994 | B14: Layanan Perkantoran | N14: 1 | O14: Layanan | Q14: =Q15 -> 16830000
A15: 002 | B15: Operasional Pemeliharaan Kantor | Q15: =Q16 -> 16830000
A16: BY | B16: PENGADAAN PERALATAN / PERLENGKAPAN KANTOR POLSEK | Q16: =Q17 -> 16830000
A17: 521811 | B17: Belanja Keperluan Perkantoran | Q17: =SUM(Q19:Q19) -> 16830000 | R17: RM
B18: > | C18: Bekal Kantor Polsek | T18: =#REF!-Q17 -> #REF!
C19: - Polsek Allu | N19: 11 | O19: OT | P19: 1530000 | Q19: =N19*P19 -> 16830000 | V19: 3
A21: 060.01.07 | B21: PROGRAM PENGEMBANGAN STRATEGI KEAMANAN DAN KETERTIBAN | Q21: =Q22+Q40+Q52+Q64+Q76 -> 36717000
A22: 3111 | B22: Dukungan Manajemen dan Teknis Strategi Keamanan dan Ketertiban | Q22: =Q23 -> 10220000
A23: 3111.994 | B23: Layanan Perkantoran | N23: 12 | O23: BLN | Q23: =Q24 -> 10220000
A24: 003 | B24: Dukungan Operasional Pertahanan dan Keamanan | Q24: =Q25+Q30+Q35 -> 10220000
A25: B | B25: HONOR PNBP | Q25: =Q26 -> 3600000
A26: 521115 | B26: Honor Operasional satuan kerja | Q26: =Q27 -> 3600000 | R26: PNBP
B27: > | C27: Honor Pelaksana SKCK | Q27: =SUM(Q28:Q28) -> 3600000
C28: - POLSEK ALLU | G28: [ | H28: 1 | I28: Org | J28: x | K28: 12 | L28: Bln | M28: ] | N28: =H28*K28 -> 12 | O28: OB | P28: 300000 | Q28: =N28*P28 -> 3600000
A30: BY | B30: PENGADAAN PERALATAN / PERLENGKAPAN KANTOR (POLSEK) | Q30: =Q31 -> 5000000
A31: 521811 | B31: Belanja Keperluan Perkantoran | Q31: =SUM(Q33:Q33) -> 5000000 | R31: PNBP
B32: > | C32: TK SKCK Polsek
C33: - POLSEK ALLU | N33: 1 | O33: THN | P33: 5000000 | Q33: =N33*P33 -> 5000000
A35: KR | B35: DETEKSI / DETEKSI AKSI ( POLSEK ) | Q35: =Q36 -> 1620000
A36: 521119 | B36: Belanja Barang Opeasional Lainnya | Q36: =Q37 -> 1620000 | R36: PNBP
B37: > | C37: Produk Intelijen berupa Laporan informasi | Q37: =SUM(Q38:Q38) -> 1620000
C38: - POLSEK ALLU | N38: 12 | O38: LAP | P38: 135000 | Q38: =N38*P38 -> 1620000
A40: 3114 | B40: Penyelenggaraan Strategi Keamanan dan Ketertiban Bidang Politik | Q40: =Q41 -> 6793000
A41: 3114.001 | B41: Informasi Deteksi Aksi Strategi Keamanan dan Ketertiban Bidang Politik | N41: 12 | O41: BLN | Q41: =Q42 -> 6793000
A42: 003 | B42: Dukungan Operasional Pertahanan dan Keamanan | Q42: =Q43 -> 6793000
A43: DZ | B43: STRATEGI KEAMANAN DAN KETERTIBAN BIDANG POLITIK | Q43: =Q44 -> 6793000
A44: 521119 | B44: Belanja Barang Opeasional Lainnya | Q44: =Q45+Q48 -> 6793000 | R44: RM
B45: > | C45: Giat Intelijen | Q45: =Q46 -> 2565000
C46: >> Pulbaket Polsek | Q46: =SUM(Q47:Q47) -> 2565000
C47: - POLSEK ALLU | N47: 19 | O47: Lap | P47: 135000 | Q47: =N47*P47 -> 2565000
B48: > | C48: Giat Taktis Intelijen | Q48: =Q49 -> 4228000
C49: >> Deteksi/ Lidik | Q49: =SUM(Q50:Q50) -> 4228000
C50: - POLSEK ALLU | D50: ( | E50: 2 | F50: org | G50: x | H50: 2 | I50: hr | J50: ) | N50: =E50*H50 -> 4 | O50: OH | P50: 1057000 | Q50: =N50*P50 -> 4228000
A52: 3115 | B52: Penyelenggaraan Strategi Keamanan dan Ketertiban Bidang Ekonomi | Q52: =Q53 -> 6793000
A53: 3115.001 | B53: Informasi Deteksi Aksi Strategi Keamanan dan Ketertiban Bidang Ekonomi | N53: 12 | O53: BLN | Q53: =Q54 -> 6793000
A54: 003 | B54: Dukungan Operasional Pertahanan dan Keamanan | Q54: =Q55 -> 6793000
A55: EA | B55: STRATEGI KEAMANAN DAN KETERTIBAN BIDANG EKONOMI | Q55: =Q56 -> 6793000
A56: 521119 | B56: Belanja Barang Opeasional Lainnya | Q56: =Q57+Q60 -> 6793000 | R56: RM
B57: > | C57: Giat Intelijen | Q57: =Q58 -> 2565000
C58: >> Pulbaket Polsek | Q58: =SUM(Q59:Q59) -> 2565000
C59: - POLSEK ALLU | N59: 19 | O59: Lap | P59: 135000 | Q59: =N59*P59 -> 2565000
B60: > | C60: Giat Taktis Intelijen | Q60: =Q61 -> 4228000
C61: >> Deteksi/ Lidik | Q61: =SUM(Q62:Q62) -> 4228000
C62: - POLSEK ALLU | D62: ( | E62: 2 | F62: org | G62: x | H62: 2 | I62: hr | J62: ) | N62: =E62*H62 -> 4 | O62: OH | P62: 1057000 | Q62: =N62*P62 -> 4228000
A64: 3116 | B64: Penyelenggaraan Strategi Keamanan dan Ketertiban Bidang Sosial | Q64: =Q65 -> 6118000
A65: 3116.001 | B65: Informasi Deteksi Aksi Strategi Keamanan dan Ketertiban Bidang Sosial | N65: 12 | O65: BLN | Q65: =Q66 -> 6118000
A66: 003 | B66: Dukungan Operasional Pertahanan dan Keamanan | Q66: =Q67 -> 6118000
A67: EB | B67: STRATEGI KEAMANAN DAN KETERTIBAN SOSIAL BUDAYA | Q67: =Q68 -> 6118000
A68: 521119 | B68: Belanja Barang Opeasional Lainnya | Q68: =Q69+Q72 -> 6118000 | R68: RM
B69: > | C69: Giat Intelijen | Q69: =Q70 -> 1890000
C70: >> Pulbaket Polsek | Q70: =SUM(Q71:Q71) -> 1890000
C71: - POLSEK ALLU | N71: 14 | O71: Lap | P71: 135000 | Q71: =N71*P71 -> 1890000
B72: > | C72: Giat Taktis Intelijen | Q72: =Q73 -> 4228000
C73: >> Deteksi/ Lidik | Q73: =SUM(Q74:Q74) -> 4228000
C74: - POLSEK ALLU | D74: ( | E74: 2 | F74: org | G74: x | H74: 2 | I74: hr | J74: ) | N74: =E74*H74 -> 4 | O74: OH | P74: 1057000 | Q74: =N74*P74 -> 4228000
A76: 3117 | B76: Penyelenggaraan Strategi Keamanan dan Ketertiban Bidang Keamanan Negara | Q76: =Q77 -> 6793000
A77: 3117.001 | B77: Informasi Deteksi Aksi Strategi Keamanan dan Ketertiban Bidang Keamanan Negara | N77: 12 | O77: BLN | Q77: =Q78 -> 6793000
A78: 003 | B78: Dukungan Operasional Pertahanan dan Keamanan | Q78: =Q79 -> 6793000
A79: EC | B79: STRATEGI KEAMANAN DAN KETERTIBAN KEAMANAN NEGARA | Q79: =Q80 -> 6793000
A80: 521119 | B80: Belanja Barang Opeasional Lainnya | Q80: =Q81+Q84 -> 6793000 | R80: RM
B81: > | C81: Giat Intelijen | Q81: =Q82 -> 2565000
C82: >> Pulbaket Polsek | Q82: =SUM(Q83:Q83) -> 2565000
C83: - POLSEK ALLU | N83: 19 | O83: Lap | P83: 135000 | Q83: =N83*P83 -> 2565000
B84: > | C84: Giat Taktis Intelijen | Q84: =Q85 -> 4228000
C85: >> Deteksi/ Lidik | Q85: =SUM(Q86:Q86) -> 4228000
C86: - POLSEK ALLU | D86: ( | E86: 2 | F86: org | G86: x | H86: 2 | I86: hr | J86: ) | N86: =E86*H86 -> 4 | O86: OH | P86: 1057000 | Q86: =N86*P86 -> 4228000
A88: 060.01.09 | B88: PROGRAM PEMBERDAYAAN POTENSI KEAMANAN | Q88: =Q89 -> 17110000
A89: 5076 | B89: Pembinaan Potensi Keamanan | Q89: =Q90 -> 17110000
A90: 5076.002 | B90: Pemberdayaan Potensi Keamanan | N90: 12 | O90: BLN | Q90: =Q91 -> 17110000
A91: 003 | B91: Dukungan Operasional Pertahanan dan Keamanan | Q91: =Q92+Q107 -> 17110000
A92: FN | B92: PERTEMUAN KEMITRAAN POLISI DAN MASYARAKAT POLSEK | Q92: =Q93 -> 9046000
A93: 521119 | B93: Belanja Barang Operasional Lainnya | Q93: =Q94+Q100 -> 9046000 | R93: RM
B94: > | C94: BIMBINGAN DAN PENYULUHAN MASYARAKAT | Q94: =Q95 -> 5306000
B95: >> | C95: POLSEK ALLU | Q95: =SUM(Q96:Q99) -> 5306000
C96: - Uang Saku | D96: ( | E96: 3 | F96: Org | G96: x | H96: 19 | I96: giat | J96: ) | N96: =E96*H96 -> 57 | O96: OG | P96: 22000 | Q96: =N96*P96 -> 1254000
C97: - Uang Makan | D97: ( | E97: 3 | F97: Org | G97: x | H97: 19 | I97: giat | J97: ) | N97: =E97*H97 -> 57 | O97: OG | P97: 31000 | Q97: =N97*P97 -> 1767000
C98: - Dana Satuan | D98: ( | E98: 3 | F98: Org | G98: x | H98: 19 | I98: giat | J98: ) | N98: =E98*H98 -> 57 | O98: OG | P98: 5000 | Q98: =N98*P98 -> 285000
C99: - Sarana Kontak | N99: 1 | O99: THN | P99: 2000000 | Q99: =N99*P99 -> 2000000
B100: > | C100: BIMBINGAN DAN PENYULUHAN NARKOBA | Q100: =Q101 -> 3740000
B101: >> | C101: POLSEK ALLU | Q101: =SUM(Q102:Q105) -> 3740000
C102: - Uang Saku | D102: ( | E102: 3 | F102: Org | G102: x | H102: 10 | I102: giat | J102: ) | N102: =E102*H102 -> 30 | O102: OG | P102: 22000 | Q102: =N102*P102 -> 660000
C103: - Uang Makan | D103: ( | E103: 3 | F103: Org | G103: x | H103: 10 | I103: giat | J103: ) | N103: =E103*H103 -> 30 | O103: OG | P103: 31000 | Q103: =N103*P103 -> 930000
C104: - Dana Satuan | D104: ( | E104: 3 | F104: Org | G104: x | H104: 10 | I104: giat | J104: ) | N104: =E104*H104 -> 30 | O104: OG | P104: 5000 | Q104: =N104*P104 -> 150000
C105: - Sarana Kontak | N105: 1 | O105: THN | P105: 2000000 | Q105: =N105*P105 -> 2000000
A107: UK | B107: KEGIATAN I PROGRAM QUICK WINS | Q107: =Q108 -> 8064000
A108: 521119 | B108: Belanja Barang Operasional Lainnya | Q108: =Q109+Q164+Q169 -> 8064000 | R108: RM
B109: > | C109: Penertiban dan Penegakan Hukum Bagi Organisasi Radikal dan Anti Pancasila | Q109: =Q110 -> 8064000
C110: >>Silaturahmi ke Tokoh-Tokoh Masyarakat (TOGA, TODA, TOMAS) | Q110: =SUM(Q111:Q111) -> 8064000
C111: - POLSEK ALLU | D111: ( | E111: 2 | F111: org | G111: x | H111: 96 | I111: Giat | J111: ) | N111: =E111*H111 -> 192 | O111: OG | P111: 42000 | Q111: =N111*P111 -> 8064000
...

Sheet BINUANG
A1: KEPOLISIAN NEGARA REPUBLIK INDONESIA
A2: DAERAH SULAWESI BARAT
A3: RESORT POLEWALI MANDAR
A4: JL. Dr. Ratulangi No. 17 Polewali 91314
A6: RENCANA PENDISTRIBUSIAN ANGGARAN (RENDISGAR) TAHUN 2020
A7: POLSEK BINUANG
A9: No | B9: Tahapan Pelaksanaan dan Rincian Komponen Biaya | N9: Volume | O9: Satuan | P9: Biaya | Q9: Jumlah | R9: SD/CP
O10: Ukur | P10: Satuan Ukur
A11: 1 | B11: 2 | N11: 3 | O11: 5 | P11: 6 | Q11: 7
A12: 060.01.01 | B12: Program Dukungan Manajemen dan Pelaksanaan Tugas Teknis Lainnya Polri | Q12: =Q13 -> 13770000
A13: 3073 | B13: Dukungan Pelayanan Internal perkantoran Polri | Q13: =Q14 -> 13770000
A14: 3073.994 | B14: Layanan Perkantoran | N14: 1 | O14: Layanan | Q14: =Q15 -> 13770000
A15: 002 | B15: Operasional Pemeliharaan Kantor | Q15: =Q16 -> 13770000
A16: BY | B16: PENGADAAN PERALATAN / PERLENGKAPAN KANTOR POLSEK | Q16: =Q17 -> 13770000
A17: 521811 | B17: Belanja Keperluan Perkantoran | Q17: =SUM(Q19:Q19) -> 13770000 | R17: RM
B18: > | C18: Bekal Kantor Polsek | T18: =#REF!-Q17 -> #REF!
C19: - Polsek Binuang | N19: 9 | O19: OT | P19: 1530000 | Q19: =N19*P19 -> 13770000 | V19: 3
A21: 060.01.07 | B21: PROGRAM PENGEMBANGAN STRATEGI KEAMANAN DAN KETERTIBAN | Q21: =Q22+Q40+Q52+Q64+Q76 -> 33492000
A22: 3111 | B22: Dukungan Manajemen dan Teknis Strategi Keamanan dan Ketertiban | Q22: =Q23 -> 9020000
A23: 3111.994 | B23: Layanan Perkantoran | N23: 12 | O23: BLN | Q23: =Q24 -> 9020000
A24: 003 | B24: Dukungan Operasional Pertahanan dan Keamanan | Q24: =Q25+Q30+Q35 -> 9020000
A25: B | B25: HONOR PNBP | Q25: =Q26 -> 2400000
A26: 521115 | B26: Honor Operasional satuan kerja | Q26: =Q27 -> 2400000 | R26: PNBP
B27: > | C27: Honor Pelaksana SKCK | Q27: =SUM(Q28:Q28) -> 2400000
C28: - POLSEK BINUANG | G28: [ | H28: 1 | I28: Org | J28: x | K28: 12 | L28: Bln | M28: ] | N28: =H28*K28 -> 12 | O28: OB | P28: 200000 | Q28: =N28*P28 -> 2400000
A30: BY | B30: PENGADAAN PERALATAN / PERLENGKAPAN KANTOR (POLSEK) | Q30: =Q31 -> 5000000
A31: 521811 | B31: Belanja Keperluan Perkantoran | Q31: =SUM(Q33:Q33) -> 5000000 | R31: PNBP
B32: > | C32: TK SKCK Polsek
C33: - POLSEK BINUANG | N33: 1 | O33: THN | P33: 5000000 | Q33: =N33*P33 -> 5000000
A35: KR | B35: DETEKSI / DETEKSI AKSI ( POLSEK ) | Q35: =Q36 -> 1620000
A36: 521119 | B36: Belanja Barang Opeasional Lainnya | Q36: =Q37 -> 1620000 | R36: PNBP
B37: > | C37: Produk Intelijen berupa Laporan informasi | Q37: =SUM(Q38:Q38) -> 1620000
C38: - POLSEK BINUANG | N38: 12 | O38: LAP | P38: 135000 | Q38: =N38*P38 -> 1620000
A40: 3114 | B40: Penyelenggaraan Strategi Keamanan dan Ketertiban Bidang Politik | Q40: =Q41 -> 6118000
A41: 3114.001 | B41: Informasi Deteksi Aksi Strategi Keamanan dan Ketertiban Bidang Politik | N41: 12 | O41: BLN | Q41: =Q42 -> 6118000
A42: 003 | B42: Dukungan Operasional Pertahanan dan Keamanan | Q42: =Q43 -> 6118000
A43: DZ | B43: STRATEGI KEAMANAN DAN KETERTIBAN BIDANG POLITIK | Q43: =Q44 -> 6118000
A44: 521119 | B44: Belanja Barang Opeasional Lainnya | Q44: =Q45+Q48 -> 6118000 | R44: RM
B45: > | C45: Giat Intelijen | Q45: =Q46 -> 1890000
C46: >> Pulbaket Polsek | Q46: =SUM(Q47:Q47) -> 1890000
C47: - POLSEK BINUANG | N47: 14 | O47: Lap | P47: 135000 | Q47: =N47*P47 -> 1890000
B48: > | C48: Giat Taktis Intelijen | Q48: =Q49 -> 4228000
C49: >> Deteksi/ Lidik | Q49: =SUM(Q50:Q50) -> 4228000
C50: - POLSEK BINUANG | D50: ( | E50: 2 | F50: org | G50: x | H50: 2 | I50: hr | J50: ) | N50: =E50*H50 -> 4 | O50: OH | P50: 1057000 | Q50: =N50*P50 -> 4228000
A52: 3115 | B52: Penyelenggaraan Strategi Keamanan dan Ketertiban Bidang Ekonomi | Q52: =Q53 -> 6118000
A53: 3115.001 | B53: Informasi Deteksi Aksi Strategi Keamanan dan Ketertiban Bidang Ekonomi | N53: 12 | O53: BLN | Q53: =Q54 -> 6118000
A54: 003 | B54: Dukungan Operasional Pertahanan dan Keamanan | Q54: =Q55 -> 6118000
A55: EA | B55: STRATEGI KEAMANAN DAN KETERTIBAN BIDANG EKONOMI | Q55: =Q56 -> 6118000
A56: 521119 | B56: Belanja Barang Opeasional Lainnya | Q56: =Q57+Q60 -> 6118000 | R56: RM
B57: > | C57: Giat Intelijen | Q57: =Q58 -> 1890000
C58: >> Pulbaket Polsek | Q58: =SUM(Q59:Q59) -> 1890000
C59: - POLSEK BINUANG | N59: 14 | O59: Lap | P59: 135000 | Q59: =N59*P59 -> 1890000
B60: > | C60: Giat Taktis Intelijen | Q60: =Q61 -> 4228000
C61: >> Deteksi/ Lidik | Q61: =SUM(Q62:Q62) -> 4228000
C62: - POLSEK BINUANG | D62: ( | E62: 2 | F62: org | G62: x | H62: 2 | I62: hr | J62: ) | N62: =E62*H62 -> 4 | O62: OH | P62: 1057000 | Q62: =N62*P62 -> 4228000
A64: 3116 | B64: Penyelenggaraan Strategi Keamanan dan Ketertiban Bidang Sosial | Q64: =Q65 -> 6118000
A65: 3116.001 | B65: Informasi Deteksi Aksi Strategi Keamanan dan Ketertiban Bidang Sosial | N65: 12 | O65: BLN | Q65: =Q66 -> 6118000
A66: 003 | B66: Dukungan Operasional Pertahanan dan Keamanan | Q66: =Q67 -> 6118000
A67: EB | B67: STRATEGI KEAMANAN DAN KETERTIBAN SOSIAL BUDAYA | Q67: =Q68 -> 6118000
A68: 521119 | B68: Belanja Barang Opeasional Lainnya | Q68: =Q69+Q72 -> 6118000 | R68: RM
B69: > | C69: Giat Intelijen | Q69: =Q70 -> 1890000
C70: >> Pulbaket Polsek | Q70: =SUM(Q71:Q71) -> 1890000
C71: - POLSEK BINUANG | N71: 14 | O71: Lap | P71: 135000 | Q71: =N71*P71 -> 1890000
B72: > | C72: Giat Taktis Intelijen | Q72: =Q73 -> 4228000
C73: >> Deteksi/ Lidik | Q73: =SUM(Q74:Q74) -> 4228000
C74: - POLSEK BINUANG | D74: ( | E74: 2 | F74: org | G74: x | H74: 2 | I74: hr | J74: ) | N74: =E74*H74 -> 4 | O74: OH | P74: 1057000 | Q74: =N74*P74 -> 4228000
A76: 3117 | B76: Penyelenggaraan Strategi Keamanan dan Ketertiban Bidang Keamanan Negara | Q76: =Q77 -> 6118000
A77: 3117.001 | B77: Informasi Deteksi Aksi Strategi Keamanan dan Ketertiban Bidang Keamanan Negara | N77: 12 | O77: BLN | Q77: =Q78 -> 6118000
A78: 003 | B78: Dukungan Operasional Pertahanan dan Keamanan | Q78: =Q79 -> 6118000
A79: EC | B79: STRATEGI KEAMANAN DAN KETERTIBAN KEAMANAN NEGARA | Q79: =Q80 -> 6118000
A80: 521119 | B80: Belanja Barang Opeasional Lainnya | Q80: =Q81+Q84 -> 6118000 | R80: RM
B81: > | C81: Giat Intelijen | Q81: =Q82 -> 1890000
C82: >> Pulbaket Polsek | Q82: =SUM(Q83:Q83) -> 1890000
C83: - POLSEK BINUANG | N83: 14 | O83: Lap | P83: 135000 | Q83: =N83*P83 -> 1890000
B84: > | C84: Giat Taktis Intelijen | Q84: =Q85 -> 4228000
C85: >> Deteksi/ Lidik | Q85: =SUM(Q86:Q86) -> 4228000
C86: - POLSEK BINUANG | D86: ( | E86: 2 | F86: org | G86: x | H86: 2 | I86: hr | J86: ) | N86: =E86*H86 -> 4 | O86: OH | P86: 1057000 | Q86: =N86*P86 -> 4228000
A88: 060.01.09 | B88: PROGRAM PEMBERDAYAAN POTENSI KEAMANAN | Q88: =Q89 -> 15428000
A89: 5076 | B89: Pembinaan Potensi Keamanan | Q89: =Q90 -> 15428000
A90: 5076.002 | B90: Pemberdayaan Potensi Keamanan | N90: 12 | O90: BLN | Q90: =Q91 -> 15428000
A91: 003 | B91: Dukungan Operasional Pertahanan dan Keamanan | Q91: =Q92+Q107 -> 15428000
A92: FN | B92: PERTEMUAN KEMITRAAN POLISI DAN MASYARAKAT POLSEK | Q92: =Q93 -> 7364000
A93: 521119 | B93: Belanja Barang Operasional Lainnya | Q93: =Q94+Q100 -> 7364000 | R93: RM
B94: > | C94: BIMBINGAN DAN PENYULUHAN MASYARAKAT | Q94: =Q95 -> 4204000
B95: >> | C95: POLSEK BINUANG | Q95: =SUM(Q96:Q99) -> 4204000
C96: - Uang Saku | D96: ( | E96: 2 | F96: Org | G96: x | H96: 19 | I96: giat | J96: ) | N96: =E96*H96 -> 38 | O96: OG | P96: 22000 | Q96: =N96*P96 -> 836000
C97: - Uang Makan | D97: ( | E97: 2 | F97: Org | G97: x | H97: 19 | I97: giat | J97: ) | N97: =E97*H97 -> 38 | O97: OG | P97: 31000 | Q97: =N97*P97 -> 1178000
C98: - Dana Satuan | D98: ( | E98: 2 | F98: Org | G98: x | H98: 19 | I98: giat | J98: ) | N98: =E98*H98 -> 38 | O98: OG | P98: 5000 | Q98: =N98*P98 -> 190000
C99: - Sarana Kontak | N99: 1 | O99: THN | P99: 2000000 | Q99: =N99*P99 -> 2000000
B100: > | C100: BIMBINGAN DAN PENYULUHAN NARKOBA | Q100: =Q101 -> 3160000
B101: >> | C101: POLSEK BINUANG | Q101: =SUM(Q102:Q105) -> 3160000
C102: - Uang Saku | D102: ( | E102: 2 | F102: Org | G102: x | H102: 10 | I102: giat | J102: ) | N102: =E102*H102 -> 20 | O102: OG | P102: 22000 | Q102: =N102*P102 -> 440000
C103: - Uang Makan | D103: ( | E103: 2 | F103: Org | G103: x | H103: 10 | I103: giat | J103: ) | N103: =E103*H103 -> 20 | O103: OG | P103: 31000 | Q103: =N103*P103 -> 620000
C104: - Dana Satuan | D104: ( | E104: 2 | F104: Org | G104: x | H104: 10 | I104: giat | J104: ) | N104: =E104*H104 -> 20 | O104: OG | P104: 5000 | Q104: =N104*P104 -> 100000
C105: - Sarana Kontak | N105: 1 | O105: THN | P105: 2000000 | Q105: =N105*P105 -> 2000000
A107: UK | B107: KEGIATAN I PROGRAM QUICK WINS | Q107: =Q108 -> 8064000
A108: 521119 | B108: Belanja Barang Operasional Lainnya | Q108: =Q109+Q164+Q169 -> 8064000 | R108: RM
B109: > | C109: Penertiban dan Penegakan Hukum Bagi Organisasi Radikal dan Anti Pancasila | Q109: =Q110 -> 8064000
C110: >>Silaturahmi ke Tokoh-Tokoh Masyarakat (TOGA, TODA, TOMAS) | Q110: =SUM(Q111:Q111) -> 8064000
C111: - POLSEK BINUANG | D111: ( | E111: 2 | F111: org | G111: x | H111: 96 | I111: Giat | J111: ) | N111: =E111*H111 -> 192 | O111: OG | P111: 42000 | Q111: =N111*P111 -> 8064000
...

Sheet TUTAR
A1: KEPOLISIAN NEGARA REPUBLIK INDONESIA
A2: DAERAH SULAWESI BARAT
A3: RESORT POLEWALI MANDAR
A4: JL. Dr. Ratulangi No. 17 Polewali 91314
A6: RENCANA PENDISTRIBUSIAN ANGGARAN (RENDISGAR) TAHUN 2020
A7: POLSEK TUTAR
A9: No | B9: Tahapan Pelaksanaan dan Rincian Komponen Biaya | N9: Volume | O9: Satuan | P9: Biaya | Q9: Jumlah | R9: SD/CP
O10: Ukur | P10: Satuan Ukur
A11: 1 | B11: 2 | N11: 3 | O11: 5 | P11: 6 | Q11: 7
A12: 060.01.01 | B12: Program Dukungan Manajemen dan Pelaksanaan Tugas Teknis Lainnya Polri | Q12: =Q13 -> 13770000
A13: 3073 | B13: Dukungan Pelayanan Internal perkantoran Polri | Q13: =Q14 -> 13770000
A14: 3073.994 | B14: Layanan Perkantoran | N14: 1 | O14: Layanan | Q14: =Q15 -> 13770000
A15: 002 | B15: Operasional Pemeliharaan Kantor | Q15: =Q16 -> 13770000
A16: BY | B16: PENGADAAN PERALATAN / PERLENGKAPAN KANTOR POLSEK | Q16: =Q17 -> 13770000
A17: 521811 | B17: Belanja Keperluan Perkantoran | Q17: =SUM(Q19:Q19) -> 13770000 | R17: RM
B18: > | C18: Bekal Kantor Polsek | T18: =#REF!-Q17 -> #REF!
C19: - Polsek Tutar | N19: 9 | O19: OT | P19: 1530000 | Q19: =N19*P19 -> 13770000 | V19: 3
A21: 060.01.07 | B21: PROGRAM PENGEMBANGAN STRATEGI KEAMANAN DAN KETERTIBAN | Q21: =Q22+Q40+Q52+Q64+Q76 -> 33492000
A22: 3111 | B22: Dukungan Manajemen dan Teknis Strategi Keamanan dan Ketertiban | Q22: =Q23 -> 9020000
A23: 3111.994 | B23: Layanan Perkantoran | N23: 12 | O23: BLN | Q23: =Q24 -> 9020000
A24: 003 | B24: Dukungan Operasional Pertahanan dan Keamanan | Q24: =Q25+Q30+Q35 -> 9020000
A25: B | B25: HONOR PNBP | Q25: =Q26 -> 2400000
A26: 521115 | B26: Honor Operasional satuan kerja | Q26: =Q27 -> 2400000 | R26: PNBP
B27: > | C27: Honor Pelaksana SKCK | Q27: =SUM(Q28:Q28) -> 2400000
C28: - POLSEK TUTAR | G28: [ | H28: 1 | I28: Org | J28: x | K28: 12 | L28: Bln | M28: ] | N28: =H28*K28 -> 12 | O28: OB | P28: 200000 | Q28: =N28*P28 -> 2400000
A30: BY | B30: PENGADAAN PERALATAN / PERLENGKAPAN KANTOR (POLSEK) | Q30: =Q31 -> 5000000
A31: 521811 | B31: Belanja Keperluan Perkantoran | Q31: =SUM(Q33:Q33) -> 5000000 | R31: PNBP
B32: > | C32: TK SKCK Polsek
C33: - POLSEK TUTAR | N33: 1 | O33: THN | P33: 5000000 | Q33: =N33*P33 -> 5000000
A35: KR | B35: DETEKSI / DETEKSI AKSI ( POLSEK ) | Q35: =Q36 -> 1620000
A36: 521119 | B36: Belanja Barang Opeasional Lainnya | Q36: =Q37 -> 1620000 | R36: PNBP
B37: > | C37: Produk Intelijen berupa Laporan informasi | Q37: =SUM(Q38:Q38) -> 1620000
C38: - POLSEK TUTAR | N38: 12 | O38: LAP | P38: 135000 | Q38: =N38*P38 -> 1620000
A40: 3114 | B40: Penyelenggaraan Strategi Keamanan dan Ketertiban Bidang Politik | Q40: =Q41 -> 6118000
A41: 3114.001 | B41: Informasi Deteksi Aksi Strategi Keamanan dan Ketertiban Bidang Politik | N41: 12 | O41: BLN | Q41: =Q42 -> 6118000
A42: 003 | B42: Dukungan Operasional Pertahanan dan Keamanan | Q42: =Q43 -> 6118000
A43: DZ | B43: STRATEGI KEAMANAN DAN KETERTIBAN BIDANG POLITIK | Q43: =Q44 -> 6118000
A44: 521119 | B44: Belanja Barang Opeasional Lainnya | Q44: =Q45+Q48 -> 6118000 | R44: RM
B45: > | C45: Giat Intelijen | Q45: =Q46 -> 1890000
C46: >> Pulbaket Polsek | Q46: =SUM(Q47:Q47) -> 1890000
C47: - POLSEK TUTAR | N47: 14 | O47: Lap | P47: 135000 | Q47: =N47*P47 -> 1890000
B48: > | C48: Giat Taktis Intelijen | Q48: =Q49 -> 4228000
C49: >> Deteksi/ Lidik | Q49: =SUM(Q50:Q50) -> 4228000
C50: - POLSEK TUTAR | D50: ( | E50: 2 | F50: org | G50: x | H50: 2 | I50: hr | J50: ) | N50: =E50*H50 -> 4 | O50: OH | P50: 1057000 | Q50: =N50*P50 -> 4228000
A52: 3115 | B52: Penyelenggaraan Strategi Keamanan dan Ketertiban Bidang Ekonomi | Q52: =Q53 -> 6118000
A53: 3115.001 | B53: Informasi Deteksi Aksi Strategi Keamanan dan Ketertiban Bidang Ekonomi | N53: 12 | O53: BLN | Q53: =Q54 -> 6118000
A54: 003 | B54: Dukungan Operasional Pertahanan dan Keamanan | Q54: =Q55 -> 6118000
A55: EA | B55: STRATEGI KEAMANAN DAN KETERTIBAN BIDANG EKONOMI | Q55: =Q56 -> 6118000
A56: 521119 | B56: Belanja Barang Opeasional Lainnya | Q56: =Q57+Q60 -> 6118000 | R56: RM
B57: > | C57: Giat Intelijen | Q57: =Q58 -> 1890000
C58: >> Pulbaket Polsek | Q58: =SUM(Q59:Q59) -> 1890000
C59: - POLSEK TUTAR | N59: 14 | O59: Lap | P59: 135000 | Q59: =N59*P59 -> 1890000
B60: > | C60: Giat Taktis Intelijen | Q60: =Q61 -> 4228000
C61: >> Deteksi/ Lidik | Q61: =SUM(Q62:Q62) -> 4228000
C62: - POLSEK TUTAR | D62: ( | E62: 2 | F62: org | G62: x | H62: 2 | I62: hr | J62: ) | N62: =E62*H62 -> 4 | O62: OH | P62: 1057000 | Q62: =N62*P62 -> 4228000
A64: 3116 | B64: Penyelenggaraan Strategi Keamanan dan Ketertiban Bidang Sosial | Q64: =Q65 -> 6118000
A65: 3116.001 | B65: Informasi Deteksi Aksi Strategi Keamanan dan Ketertiban Bidang Sosial | N65: 12 | O65: BLN | Q65: =Q66 -> 6118000
A66: 003 | B66: Dukungan Operasional Pertahanan dan Keamanan | Q66: =Q67 -> 6118000
A67: EB | B67: STRATEGI KEAMANAN DAN KETERTIBAN SOSIAL BUDAYA | Q67: =Q68 -> 6118000
A68: 521119 | B68: Belanja Barang Opeasional Lainnya | Q68: =Q69+Q72 -> 6118000 | R68: RM
B69: > | C69: Giat Intelijen | Q69: =Q70 -> 1890000
C70: >> Pulbaket Polsek | Q70: =SUM(Q71:Q71) -> 1890000
C71: - POLSEK TUTAR | N71: 14 | O71: Lap | P71: 135000 | Q71: =N71*P71 -> 1890000
B72: > | C72: Giat Taktis Intelijen | Q72: =Q73 -> 4228000
C73: >> Deteksi/ Lidik | Q73: =SUM(Q74:Q74) -> 4228000
C74: - POLSEK TUTAR | D74: ( | E74: 2 | F74: org | G74: x | H74: 2 | I74: hr | J74: ) | N74: =E74*H74 -> 4 | O74: OH | P74: 1057000 | Q74: =N74*P74 -> 4228000
A76: 3117 | B76: Penyelenggaraan Strategi Keamanan dan Ketertiban Bidang Keamanan Negara | Q76: =Q77 -> 6118000
A77: 3117.001 | B77: Informasi Deteksi Aksi Strategi Keamanan dan Ketertiban Bidang Keamanan Negara | N77: 12 | O77: BLN | Q77: =Q78 -> 6118000
A78: 003 | B78: Dukungan Operasional Pertahanan dan Keamanan | Q78: =Q79 -> 6118000
A79: EC | B79: STRATEGI KEAMANAN DAN KETERTIBAN KEAMANAN NEGARA | Q79: =Q80 -> 6118000
A80: 521119 | B80: Belanja Barang Opeasional Lainnya | Q80: =Q81+Q84 -> 6118000 | R80: RM
B81: > | C81: Giat Intelijen | Q81: =Q82 -> 1890000
C82: >> Pulbaket Polsek | Q82: =SUM(Q83:Q83) -> 1890000
C83: - POLSEK TUTAR | N83: 14 | O83: Lap | P83: 135000 | Q83: =N83*P83 -> 1890000
B84: > | C84: Giat Taktis Intelijen | Q84: =Q85 -> 4228000
C85: >> Deteksi/ Lidik | Q85: =SUM(Q86:Q86) -> 4228000
C86: - POLSEK TUTAR | D86: ( | E86: 2 | F86: org | G86: x | H86: 2 | I86: hr | J86: ) | N86: =E86*H86 -> 4 | O86: OH | P86: 1057000 | Q86: =N86*P86 -> 4228000
A88: 060.01.09 | B88: PROGRAM PEMBERDAYAAN POTENSI KEAMANAN | Q88: =Q89 -> 15428000
A89: 5076 | B89: Pembinaan Potensi Keamanan | Q89: =Q90 -> 15428000
A90: 5076.002 | B90: Pemberdayaan Potensi Keamanan | N90: 12 | O90: BLN | Q90: =Q91 -> 15428000
A91: 003 | B91: Dukungan Operasional Pertahanan dan Keamanan | Q91: =Q92+Q107 -> 15428000
A92: FN | B92: PERTEMUAN KEMITRAAN POLISI DAN MASYARAKAT POLSEK | Q92: =Q93 -> 7364000
A93: 521119 | B93: Belanja Barang Operasional Lainnya | Q93: =Q94+Q100 -> 7364000 | R93: RM
B94: > | C94: BIMBINGAN DAN PENYULUHAN MASYARAKAT | Q94: =Q95 -> 4204000
B95: >> | C95: POLSEK TUTAR | Q95: =SUM(Q96:Q99) -> 4204000
C96: - Uang Saku | D96: ( | E96: 2 | F96: Org | G96: x | H96: 19 | I96: giat | J96: ) | N96: =E96*H96 -> 38 | O96: OG | P96: 22000 | Q96: =N96*P96 -> 836000
C97: - Uang Makan | D97: ( | E97: 2 | F97: Org | G97: x | H97: 19 | I97: giat | J97: ) | N97: =E97*H97 -> 38 | O97: OG | P97: 31000 | Q97: =N97*P97 -> 1178000
C98: - Dana Satuan | D98: ( | E98: 2 | F98: Org | G98: x | H98: 19 | I98: giat | J98: ) | N98: =E98*H98 -> 38 | O98: OG | P98: 5000 | Q98: =N98*P98 -> 190000
C99: - Sarana Kontak | N99: 1 | O99: THN | P99: 2000000 | Q99: =N99*P99 -> 2000000
B100: > | C100: BIMBINGAN DAN PENYULUHAN NARKOBA | Q100: =Q101 -> 3160000
B101: >> | C101: POLSEK TUTAR | Q101: =SUM(Q102:Q105) -> 3160000
C102: - Uang Saku | D102: ( | E102: 2 | F102: Org | G102: x | H102: 10 | I102: giat | J102: ) | N102: =E102*H102 -> 20 | O102: OG | P102: 22000 | Q102: =N102*P102 -> 440000
C103: - Uang Makan | D103: ( | E103: 2 | F103: Org | G103: x | H103: 10 | I103: giat | J103: ) | N103: =E103*H103 -> 20 | O103: OG | P103: 31000 | Q103: =N103*P103 -> 620000
C104: - Dana Satuan | D104: ( | E104: 2 | F104: Org | G104: x | H104: 10 | I104: giat | J104: ) | N104: =E104*H104 -> 20 | O104: OG | P104: 5000 | Q104: =N104*P104 -> 100000
C105: - Sarana Kontak | N105: 1 | O105: THN | P105: 2000000 | Q105: =N105*P105 -> 2000000
A107: UK | B107: KEGIATAN I PROGRAM QUICK WINS | Q107: =Q108 -> 8064000
A108: 521119 | B108: Belanja Barang Operasional Lainnya | Q108: =Q109+Q164+Q169 -> 8064000 | R108: RM
B109: > | C109: Penertiban dan Penegakan Hukum Bagi Organisasi Radikal dan Anti Pancasila | Q109: =Q110 -> 8064000
C110: >>Silaturahmi ke Tokoh-Tokoh Masyarakat (TOGA, TODA, TOMAS) | Q110: =SUM(Q111:Q111) -> 8064000
C111: - POLSEK TUTAR | D111: ( | E111: 2 | F111: org | G111: x | H111: 96 | I111: Giat | J111: ) | N111: =E111*H111 -> 192 | O111: OK | P111: 42000 | Q111: =N111*P111 -> 8064000
...

Sheet TAPANGO
A1: KEPOLISIAN NEGARA REPUBLIK INDONESIA
A2: DAERAH SULAWESI BARAT
A3: RESORT POLEWALI MANDAR
A4: JL. Dr. Ratulangi No. 17 Polewali 91314
A6: RENCANA PENDISTRIBUSIAN ANGGARAN (RENDISGAR) TAHUN 2020
A7: POLSEK TAPANGO
A9: No | B9: Tahapan Pelaksanaan dan Rincian Komponen Biaya | N9: Volume | O9: Satuan | P9: Biaya | Q9: Jumlah | R9: SD/CP
O10: Ukur | P10: Satuan Ukur
A11: 1 | B11: 2 | N11: 3 | O11: 5 | P11: 6 | Q11: 7
A12: 060.01.01 | B12: Program Dukungan Manajemen dan Pelaksanaan Tugas Teknis Lainnya Polri | Q12: =Q13 -> 13770000
A13: 3073 | B13: Dukungan Pelayanan Internal perkantoran Polri | Q13: =Q14 -> 13770000
A14: 3073.994 | B14: Layanan Perkantoran | N14: 1 | O14: Layanan | Q14: =Q15 -> 13770000
A15: 002 | B15: Operasional Pemeliharaan Kantor | Q15: =Q16 -> 13770000
A16: BY | B16: PENGADAAN PERALATAN / PERLENGKAPAN KANTOR POLSEK | Q16: =Q17 -> 13770000
A17: 521811 | B17: Belanja Keperluan Perkantoran | Q17: =SUM(Q19:Q19) -> 13770000 | R17: RM
B18: > | C18: Bekal Kantor Polsek | T18: =#REF!-Q17 -> #REF!
C19: - Polsek Tapango | N19: 9 | O19: OT | P19: 1530000 | Q19: =N19*P19 -> 13770000 | V19: 3
A21: 060.01.07 | B21: PROGRAM PENGEMBANGAN STRATEGI KEAMANAN DAN KETERTIBAN | Q21: =Q22+Q40+Q52+Q64+Q76 -> 33492000
A22: 3111 | B22: Dukungan Manajemen dan Teknis Strategi Keamanan dan Ketertiban | Q22: =Q23 -> 9020000
A23: 3111.994 | B23: Layanan Perkantoran | N23: 12 | O23: BLN | Q23: =Q24 -> 9020000
A24: 003 | B24: Dukungan Operasional Pertahanan dan Keamanan | Q24: =Q25+Q30+Q35 -> 9020000
A25: B | B25: HONOR PNBP | Q25: =Q26 -> 2400000
A26: 521115 | B26: Honor Operasional satuan kerja | Q26: =Q27 -> 2400000 | R26: PNBP
B27: > | C27: Honor Pelaksana SKCK | Q27: =SUM(Q28:Q28) -> 2400000
C28: - POLSEK TAPANGO | G28: [ | H28: 1 | I28: Org | J28: x | K28: 12 | L28: Bln | M28: ] | N28: =H28*K28 -> 12 | O28: OB | P28: 200000 | Q28: =N28*P28 -> 2400000
A30: BY | B30: PENGADAAN PERALATAN / PERLENGKAPAN KANTOR (POLSEK) | Q30: =Q31 -> 5000000
A31: 521811 | B31: Belanja Keperluan Perkantoran | Q31: =SUM(Q33:Q33) -> 5000000 | R31: PNBP
B32: > | C32: ATK SKCK Polsek
C33: - POLSEK TAPANGO | N33: 1 | O33: THN | P33: 5000000 | Q33: =N33*P33 -> 5000000
A35: KR | B35: DETEKSI / DETEKSI AKSI ( POLSEK ) | Q35: =Q36 -> 1620000
A36: 521119 | B36: Belanja Barang Opeasional Lainnya | Q36: =Q37 -> 1620000 | R36: PNBP
B37: > | C37: Produk Intelijen berupa Laporan informasi | Q37: =SUM(Q38:Q38) -> 1620000
C38: - POLSEK TAPANGO | N38: 12 | O38: LAP | P38: 135000 | Q38: =N38*P38 -> 1620000
A40: 3114 | B40: Penyelenggaraan Strategi Keamanan dan Ketertiban Bidang Politik | Q40: =Q41 -> 6118000
A41: 3114.001 | B41: Informasi Deteksi Aksi Strategi Keamanan dan Ketertiban Bidang Politik | N41: 12 | O41: BLN | Q41: =Q42 -> 6118000
A42: 003 | B42: Dukungan Operasional Pertahanan dan Keamanan | Q42: =Q43 -> 6118000
A43: DZ | B43: STRATEGI KEAMANAN DAN KETERTIBAN BIDANG POLITIK | Q43: =Q44 -> 6118000
A44: 521119 | B44: Belanja Barang Opeasional Lainnya | Q44: =Q45+Q48 -> 6118000 | R44: RM
B45: > | C45: Giat Intelijen | Q45: =Q46 -> 1890000
C46: >> Pulbaket Polsek | Q46: =SUM(Q47:Q47) -> 1890000
C47: - POLSEK TAPANGO | N47: 14 | O47: Lap | P47: 135000 | Q47: =N47*P47 -> 1890000
B48: > | C48: Giat Taktis Intelijen | Q48: =Q49 -> 4228000
C49: >> Deteksi/ Lidik | Q49: =SUM(Q50:Q50) -> 4228000
C50: - POLSEK TAPANGO | D50: ( | E50: 2 | F50: org | G50: x | H50: 2 | I50: hr | J50: ) | N50: =E50*H50 -> 4 | O50: OH | P50: 1057000 | Q50: =N50*P50 -> 4228000
A52: 3115 | B52: Penyelenggaraan Strategi Keamanan dan Ketertiban Bidang Ekonomi | Q52: =Q53 -> 6118000
A53: 3115.001 | B53: Informasi Deteksi Aksi Strategi Keamanan dan Ketertiban Bidang Ekonomi | N53: 12 | O53: BLN | Q53: =Q54 -> 6118000
A54: 003 | B54: Dukungan Operasional Pertahanan dan Keamanan | Q54: =Q55 -> 6118000
A55: EA | B55: STRATEGI KEAMANAN DAN KETERTIBAN BIDANG EKONOMI | Q55: =Q56 -> 6118000
A56: 521119 | B56: Belanja Barang Opeasional Lainnya | Q56: =Q57+Q60 -> 6118000 | R56: RM
B57: > | C57: Giat Intelijen | Q57: =Q58 -> 1890000
C58: >> Pulbaket Polsek | Q58: =SUM(Q59:Q59) -> 1890000
C59: - POLSEK TAPANGO | N59: 14 | O59: Lap | P59: 135000 | Q59: =N59*P59 -> 1890000
B60: > | C60: Giat Taktis Intelijen | Q60: =Q61 -> 4228000
C61: >> Deteksi/ Lidik | Q61: =SUM(Q62:Q62) -> 4228000
C62: - POLSEK TAPANGO | D62: ( | E62: 2 | F62: org | G62: x | H62: 2 | I62: hr | J62: ) | N62: =E62*H62 -> 4 | O62: OH | P62: 1057000 | Q62: =N62*P62 -> 4228000
A64: 3116 | B64: Penyelenggaraan Strategi Keamanan dan Ketertiban Bidang Sosial | Q64: =Q65 -> 6118000
A65: 3116.001 | B65: Informasi Deteksi Aksi Strategi Keamanan dan Ketertiban Bidang Sosial | N65: 12 | O65: BLN | Q65: =Q66 -> 6118000
A66: 003 | B66: Dukungan Operasional Pertahanan dan Keamanan | Q66: =Q67 -> 6118000
A67: EB | B67: STRATEGI KEAMANAN DAN KETERTIBAN SOSIAL BUDAYA | Q67: =Q68 -> 6118000
A68: 521119 | B68: Belanja Barang Opeasional Lainnya | Q68: =Q69+Q72 -> 6118000 | R68: RM
B69: > | C69: Giat Intelijen | Q69: =Q70 -> 1890000
C70: >> Pulbaket Polsek | Q70: =SUM(Q71:Q71) -> 1890000
C71: - POLSEK TAPANGO | N71: 14 | O71: Lap | P71: 135000 | Q71: =N71*P71 -> 1890000
B72: > | C72: Giat Taktis Intelijen | Q72: =Q73 -> 4228000
C73: >> Deteksi/ Lidik | Q73: =SUM(Q74:Q74) -> 4228000
C74: - POLSEK TAPANGO | D74: ( | E74: 2 | F74: org | G74: x | H74: 2 | I74: hr | J74: ) | N74: =E74*H74 -> 4 | O74: OH | P74: 1057000 | Q74: =N74*P74 -> 4228000
A76: 3117 | B76: Penyelenggaraan Strategi Keamanan dan Ketertiban Bidang Keamanan Negara | Q76: =Q77 -> 6118000
A77: 3117.001 | B77: Informasi Deteksi Aksi Strategi Keamanan dan Ketertiban Bidang Keamanan Negara | N77: 12 | O77: BLN | Q77: =Q78 -> 6118000
A78: 003 | B78: Dukungan Operasional Pertahanan dan Keamanan | Q78: =Q79 -> 6118000
A79: EC | B79: STRATEGI KEAMANAN DAN KETERTIBAN KEAMANAN NEGARA | Q79: =Q80 -> 6118000
A80: 521119 | B80: Belanja Barang Opeasional Lainnya | Q80: =Q81+Q84 -> 6118000 | R80: RM
B81: > | C81: Giat Intelijen | Q81: =Q82 -> 1890000
C82: >> Pulbaket Polsek | Q82: =SUM(Q83:Q83) -> 1890000
C83: - POLSEK TAPANGO | N83: 14 | O83: Lap | P83: 135000 | Q83: =N83*P83 -> 1890000
B84: > | C84: Giat Taktis Intelijen | Q84: =Q85 -> 4228000
C85: >> Deteksi/ Lidik | Q85: =SUM(Q86:Q86) -> 4228000
C86: - POLSEK TAPANGO | D86: ( | E86: 2 | F86: org | G86: x | H86: 2 | I86: hr | J86: ) | N86: =E86*H86 -> 4 | O86: OH | P86: 1057000 | Q86: =N86*P86 -> 4228000
A88: 060.01.09 | B88: PROGRAM PEMBERDAYAAN POTENSI KEAMANAN | Q88: =Q89 -> 15428000
A89: 5076 | B89: Pembinaan Potensi Keamanan | Q89: =Q90 -> 15428000
A90: 5076.002 | B90: Pemberdayaan Potensi Keamanan | N90: 12 | O90: BLN | Q90: =Q91 -> 15428000
A91: 003 | B91: Dukungan Operasional Pertahanan dan Keamanan | Q91: =Q92+Q107 -> 15428000
A92: FN | B92: PERTEMUAN KEMITRAAN POLISI DAN MASYARAKAT POLSEK | Q92: =Q93 -> 7364000
A93: 521119 | B93: Belanja Barang Operasional Lainnya | Q93: =Q94+Q100 -> 7364000 | R93: RM
B94: > | C94: BIMBINGAN DAN PENYULUHAN MASYARAKAT | Q94: =Q95 -> 4204000
B95: >> | C95: POLSEK TAPANGO | Q95: =SUM(Q96:Q99) -> 4204000
C96: - Uang Saku | D96: ( | E96: 2 | F96: Org | G96: x | H96: 19 | I96: giat | J96: ) | N96: =E96*H96 -> 38 | O96: OG | P96: 22000 | Q96: =N96*P96 -> 836000
C97: - Uang Makan | D97: ( | E97: 2 | F97: Org | G97: x | H97: 19 | I97: giat | J97: ) | N97: =E97*H97 -> 38 | O97: OG | P97: 31000 | Q97: =N97*P97 -> 1178000
C98: - Dana Satuan | D98: ( | E98: 2 | F98: Org | G98: x | H98: 19 | I98: giat | J98: ) | N98: =E98*H98 -> 38 | O98: OG | P98: 5000 | Q98: =N98*P98 -> 190000
C99: - Sarana Kontak | N99: 1 | O99: THN | P99: 2000000 | Q99: =N99*P99 -> 2000000
B100: > | C100: BIMBINGAN DAN PENYULUHAN NARKOBA | Q100: =Q101 -> 3160000
B101: >> | C101: POLSEK TAPANGO | Q101: =SUM(Q102:Q105) -> 3160000
C102: - Uang Saku | D102: ( | E102: 2 | F102: Org | G102: x | H102: 10 | I102: giat | J102: ) | N102: =E102*H102 -> 20 | O102: OG | P102: 22000 | Q102: =N102*P102 -> 440000
C103: - Uang Makan | D103: ( | E103: 2 | F103: Org | G103: x | H103: 10 | I103: giat | J103: ) | N103: =E103*H103 -> 20 | O103: OG | P103: 31000 | Q103: =N103*P103 -> 620000
C104: - Dana Satuan | D104: ( | E104: 2 | F104: Org | G104: x | H104: 10 | I104: giat | J104: ) | N104: =E104*H104 -> 20 | O104: OG | P104: 5000 | Q104: =N104*P104 -> 100000
C105: - Sarana Kontak | N105: 1 | O105: THN | P105: 2000000 | Q105: =N105*P105 -> 2000000
A107: UK | B107: KEGIATAN I PROGRAM QUICK WINS | Q107: =Q108 -> 8064000
A108: 521119 | B108: Belanja Barang Operasional Lainnya | Q108: =Q109+Q164+Q169 -> 8064000 | R108: RM
B109: > | C109: Penertiban dan Penegakan Hukum Bagi Organisasi Radikal dan Anti Pancasila | Q109: =Q110 -> 8064000
C110: >>Silaturahmi ke Tokoh-Tokoh Masyarakat (TOGA, TODA, TOMAS) | Q110: =SUM(Q111:Q111) -> 8064000
C111: - POLSEK TAPANGO | D111: ( | E111: 2 | F111: org | G111: x | H111: 96 | I111: Giat | J111: ) | N111: =E111*H111 -> 192 | O111: OK | P111: 42000 | Q111: =N111*P111 -> 8064000
...

Sheet MTNGA
A1: KEPOLISIAN NEGARA REPUBLIK INDONESIA
A2: DAERAH SULAWESI BARAT
A3: RESORT POLEWALI MANDAR
A4: JL. Dr. Ratulangi No. 17 Polewali 91314
A6: RENCANA PENDISTRIBUSIAN ANGGARAN (RENDISGAR) TAHUN 2020
A7: POLSEK MATANGA
A9: No | B9: Tahapan Pelaksanaan dan Rincian Komponen Biaya | N9: Volume | O9: Satuan | P9: Biaya | Q9: Jumlah | R9: SD/CP
O10: Ukur | P10: Satuan Ukur
A11: 1 | B11: 2 | N11: 3 | O11: 5 | P11: 6 | Q11: 7
A12: 060.01.01 | B12: Program Dukungan Manajemen dan Pelaksanaan Tugas Teknis Lainnya Polri | Q12: =Q13 -> 13770000
A13: 3073 | B13: Dukungan Pelayanan Internal perkantoran Polri | Q13: =Q14 -> 13770000
A14: 3073.994 | B14: Layanan Perkantoran | N14: 1 | O14: Layanan | Q14: =Q15 -> 13770000
A15: 002 | B15: Operasional Pemeliharaan Kantor | Q15: =Q16 -> 13770000
A16: BY | B16: PENGADAAN PERALATAN / PERLENGKAPAN KANTOR POLSEK | Q16: =Q17 -> 13770000
A17: 521811 | B17: Belanja Keperluan Perkantoran | Q17: =SUM(Q19:Q19) -> 13770000 | R17: RM
B18: > | C18: Bekal Kantor Polsek | T18: =#REF!-Q17 -> #REF!
C19: - Polsek Matangnga | N19: 9 | O19: OT | P19: 1530000 | Q19: =N19*P19 -> 13770000 | V19: 3
A21: 060.01.07 | B21: PROGRAM PENGEMBANGAN STRATEGI KEAMANAN DAN KETERTIBAN | Q21: =Q22+Q40+Q52+Q64+Q76 -> 33492000
A22: 3111 | B22: Dukungan Manajemen dan Teknis Strategi Keamanan dan Ketertiban | Q22: =Q23 -> 9020000
A23: 3111.994 | B23: Layanan Perkantoran | N23: 12 | O23: BLN | Q23: =Q24 -> 9020000
A24: 003 | B24: Dukungan Operasional Pertahanan dan Keamanan | Q24: =Q25+Q30+Q35 -> 9020000
A25: B | B25: HONOR PNBP | Q25: =Q26 -> 2400000
A26: 521115 | B26: Honor Operasional satuan kerja | Q26: =Q27 -> 2400000 | R26: PNBP
B27: > | C27: Honor Pelaksana SKCK | Q27: =SUM(Q28:Q28) -> 2400000
C28: - POLSEK MATANGNGA | G28: [ | H28: 1 | I28: Org | J28: x | K28: 12 | L28: Bln | M28: ] | N28: =H28*K28 -> 12 | O28: OB | P28: 200000 | Q28: =N28*P28 -> 2400000
A30: BY | B30: PENGADAAN PERALATAN / PERLENGKAPAN KANTOR (POLSEK) | Q30: =Q31 -> 5000000
A31: 521811 | B31: Belanja Keperluan Perkantoran | Q31: =SUM(Q33:Q33) -> 5000000 | R31: PNBP
B32: > | C32: ATK SKCK Polsek
C33: - POLSEK MATANGNGA | N33: 1 | O33: THN | P33: 5000000 | Q33: =N33*P33 -> 5000000
A35: KR | B35: DETEKSI / DETEKSI AKSI ( POLSEK ) | Q35: =Q36 -> 1620000
A36: 521119 | B36: Belanja Barang Opeasional Lainnya | Q36: =Q37 -> 1620000 | R36: PNBP
B37: > | C37: Produk Intelijen berupa Laporan informasi | Q37: =SUM(Q38:Q38) -> 1620000
C38: - POLSEK MATANGNGA | N38: 12 | O38: LAP | P38: 135000 | Q38: =N38*P38 -> 1620000
A40: 3114 | B40: Penyelenggaraan Strategi Keamanan dan Ketertiban Bidang Politik | Q40: =Q41 -> 6118000
A41: 3114.001 | B41: Informasi Deteksi Aksi Strategi Keamanan dan Ketertiban Bidang Politik | N41: 12 | O41: BLN | Q41: =Q42 -> 6118000
A42: 003 | B42: Dukungan Operasional Pertahanan dan Keamanan | Q42: =Q43 -> 6118000
A43: DZ | B43: STRATEGI KEAMANAN DAN KETERTIBAN BIDANG POLITIK | Q43: =Q44 -> 6118000
A44: 521119 | B44: Belanja Barang Opeasional Lainnya | Q44: =Q45+Q48 -> 6118000 | R44: RM
B45: > | C45: Giat Intelijen | Q45: =Q46 -> 1890000
C46: >> Pulbaket Polsek | Q46: =SUM(Q47:Q47) -> 1890000
C47: - POLSEK MATANGNGA | N47: 14 | O47: Lap | P47: 135000 | Q47: =N47*P47 -> 1890000
B48: > | C48: Giat Taktis Intelijen | Q48: =Q49 -> 4228000
C49: >> Deteksi/ Lidik | Q49: =SUM(Q50:Q50) -> 4228000
C50: - POLSEK MATANGNGA | D50: ( | E50: 2 | F50: org | G50: x | H50: 2 | I50: hr | J50: ) | N50: =E50*H50 -> 4 | O50: OH | P50: 1057000 | Q50: =N50*P50 -> 4228000
A52: 3115 | B52: Penyelenggaraan Strategi Keamanan dan Ketertiban Bidang Ekonomi | Q52: =Q53 -> 6118000
A53: 3115.001 | B53: Informasi Deteksi Aksi Strategi Keamanan dan Ketertiban Bidang Ekonomi | N53: 12 | O53: BLN | Q53: =Q54 -> 6118000
A54: 003 | B54: Dukungan Operasional Pertahanan dan Keamanan | Q54: =Q55 -> 6118000
A55: EA | B55: STRATEGI KEAMANAN DAN KETERTIBAN BIDANG EKONOMI | Q55: =Q56 -> 6118000
A56: 521119 | B56: Belanja Barang Opeasional Lainnya | Q56: =Q57+Q60 -> 6118000 | R56: RM
B57: > | C57: Giat Intelijen | Q57: =Q58 -> 1890000
C58: >> Pulbaket Polsek | Q58: =SUM(Q59:Q59) -> 1890000
C59: - POLSEK MATANGNGA | N59: 14 | O59: Lap | P59: 135000 | Q59: =N59*P59 -> 1890000
B60: > | C60: Giat Taktis Intelijen | Q60: =Q61 -> 4228000
C61: >> Deteksi/ Lidik | Q61: =SUM(Q62:Q62) -> 4228000
C62: - POLSEK MATANGNGA | D62: ( | E62: 2 | F62: org | G62: x | H62: 2 | I62: hr | J62: ) | N62: =E62*H62 -> 4 | O62: OH | P62: 1057000 | Q62: =N62*P62 -> 4228000
A64: 3116 | B64: Penyelenggaraan Strategi Keamanan dan Ketertiban Bidang Sosial | Q64: =Q65 -> 6118000
A65: 3116.001 | B65: Informasi Deteksi Aksi Strategi Keamanan dan Ketertiban Bidang Sosial | N65: 12 | O65: BLN | Q65: =Q66 -> 6118000
A66: 003 | B66: Dukungan Operasional Pertahanan dan Keamanan | Q66: =Q67 -> 6118000
A67: EB | B67: STRATEGI KEAMANAN DAN KETERTIBAN SOSIAL BUDAYA | Q67: =Q68 -> 6118000
A68: 521119 | B68: Belanja Barang Opeasional Lainnya | Q68: =Q69+Q72 -> 6118000 | R68: RM
B69: > | C69: Giat Intelijen | Q69: =Q70 -> 1890000
C70: >> Pulbaket Polsek | Q70: =SUM(Q71:Q71) -> 1890000
C71: - POLSEK MATANGNGA | N71: 14 | O71: Lap | P71: 135000 | Q71: =N71*P71 -> 1890000
B72: > | C72: Giat Taktis Intelijen | Q72: =Q73 -> 4228000
C73: >> Deteksi/ Lidik | Q73: =SUM(Q74:Q74) -> 4228000
C74: - POLSEK MATANGNGA | D74: ( | E74: 2 | F74: org | G74: x | H74: 2 | I74: hr | J74: ) | N74: =E74*H74 -> 4 | O74: OH | P74: 1057000 | Q74: =N74*P74 -> 4228000
A76: 3117 | B76: Penyelenggaraan Strategi Keamanan dan Ketertiban Bidang Keamanan Negara | Q76: =Q77 -> 6118000
A77: 3117.001 | B77: Informasi Deteksi Aksi Strategi Keamanan dan Ketertiban Bidang Keamanan Negara | N77: 12 | O77: BLN | Q77: =Q78 -> 6118000
A78: 003 | B78: Dukungan Operasional Pertahanan dan Keamanan | Q78: =Q79 -> 6118000
A79: EC | B79: STRATEGI KEAMANAN DAN KETERTIBAN KEAMANAN NEGARA | Q79: =Q80 -> 6118000
A80: 521119 | B80: Belanja Barang Opeasional Lainnya | Q80: =Q81+Q84 -> 6118000 | R80: RM
B81: > | C81: Giat Intelijen | Q81: =Q82 -> 1890000
C82: >> Pulbaket Polsek | Q82: =SUM(Q83:Q83) -> 1890000
C83: - POLSEK MATANGNGA | N83: 14 | O83: Lap | P83: 135000 | Q83: =N83*P83 -> 1890000
B84: > | C84: Giat Taktis Intelijen | Q84: =Q85 -> 4228000
C85: >> Deteksi/ Lidik | Q85: =SUM(Q86:Q86) -> 4228000
C86: - POLSEK MATANGNGA | D86: ( | E86: 2 | F86: org | G86: x | H86: 2 | I86: hr | J86: ) | N86: =E86*H86 -> 4 | O86: OH | P86: 1057000 | Q86: =N86*P86 -> 4228000
A88: 060.01.09 | B88: PROGRAM PEMBERDAYAAN POTENSI KEAMANAN | Q88: =Q89 -> 15428000
A89: 5076 | B89: Pembinaan Potensi Keamanan | Q89: =Q90 -> 15428000
A90: 5076.002 | B90: Pemberdayaan Potensi Keamanan | N90: 12 | O90: BLN | Q90: =Q91 -> 15428000
A91: 003 | B91: Dukungan Operasional Pertahanan dan Keamanan | Q91: =Q92+Q107 -> 15428000
A92: FN | B92: PERTEMUAN KEMITRAAN POLISI DAN MASYARAKAT POLSEK | Q92: =Q93 -> 7364000
A93: 521119 | B93: Belanja Barang Operasional Lainnya | Q93: =Q94+Q100 -> 7364000 | R93: RM
B94: > | C94: BIMBINGAN DAN PENYULUHAN MASYARAKAT | Q94: =Q95 -> 4204000
B95: >> | C95: POLSEK MATANGNGA | Q95: =SUM(Q96:Q99) -> 4204000
C96: - Uang Saku | D96: ( | E96: 2 | F96: Org | G96: x | H96: 19 | I96: giat | J96: ) | N96: =E96*H96 -> 38 | O96: OG | P96: 22000 | Q96: =N96*P96 -> 836000
C97: - Uang Makan | D97: ( | E97: 2 | F97: Org | G97: x | H97: 19 | I97: giat | J97: ) | N97: =E97*H97 -> 38 | O97: OG | P97: 31000 | Q97: =N97*P97 -> 1178000
C98: - Dana Satuan | D98: ( | E98: 2 | F98: Org | G98: x | H98: 19 | I98: giat | J98: ) | N98: =E98*H98 -> 38 | O98: OG | P98: 5000 | Q98: =N98*P98 -> 190000
C99: - Sarana Kontak | N99: 1 | O99: THN | P99: 2000000 | Q99: =N99*P99 -> 2000000
B100: > | C100: BIMBINGAN DAN PENYULUHAN NARKOBA | Q100: =Q101 -> 3160000
B101: >> | C101: POLSEK MATANGNGA | Q101: =SUM(Q102:Q105) -> 3160000
C102: - Uang Saku | D102: ( | E102: 2 | F102: Org | G102: x | H102: 10 | I102: giat | J102: ) | N102: =E102*H102 -> 20 | O102: OG | P102: 22000 | Q102: =N102*P102 -> 440000
C103: - Uang Makan | D103: ( | E103: 2 | F103: Org | G103: x | H103: 10 | I103: giat | J103: ) | N103: =E103*H103 -> 20 | O103: OG | P103: 31000 | Q103: =N103*P103 -> 620000
C104: - Dana Satuan | D104: ( | E104: 2 | F104: Org | G104: x | H104: 10 | I104: giat | J104: ) | N104: =E104*H104 -> 20 | O104: OG | P104: 5000 | Q104: =N104*P104 -> 100000
C105: - Sarana Kontak | N105: 1 | O105: THN | P105: 2000000 | Q105: =N105*P105 -> 2000000
A107: UK | B107: KEGIATAN I PROGRAM QUICK WINS | Q107: =Q108 -> 8064000
A108: 521119 | B108: Belanja Barang Operasional Lainnya | Q108: =Q109+Q164+Q169 -> 8064000 | R108: RM
B109: > | C109: Penertiban dan Penegakan Hukum Bagi Organisasi Radikal dan Anti Pancasila | Q109: =Q110 -> 8064000
C110: >>Silaturahmi ke Tokoh-Tokoh Masyarakat (TOGA, TODA, TOMAS) | Q110: =SUM(Q111:Q111) -> 8064000
C111: - POLSEK MATANGNGA | D111: ( | E111: 2 | F111: org | G111: x | H111: 96 | I111: Giat | J111: ) | N111: =E111*H111 -> 192 | O111: OK | P111: 42000 | Q111: =N111*P111 -> 8064000
...

Sheet MAPILLI
A1: KEPOLISIAN NEGARA REPUBLIK INDONESIA
A2: DAERAH SULAWESI BARAT
A3: RESORT POLEWALI MANDAR
A4: JL. Dr. Ratulangi No. 17 Polewali 91314
A6: RENCANA PENDISTRIBUSIAN ANGGARAN (RENDISGAR) TAHUN 2020
A7: POLSUBSEKTOR MAPILLI
A9: No | B9: Tahapan Pelaksanaan dan Rincian Komponen Biaya | N9: 1111 | O9: Satuan | P9: Biaya | Q9: Jumlah | R9: SD/CP
O10: Ukur | P10: Satuan Ukur
A11: 1 | B11: 2 | N11: 3 | O11: 5 | P11: 6 | Q11: 7
A12: 060.01.01 | B12: Program Dukungan Manajemen dan Pelaksanaan Tugas Teknis Lainnya Polri | Q12: =Q13 -> 6200000
A13: 3073 | B13: Dukungan Pelayanan Internal perkantoran Polri | Q13: =Q14 -> 6200000
A14: 3073.994 | B14: Layanan Perkantoran | N14: 1 | O14: Layanan | Q14: =Q15 -> 6200000
A15: 002 | B15: Operasional Pemeliharaan Kantor | Q15: =Q16 -> 6200000
A16: BY | B16: PENGADAAN PERALATAN / PERLENGKAPAN KANTOR POLSEK | Q16: =Q17 -> 6200000
A17: 521811 | B17: Belanja Keperluan Perkantoran | Q17: =SUM(Q19:Q19) -> 6200000 | R17: RM
B18: > | C18: Bekal Kantor Polsek
C19: - Polsubsektor Mapilli | N19: 5 | O19: OT | P19: 1240000 | Q19: =N19*P19 -> 6200000
A21: 060.01.09 | B21: PROGRAM PEMBERDAYAAN POTENSI KEAMANAN | Q21: =Q22 -> 4682000
A22: 5076 | B22: Pembinaan Potensi Keamanan | Q22: =Q23+Q259 -> 4682000
A23: 5076.002 | B23: Pemberdayaan Potensi Keamanan | N23: 12 | O23: BLN | Q23: =Q24 -> 4682000
A24: 003 | B24: Dukungan Operasional Pertahanan dan Keamanan | Q24: =Q25 -> 4682000
A25: FN | B25: PERTEMUAN KEMITRAAN POLISI DAN MASYARAKAT | Q25: =Q26 -> 4682000
A26: 521119 | B26: Belanja Barang Operasional Lainnya | Q26: =Q27+Q33 -> 4682000 | R26: RM
B27: > | C27: BIMBINGAN DAN PENYULUHAN MASYARAKAT | Q27: =Q28 -> 2602000
B28: >> | C28: POLSUBSEKTOR MAPILLI | Q28: =SUM(Q29:Q32) -> 2602000
C29: - Uang Saku | D29: ( | E29: 1 | F29: Org | G29: x | H29: 19 | I29: giat | J29: ) | N29: =E29*H29 -> 19 | O29: OG | P29: 22000 | Q29: =N29*P29 -> 418000
C30: - Dana Makan | D30: ( | E30: 1 | F30: Org | G30: x | H30: 19 | I30: giat | J30: ) | N30: =E30*H30 -> 19 | O30: OG | P30: 31000 | Q30: =N30*P30 -> 589000
C31: - Dana Satuan | D31: ( | E31: 1 | F31: Org | G31: x | H31: 19 | I31: giat | J31: ) | N31: =E31*H31 -> 19 | O31: OG | P31: 5000 | Q31: =N31*P31 -> 95000
C32: - Sarana Kontak | N32: 1 | O32: PKT | P32: 1500000 | Q32: =N32*P32 -> 1500000
B33: > | C33: BIMBINGAN DAN PENYULUHAN NARKOBA | Q33: =Q34 -> 2080000
B34: >> | C34: POLSUBSEKTOR MAPILLI | Q34: =SUM(Q35:Q38) -> 2080000
C35: - Uang Saku | D35: ( | E35: 1 | F35: Org | G35: x | H35: 10 | I35: giat | J35: ) | N35: =E35*H35 -> 10 | O35: OG | P35: 22000 | Q35: =N35*P35 -> 220000
C36: - Dana Makan | D36: ( | E36: 1 | F36: Org | G36: x | H36: 10 | I36: giat | J36: ) | N36: =E36*H36 -> 10 | O36: OG | P36: 31000 | Q36: =N36*P36 -> 310000
C37: - Dana Satuan | D37: ( | E37: 1 | F37: Org | G37: x | H37: 10 | I37: giat | J37: ) | N37: =E37*H37 -> 10 | O37: OG | P37: 5000 | Q37: =N37*P37 -> 50000
C38: - Sarana Kontak | N38: 1 | O38: PKT | P38: 1500000 | Q38: =N38*P38 -> 1500000
A40: 060.01.10 | B40: PROGRAM PEMELIHARAAN KEAMANAN DAN KETERTIBAN MASYARAKAT | Q40: =Q41 -> 87240000
A41: 3128 | B41: Dukungan Manajemen dan Teknis Pemeliharaan Keamanan dan Ketertiban Masyarakat | Q41: =Q42+Q55 -> 87240000
A42: 3128.001 | B42: Layanan Dukungan Manajemen dan Tekhnis Harkamtibmas | N42: 12 | O42: LYN | Q42: =Q43 -> 71240000
A43: 003 | B43: Dukungan Operasional Pertahanan dan Keamanan | Q43: =Q44+Q50 -> 71240000
A44: FU | B44: DUKUNGAN OPERASIONAL POLSEK | Q44: =Q45 -> 20000000
A45: 521119 | B45: Belanja Barang Operasional Lainnya | Q45: =SUM(Q47:Q47) -> 20000000 | R45: RM
B46: > | C46: DUKUNGAN OPERASIONAL
C47: - Polsubsektor Mapilli | N47: 1 | O47: THN | P47: 20000000 | Q47: =N47*P47 -> 20000000
A50: GA | B50: ULP NON ORGANIK / JAGA FUNGSI POLSEK | Q50: =Q51 -> 51240000
